BEGIN:VCALENDAR
VERSION:2.0
PRODID:-//AutoCamp - ECPv6.15.0.1//NONSGML v1.0//EN
CALSCALE:GREGORIAN
METHOD:PUBLISH
X-ORIGINAL-URL:https://autocamp.com
X-WR-CALDESC:Events for AutoCamp
REFRESH-INTERVAL;VALUE=DURATION:PT1H
X-Robots-Tag:noindex
X-PUBLISHED-TTL:PT1H
BEGIN:VTIMEZONE
TZID:America/Los_Angeles
BEGIN:DAYLIGHT
TZOFFSETFROM:-0800
TZOFFSETTO:-0700
TZNAME:PDT
DTSTART:20250309T100000
END:DAYLIGHT
BEGIN:STANDARD
TZOFFSETFROM:-0700
TZOFFSETTO:-0800
TZNAME:PST
DTSTART:20251102T090000
END:STANDARD
END:VTIMEZONE
BEGIN:VEVENT
DTSTART;VALUE=DATE:20250604
DTEND;VALUE=DATE:20250605
DTSTAMP:20260420T234229
CREATED:20250224T212507Z
LAST-MODIFIED:20251126T173645Z
UID:10015868-1748995200-1749081599@autocamp.com
SUMMARY:Find the Ram Kid's Game
DESCRIPTION:Can you find the hidden Utah Ram inside the Clubhouse? During their stay\, young explorers can search for the Utah Ram stuffed animal hidden somewhere in the Clubhouse. Be sure to let a team member know when you find it\, and kiddos will receive a small surprise as their reward. And if you’d like to take your own Utah Ram home with you\, we sell these little stuffed friends in our General Store. Good luck searching!
URL:https://autocamp.com/event/find-the-ram-kids-game/2025-06-04/
LOCATION:AutoCamp Zion\, 1322 East State Route #9\, Virgin\, UT\, 84779\, United States
CATEGORIES:AutoCamp Zion
ATTACH;FMTTYPE=image/png:https://autocamp.com/wp-content/uploads/2025/02/Utah-Ram-Website.png
END:VEVENT
BEGIN:VEVENT
DTSTART;TZID=America/Los_Angeles:20250604T180000
DTEND;TZID=America/Los_Angeles:20250604T210000
DTSTAMP:20260420T234229
CREATED:20250521T191542Z
LAST-MODIFIED:20250521T191542Z
UID:10023380-1749060000-1749070800@autocamp.com
SUMMARY:Family Game Night
DESCRIPTION:Join us for a relaxing or competitive family game night in the Clubhouse! We have a variety of options from board games to card games.
URL:https://autocamp.com/event/family-game-night/2025-06-04/
LOCATION:AutoCamp Zion\, 1322 East State Route #9\, Virgin\, UT\, 84779\, United States
CATEGORIES:AutoCamp Zion
ATTACH;FMTTYPE=image/jpeg:https://autocamp.com/wp-content/uploads/2025/01/AC-Catskills-LifestyleFriends-BC-6-1-scaled.jpg
END:VEVENT
BEGIN:VEVENT
DTSTART;VALUE=DATE:20250605
DTEND;VALUE=DATE:20250606
DTSTAMP:20260420T234229
CREATED:20250224T212507Z
LAST-MODIFIED:20251126T173645Z
UID:10015869-1749081600-1749167999@autocamp.com
SUMMARY:Find the Ram Kid's Game
DESCRIPTION:Can you find the hidden Utah Ram inside the Clubhouse? During their stay\, young explorers can search for the Utah Ram stuffed animal hidden somewhere in the Clubhouse. Be sure to let a team member know when you find it\, and kiddos will receive a small surprise as their reward. And if you’d like to take your own Utah Ram home with you\, we sell these little stuffed friends in our General Store. Good luck searching!
URL:https://autocamp.com/event/find-the-ram-kids-game/2025-06-05/
LOCATION:AutoCamp Zion\, 1322 East State Route #9\, Virgin\, UT\, 84779\, United States
CATEGORIES:AutoCamp Zion
ATTACH;FMTTYPE=image/png:https://autocamp.com/wp-content/uploads/2025/02/Utah-Ram-Website.png
END:VEVENT
BEGIN:VEVENT
DTSTART;TZID=America/Los_Angeles:20250605T180000
DTEND;TZID=America/Los_Angeles:20250605T210000
DTSTAMP:20260420T234229
CREATED:20250521T191542Z
LAST-MODIFIED:20250521T191542Z
UID:10023381-1749146400-1749157200@autocamp.com
SUMMARY:Family Game Night
DESCRIPTION:Join us for a relaxing or competitive family game night in the Clubhouse! We have a variety of options from board games to card games.
URL:https://autocamp.com/event/family-game-night/2025-06-05/
LOCATION:AutoCamp Zion\, 1322 East State Route #9\, Virgin\, UT\, 84779\, United States
CATEGORIES:AutoCamp Zion
ATTACH;FMTTYPE=image/jpeg:https://autocamp.com/wp-content/uploads/2025/01/AC-Catskills-LifestyleFriends-BC-6-1-scaled.jpg
END:VEVENT
BEGIN:VEVENT
DTSTART;VALUE=DATE:20250606
DTEND;VALUE=DATE:20250607
DTSTAMP:20260420T234229
CREATED:20250224T212507Z
LAST-MODIFIED:20251126T173645Z
UID:10015870-1749168000-1749254399@autocamp.com
SUMMARY:Find the Ram Kid's Game
DESCRIPTION:Can you find the hidden Utah Ram inside the Clubhouse? During their stay\, young explorers can search for the Utah Ram stuffed animal hidden somewhere in the Clubhouse. Be sure to let a team member know when you find it\, and kiddos will receive a small surprise as their reward. And if you’d like to take your own Utah Ram home with you\, we sell these little stuffed friends in our General Store. Good luck searching!
URL:https://autocamp.com/event/find-the-ram-kids-game/2025-06-06/
LOCATION:AutoCamp Zion\, 1322 East State Route #9\, Virgin\, UT\, 84779\, United States
CATEGORIES:AutoCamp Zion
ATTACH;FMTTYPE=image/png:https://autocamp.com/wp-content/uploads/2025/02/Utah-Ram-Website.png
END:VEVENT
BEGIN:VEVENT
DTSTART;TZID=America/Los_Angeles:20250606T180000
DTEND;TZID=America/Los_Angeles:20250606T210000
DTSTAMP:20260420T234229
CREATED:20250521T191542Z
LAST-MODIFIED:20250521T191542Z
UID:10023382-1749232800-1749243600@autocamp.com
SUMMARY:Family Game Night
DESCRIPTION:Join us for a relaxing or competitive family game night in the Clubhouse! We have a variety of options from board games to card games.
URL:https://autocamp.com/event/family-game-night/2025-06-06/
LOCATION:AutoCamp Zion\, 1322 East State Route #9\, Virgin\, UT\, 84779\, United States
CATEGORIES:AutoCamp Zion
ATTACH;FMTTYPE=image/jpeg:https://autocamp.com/wp-content/uploads/2025/01/AC-Catskills-LifestyleFriends-BC-6-1-scaled.jpg
END:VEVENT
BEGIN:VEVENT
DTSTART;VALUE=DATE:20250607
DTEND;VALUE=DATE:20250608
DTSTAMP:20260420T234229
CREATED:20250224T212507Z
LAST-MODIFIED:20251126T173645Z
UID:10015871-1749254400-1749340799@autocamp.com
SUMMARY:Find the Ram Kid's Game
DESCRIPTION:Can you find the hidden Utah Ram inside the Clubhouse? During their stay\, young explorers can search for the Utah Ram stuffed animal hidden somewhere in the Clubhouse. Be sure to let a team member know when you find it\, and kiddos will receive a small surprise as their reward. And if you’d like to take your own Utah Ram home with you\, we sell these little stuffed friends in our General Store. Good luck searching!
URL:https://autocamp.com/event/find-the-ram-kids-game/2025-06-07/
LOCATION:AutoCamp Zion\, 1322 East State Route #9\, Virgin\, UT\, 84779\, United States
CATEGORIES:AutoCamp Zion
ATTACH;FMTTYPE=image/png:https://autocamp.com/wp-content/uploads/2025/02/Utah-Ram-Website.png
END:VEVENT
BEGIN:VEVENT
DTSTART;TZID=America/Los_Angeles:20250607T180000
DTEND;TZID=America/Los_Angeles:20250607T210000
DTSTAMP:20260420T234229
CREATED:20250521T191542Z
LAST-MODIFIED:20250521T191542Z
UID:10023383-1749319200-1749330000@autocamp.com
SUMMARY:Family Game Night
DESCRIPTION:Join us for a relaxing or competitive family game night in the Clubhouse! We have a variety of options from board games to card games.
URL:https://autocamp.com/event/family-game-night/2025-06-07/
LOCATION:AutoCamp Zion\, 1322 East State Route #9\, Virgin\, UT\, 84779\, United States
CATEGORIES:AutoCamp Zion
ATTACH;FMTTYPE=image/jpeg:https://autocamp.com/wp-content/uploads/2025/01/AC-Catskills-LifestyleFriends-BC-6-1-scaled.jpg
END:VEVENT
BEGIN:VEVENT
DTSTART;VALUE=DATE:20250608
DTEND;VALUE=DATE:20250609
DTSTAMP:20260420T234229
CREATED:20250224T212507Z
LAST-MODIFIED:20251126T173645Z
UID:10015872-1749340800-1749427199@autocamp.com
SUMMARY:Find the Ram Kid's Game
DESCRIPTION:Can you find the hidden Utah Ram inside the Clubhouse? During their stay\, young explorers can search for the Utah Ram stuffed animal hidden somewhere in the Clubhouse. Be sure to let a team member know when you find it\, and kiddos will receive a small surprise as their reward. And if you’d like to take your own Utah Ram home with you\, we sell these little stuffed friends in our General Store. Good luck searching!
URL:https://autocamp.com/event/find-the-ram-kids-game/2025-06-08/
LOCATION:AutoCamp Zion\, 1322 East State Route #9\, Virgin\, UT\, 84779\, United States
CATEGORIES:AutoCamp Zion
ATTACH;FMTTYPE=image/png:https://autocamp.com/wp-content/uploads/2025/02/Utah-Ram-Website.png
END:VEVENT
BEGIN:VEVENT
DTSTART;TZID=America/Los_Angeles:20250608T180000
DTEND;TZID=America/Los_Angeles:20250608T210000
DTSTAMP:20260420T234229
CREATED:20250521T191542Z
LAST-MODIFIED:20250521T191542Z
UID:10023384-1749405600-1749416400@autocamp.com
SUMMARY:Family Game Night
DESCRIPTION:Join us for a relaxing or competitive family game night in the Clubhouse! We have a variety of options from board games to card games.
URL:https://autocamp.com/event/family-game-night/2025-06-08/
LOCATION:AutoCamp Zion\, 1322 East State Route #9\, Virgin\, UT\, 84779\, United States
CATEGORIES:AutoCamp Zion
ATTACH;FMTTYPE=image/jpeg:https://autocamp.com/wp-content/uploads/2025/01/AC-Catskills-LifestyleFriends-BC-6-1-scaled.jpg
END:VEVENT
BEGIN:VEVENT
DTSTART;VALUE=DATE:20250609
DTEND;VALUE=DATE:20250610
DTSTAMP:20260420T234229
CREATED:20250224T212507Z
LAST-MODIFIED:20251126T173645Z
UID:10015873-1749427200-1749513599@autocamp.com
SUMMARY:Find the Ram Kid's Game
DESCRIPTION:Can you find the hidden Utah Ram inside the Clubhouse? During their stay\, young explorers can search for the Utah Ram stuffed animal hidden somewhere in the Clubhouse. Be sure to let a team member know when you find it\, and kiddos will receive a small surprise as their reward. And if you’d like to take your own Utah Ram home with you\, we sell these little stuffed friends in our General Store. Good luck searching!
URL:https://autocamp.com/event/find-the-ram-kids-game/2025-06-09/
LOCATION:AutoCamp Zion\, 1322 East State Route #9\, Virgin\, UT\, 84779\, United States
CATEGORIES:AutoCamp Zion
ATTACH;FMTTYPE=image/png:https://autocamp.com/wp-content/uploads/2025/02/Utah-Ram-Website.png
END:VEVENT
BEGIN:VEVENT
DTSTART;TZID=America/Los_Angeles:20250609T180000
DTEND;TZID=America/Los_Angeles:20250609T210000
DTSTAMP:20260420T234229
CREATED:20250521T191542Z
LAST-MODIFIED:20250521T191542Z
UID:10023385-1749492000-1749502800@autocamp.com
SUMMARY:Family Game Night
DESCRIPTION:Join us for a relaxing or competitive family game night in the Clubhouse! We have a variety of options from board games to card games.
URL:https://autocamp.com/event/family-game-night/2025-06-09/
LOCATION:AutoCamp Zion\, 1322 East State Route #9\, Virgin\, UT\, 84779\, United States
CATEGORIES:AutoCamp Zion
ATTACH;FMTTYPE=image/jpeg:https://autocamp.com/wp-content/uploads/2025/01/AC-Catskills-LifestyleFriends-BC-6-1-scaled.jpg
END:VEVENT
BEGIN:VEVENT
DTSTART;VALUE=DATE:20250610
DTEND;VALUE=DATE:20250611
DTSTAMP:20260420T234229
CREATED:20250224T212507Z
LAST-MODIFIED:20251126T173645Z
UID:10015874-1749513600-1749599999@autocamp.com
SUMMARY:Find the Ram Kid's Game
DESCRIPTION:Can you find the hidden Utah Ram inside the Clubhouse? During their stay\, young explorers can search for the Utah Ram stuffed animal hidden somewhere in the Clubhouse. Be sure to let a team member know when you find it\, and kiddos will receive a small surprise as their reward. And if you’d like to take your own Utah Ram home with you\, we sell these little stuffed friends in our General Store. Good luck searching!
URL:https://autocamp.com/event/find-the-ram-kids-game/2025-06-10/
LOCATION:AutoCamp Zion\, 1322 East State Route #9\, Virgin\, UT\, 84779\, United States
CATEGORIES:AutoCamp Zion
ATTACH;FMTTYPE=image/png:https://autocamp.com/wp-content/uploads/2025/02/Utah-Ram-Website.png
END:VEVENT
BEGIN:VEVENT
DTSTART;TZID=America/Los_Angeles:20250610T180000
DTEND;TZID=America/Los_Angeles:20250610T210000
DTSTAMP:20260420T234229
CREATED:20250521T191542Z
LAST-MODIFIED:20250521T191542Z
UID:10023386-1749578400-1749589200@autocamp.com
SUMMARY:Family Game Night
DESCRIPTION:Join us for a relaxing or competitive family game night in the Clubhouse! We have a variety of options from board games to card games.
URL:https://autocamp.com/event/family-game-night/2025-06-10/
LOCATION:AutoCamp Zion\, 1322 East State Route #9\, Virgin\, UT\, 84779\, United States
CATEGORIES:AutoCamp Zion
ATTACH;FMTTYPE=image/jpeg:https://autocamp.com/wp-content/uploads/2025/01/AC-Catskills-LifestyleFriends-BC-6-1-scaled.jpg
END:VEVENT
BEGIN:VEVENT
DTSTART;VALUE=DATE:20250611
DTEND;VALUE=DATE:20250612
DTSTAMP:20260420T234229
CREATED:20250224T212507Z
LAST-MODIFIED:20251126T173645Z
UID:10015875-1749600000-1749686399@autocamp.com
SUMMARY:Find the Ram Kid's Game
DESCRIPTION:Can you find the hidden Utah Ram inside the Clubhouse? During their stay\, young explorers can search for the Utah Ram stuffed animal hidden somewhere in the Clubhouse. Be sure to let a team member know when you find it\, and kiddos will receive a small surprise as their reward. And if you’d like to take your own Utah Ram home with you\, we sell these little stuffed friends in our General Store. Good luck searching!
URL:https://autocamp.com/event/find-the-ram-kids-game/2025-06-11/
LOCATION:AutoCamp Zion\, 1322 East State Route #9\, Virgin\, UT\, 84779\, United States
CATEGORIES:AutoCamp Zion
ATTACH;FMTTYPE=image/png:https://autocamp.com/wp-content/uploads/2025/02/Utah-Ram-Website.png
END:VEVENT
BEGIN:VEVENT
DTSTART;TZID=America/Los_Angeles:20250611T180000
DTEND;TZID=America/Los_Angeles:20250611T210000
DTSTAMP:20260420T234229
CREATED:20250521T191542Z
LAST-MODIFIED:20250521T191542Z
UID:10023387-1749664800-1749675600@autocamp.com
SUMMARY:Family Game Night
DESCRIPTION:Join us for a relaxing or competitive family game night in the Clubhouse! We have a variety of options from board games to card games.
URL:https://autocamp.com/event/family-game-night/2025-06-11/
LOCATION:AutoCamp Zion\, 1322 East State Route #9\, Virgin\, UT\, 84779\, United States
CATEGORIES:AutoCamp Zion
ATTACH;FMTTYPE=image/jpeg:https://autocamp.com/wp-content/uploads/2025/01/AC-Catskills-LifestyleFriends-BC-6-1-scaled.jpg
END:VEVENT
BEGIN:VEVENT
DTSTART;VALUE=DATE:20250612
DTEND;VALUE=DATE:20250613
DTSTAMP:20260420T234229
CREATED:20250224T212507Z
LAST-MODIFIED:20251126T173645Z
UID:10015876-1749686400-1749772799@autocamp.com
SUMMARY:Find the Ram Kid's Game
DESCRIPTION:Can you find the hidden Utah Ram inside the Clubhouse? During their stay\, young explorers can search for the Utah Ram stuffed animal hidden somewhere in the Clubhouse. Be sure to let a team member know when you find it\, and kiddos will receive a small surprise as their reward. And if you’d like to take your own Utah Ram home with you\, we sell these little stuffed friends in our General Store. Good luck searching!
URL:https://autocamp.com/event/find-the-ram-kids-game/2025-06-12/
LOCATION:AutoCamp Zion\, 1322 East State Route #9\, Virgin\, UT\, 84779\, United States
CATEGORIES:AutoCamp Zion
ATTACH;FMTTYPE=image/png:https://autocamp.com/wp-content/uploads/2025/02/Utah-Ram-Website.png
END:VEVENT
BEGIN:VEVENT
DTSTART;TZID=America/Los_Angeles:20250612T180000
DTEND;TZID=America/Los_Angeles:20250612T210000
DTSTAMP:20260420T234229
CREATED:20250521T191542Z
LAST-MODIFIED:20250521T191542Z
UID:10023388-1749751200-1749762000@autocamp.com
SUMMARY:Family Game Night
DESCRIPTION:Join us for a relaxing or competitive family game night in the Clubhouse! We have a variety of options from board games to card games.
URL:https://autocamp.com/event/family-game-night/2025-06-12/
LOCATION:AutoCamp Zion\, 1322 East State Route #9\, Virgin\, UT\, 84779\, United States
CATEGORIES:AutoCamp Zion
ATTACH;FMTTYPE=image/jpeg:https://autocamp.com/wp-content/uploads/2025/01/AC-Catskills-LifestyleFriends-BC-6-1-scaled.jpg
END:VEVENT
BEGIN:VEVENT
DTSTART;VALUE=DATE:20250613
DTEND;VALUE=DATE:20250614
DTSTAMP:20260420T234229
CREATED:20250224T212507Z
LAST-MODIFIED:20251126T173645Z
UID:10015877-1749772800-1749859199@autocamp.com
SUMMARY:Find the Ram Kid's Game
DESCRIPTION:Can you find the hidden Utah Ram inside the Clubhouse? During their stay\, young explorers can search for the Utah Ram stuffed animal hidden somewhere in the Clubhouse. Be sure to let a team member know when you find it\, and kiddos will receive a small surprise as their reward. And if you’d like to take your own Utah Ram home with you\, we sell these little stuffed friends in our General Store. Good luck searching!
URL:https://autocamp.com/event/find-the-ram-kids-game/2025-06-13/
LOCATION:AutoCamp Zion\, 1322 East State Route #9\, Virgin\, UT\, 84779\, United States
CATEGORIES:AutoCamp Zion
ATTACH;FMTTYPE=image/png:https://autocamp.com/wp-content/uploads/2025/02/Utah-Ram-Website.png
END:VEVENT
BEGIN:VEVENT
DTSTART;TZID=America/Los_Angeles:20250613T180000
DTEND;TZID=America/Los_Angeles:20250613T210000
DTSTAMP:20260420T234229
CREATED:20250521T191542Z
LAST-MODIFIED:20250521T191542Z
UID:10023389-1749837600-1749848400@autocamp.com
SUMMARY:Family Game Night
DESCRIPTION:Join us for a relaxing or competitive family game night in the Clubhouse! We have a variety of options from board games to card games.
URL:https://autocamp.com/event/family-game-night/2025-06-13/
LOCATION:AutoCamp Zion\, 1322 East State Route #9\, Virgin\, UT\, 84779\, United States
CATEGORIES:AutoCamp Zion
ATTACH;FMTTYPE=image/jpeg:https://autocamp.com/wp-content/uploads/2025/01/AC-Catskills-LifestyleFriends-BC-6-1-scaled.jpg
END:VEVENT
BEGIN:VEVENT
DTSTART;VALUE=DATE:20250614
DTEND;VALUE=DATE:20250615
DTSTAMP:20260420T234229
CREATED:20250224T212507Z
LAST-MODIFIED:20251126T173645Z
UID:10015878-1749859200-1749945599@autocamp.com
SUMMARY:Find the Ram Kid's Game
DESCRIPTION:Can you find the hidden Utah Ram inside the Clubhouse? During their stay\, young explorers can search for the Utah Ram stuffed animal hidden somewhere in the Clubhouse. Be sure to let a team member know when you find it\, and kiddos will receive a small surprise as their reward. And if you’d like to take your own Utah Ram home with you\, we sell these little stuffed friends in our General Store. Good luck searching!
URL:https://autocamp.com/event/find-the-ram-kids-game/2025-06-14/
LOCATION:AutoCamp Zion\, 1322 East State Route #9\, Virgin\, UT\, 84779\, United States
CATEGORIES:AutoCamp Zion
ATTACH;FMTTYPE=image/png:https://autocamp.com/wp-content/uploads/2025/02/Utah-Ram-Website.png
END:VEVENT
BEGIN:VEVENT
DTSTART;TZID=America/Los_Angeles:20250614T180000
DTEND;TZID=America/Los_Angeles:20250614T210000
DTSTAMP:20260420T234229
CREATED:20250521T191542Z
LAST-MODIFIED:20250521T191542Z
UID:10023390-1749924000-1749934800@autocamp.com
SUMMARY:Family Game Night
DESCRIPTION:Join us for a relaxing or competitive family game night in the Clubhouse! We have a variety of options from board games to card games.
URL:https://autocamp.com/event/family-game-night/2025-06-14/
LOCATION:AutoCamp Zion\, 1322 East State Route #9\, Virgin\, UT\, 84779\, United States
CATEGORIES:AutoCamp Zion
ATTACH;FMTTYPE=image/jpeg:https://autocamp.com/wp-content/uploads/2025/01/AC-Catskills-LifestyleFriends-BC-6-1-scaled.jpg
END:VEVENT
BEGIN:VEVENT
DTSTART;VALUE=DATE:20250615
DTEND;VALUE=DATE:20250616
DTSTAMP:20260420T234229
CREATED:20250224T212507Z
LAST-MODIFIED:20251126T173645Z
UID:10015879-1749945600-1750031999@autocamp.com
SUMMARY:Find the Ram Kid's Game
DESCRIPTION:Can you find the hidden Utah Ram inside the Clubhouse? During their stay\, young explorers can search for the Utah Ram stuffed animal hidden somewhere in the Clubhouse. Be sure to let a team member know when you find it\, and kiddos will receive a small surprise as their reward. And if you’d like to take your own Utah Ram home with you\, we sell these little stuffed friends in our General Store. Good luck searching!
URL:https://autocamp.com/event/find-the-ram-kids-game/2025-06-15/
LOCATION:AutoCamp Zion\, 1322 East State Route #9\, Virgin\, UT\, 84779\, United States
CATEGORIES:AutoCamp Zion
ATTACH;FMTTYPE=image/png:https://autocamp.com/wp-content/uploads/2025/02/Utah-Ram-Website.png
END:VEVENT
BEGIN:VEVENT
DTSTART;TZID=America/Los_Angeles:20250615T180000
DTEND;TZID=America/Los_Angeles:20250615T210000
DTSTAMP:20260420T234229
CREATED:20250521T191542Z
LAST-MODIFIED:20250521T191542Z
UID:10023391-1750010400-1750021200@autocamp.com
SUMMARY:Family Game Night
DESCRIPTION:Join us for a relaxing or competitive family game night in the Clubhouse! We have a variety of options from board games to card games.
URL:https://autocamp.com/event/family-game-night/2025-06-15/
LOCATION:AutoCamp Zion\, 1322 East State Route #9\, Virgin\, UT\, 84779\, United States
CATEGORIES:AutoCamp Zion
ATTACH;FMTTYPE=image/jpeg:https://autocamp.com/wp-content/uploads/2025/01/AC-Catskills-LifestyleFriends-BC-6-1-scaled.jpg
END:VEVENT
BEGIN:VEVENT
DTSTART;VALUE=DATE:20250616
DTEND;VALUE=DATE:20250617
DTSTAMP:20260420T234229
CREATED:20250224T212507Z
LAST-MODIFIED:20251126T173645Z
UID:10015880-1750032000-1750118399@autocamp.com
SUMMARY:Find the Ram Kid's Game
DESCRIPTION:Can you find the hidden Utah Ram inside the Clubhouse? During their stay\, young explorers can search for the Utah Ram stuffed animal hidden somewhere in the Clubhouse. Be sure to let a team member know when you find it\, and kiddos will receive a small surprise as their reward. And if you’d like to take your own Utah Ram home with you\, we sell these little stuffed friends in our General Store. Good luck searching!
URL:https://autocamp.com/event/find-the-ram-kids-game/2025-06-16/
LOCATION:AutoCamp Zion\, 1322 East State Route #9\, Virgin\, UT\, 84779\, United States
CATEGORIES:AutoCamp Zion
ATTACH;FMTTYPE=image/png:https://autocamp.com/wp-content/uploads/2025/02/Utah-Ram-Website.png
END:VEVENT
BEGIN:VEVENT
DTSTART;TZID=America/Los_Angeles:20250616T180000
DTEND;TZID=America/Los_Angeles:20250616T210000
DTSTAMP:20260420T234229
CREATED:20250521T191542Z
LAST-MODIFIED:20250521T191542Z
UID:10023392-1750096800-1750107600@autocamp.com
SUMMARY:Family Game Night
DESCRIPTION:Join us for a relaxing or competitive family game night in the Clubhouse! We have a variety of options from board games to card games.
URL:https://autocamp.com/event/family-game-night/2025-06-16/
LOCATION:AutoCamp Zion\, 1322 East State Route #9\, Virgin\, UT\, 84779\, United States
CATEGORIES:AutoCamp Zion
ATTACH;FMTTYPE=image/jpeg:https://autocamp.com/wp-content/uploads/2025/01/AC-Catskills-LifestyleFriends-BC-6-1-scaled.jpg
END:VEVENT
BEGIN:VEVENT
DTSTART;VALUE=DATE:20250617
DTEND;VALUE=DATE:20250618
DTSTAMP:20260420T234229
CREATED:20250224T212507Z
LAST-MODIFIED:20251126T173645Z
UID:10015881-1750118400-1750204799@autocamp.com
SUMMARY:Find the Ram Kid's Game
DESCRIPTION:Can you find the hidden Utah Ram inside the Clubhouse? During their stay\, young explorers can search for the Utah Ram stuffed animal hidden somewhere in the Clubhouse. Be sure to let a team member know when you find it\, and kiddos will receive a small surprise as their reward. And if you’d like to take your own Utah Ram home with you\, we sell these little stuffed friends in our General Store. Good luck searching!
URL:https://autocamp.com/event/find-the-ram-kids-game/2025-06-17/
LOCATION:AutoCamp Zion\, 1322 East State Route #9\, Virgin\, UT\, 84779\, United States
CATEGORIES:AutoCamp Zion
ATTACH;FMTTYPE=image/png:https://autocamp.com/wp-content/uploads/2025/02/Utah-Ram-Website.png
END:VEVENT
BEGIN:VEVENT
DTSTART;TZID=America/Los_Angeles:20250617T180000
DTEND;TZID=America/Los_Angeles:20250617T210000
DTSTAMP:20260420T234229
CREATED:20250521T191542Z
LAST-MODIFIED:20250521T191542Z
UID:10023393-1750183200-1750194000@autocamp.com
SUMMARY:Family Game Night
DESCRIPTION:Join us for a relaxing or competitive family game night in the Clubhouse! We have a variety of options from board games to card games.
URL:https://autocamp.com/event/family-game-night/2025-06-17/
LOCATION:AutoCamp Zion\, 1322 East State Route #9\, Virgin\, UT\, 84779\, United States
CATEGORIES:AutoCamp Zion
ATTACH;FMTTYPE=image/jpeg:https://autocamp.com/wp-content/uploads/2025/01/AC-Catskills-LifestyleFriends-BC-6-1-scaled.jpg
END:VEVENT
BEGIN:VEVENT
DTSTART;VALUE=DATE:20250618
DTEND;VALUE=DATE:20250619
DTSTAMP:20260420T234229
CREATED:20250224T212507Z
LAST-MODIFIED:20251126T173645Z
UID:10015882-1750204800-1750291199@autocamp.com
SUMMARY:Find the Ram Kid's Game
DESCRIPTION:Can you find the hidden Utah Ram inside the Clubhouse? During their stay\, young explorers can search for the Utah Ram stuffed animal hidden somewhere in the Clubhouse. Be sure to let a team member know when you find it\, and kiddos will receive a small surprise as their reward. And if you’d like to take your own Utah Ram home with you\, we sell these little stuffed friends in our General Store. Good luck searching!
URL:https://autocamp.com/event/find-the-ram-kids-game/2025-06-18/
LOCATION:AutoCamp Zion\, 1322 East State Route #9\, Virgin\, UT\, 84779\, United States
CATEGORIES:AutoCamp Zion
ATTACH;FMTTYPE=image/png:https://autocamp.com/wp-content/uploads/2025/02/Utah-Ram-Website.png
END:VEVENT
BEGIN:VEVENT
DTSTART;TZID=America/Los_Angeles:20250618T180000
DTEND;TZID=America/Los_Angeles:20250618T210000
DTSTAMP:20260420T234229
CREATED:20250521T191542Z
LAST-MODIFIED:20250521T191542Z
UID:10023394-1750269600-1750280400@autocamp.com
SUMMARY:Family Game Night
DESCRIPTION:Join us for a relaxing or competitive family game night in the Clubhouse! We have a variety of options from board games to card games.
URL:https://autocamp.com/event/family-game-night/2025-06-18/
LOCATION:AutoCamp Zion\, 1322 East State Route #9\, Virgin\, UT\, 84779\, United States
CATEGORIES:AutoCamp Zion
ATTACH;FMTTYPE=image/jpeg:https://autocamp.com/wp-content/uploads/2025/01/AC-Catskills-LifestyleFriends-BC-6-1-scaled.jpg
END:VEVENT
END:VCALENDAR