BEGIN:VCALENDAR
VERSION:2.0
PRODID:-//AutoCamp - ECPv6.15.0.1//NONSGML v1.0//EN
CALSCALE:GREGORIAN
METHOD:PUBLISH
X-ORIGINAL-URL:https://autocamp.com
X-WR-CALDESC:Events for AutoCamp
REFRESH-INTERVAL;VALUE=DURATION:PT1H
X-Robots-Tag:noindex
X-PUBLISHED-TTL:PT1H
BEGIN:VTIMEZONE
TZID:America/Los_Angeles
BEGIN:DAYLIGHT
TZOFFSETFROM:-0800
TZOFFSETTO:-0700
TZNAME:PDT
DTSTART:20250309T100000
END:DAYLIGHT
BEGIN:STANDARD
TZOFFSETFROM:-0700
TZOFFSETTO:-0800
TZNAME:PST
DTSTART:20251102T090000
END:STANDARD
END:VTIMEZONE
BEGIN:VEVENT
DTSTART;TZID=America/Los_Angeles:20250211T160000
DTEND;TZID=America/Los_Angeles:20250211T180000
DTSTAMP:20260420T004142
CREATED:20250205T225549Z
LAST-MODIFIED:20250211T195509Z
UID:10008085-1739289600-1739296800@autocamp.com
SUMMARY:Complimentary Hot Cocoa in the Clubhouse
DESCRIPTION:Head to the Clubhouse for a toasty drink\, and settle in by the indoor fire pit for a cozy evening. Visit the front desk to check out available board games to enjoy for the evening.
URL:https://autocamp.com/event/complimentary-hot-cocoa-in-the-clubhouse-2/2025-02-11/
LOCATION:AutoCamp Zion\, 1322 East State Route #9\, Virgin\, UT\, 84779\, United States
CATEGORIES:AutoCamp Zion
ATTACH;FMTTYPE=image/png:https://autocamp.com/wp-content/uploads/2025/02/Frame-157-20.png
END:VEVENT
BEGIN:VEVENT
DTSTART;TZID=America/Los_Angeles:20250212T160000
DTEND;TZID=America/Los_Angeles:20250212T180000
DTSTAMP:20260420T004142
CREATED:20250205T225549Z
LAST-MODIFIED:20250211T195509Z
UID:10008086-1739376000-1739383200@autocamp.com
SUMMARY:Complimentary Hot Cocoa in the Clubhouse
DESCRIPTION:Head to the Clubhouse for a toasty drink\, and settle in by the indoor fire pit for a cozy evening. Visit the front desk to check out available board games to enjoy for the evening.
URL:https://autocamp.com/event/complimentary-hot-cocoa-in-the-clubhouse-2/2025-02-12/
LOCATION:AutoCamp Zion\, 1322 East State Route #9\, Virgin\, UT\, 84779\, United States
CATEGORIES:AutoCamp Zion
ATTACH;FMTTYPE=image/png:https://autocamp.com/wp-content/uploads/2025/02/Frame-157-20.png
END:VEVENT
BEGIN:VEVENT
DTSTART;TZID=America/Los_Angeles:20250213T160000
DTEND;TZID=America/Los_Angeles:20250213T180000
DTSTAMP:20260420T004142
CREATED:20250205T225549Z
LAST-MODIFIED:20250211T195509Z
UID:10008087-1739462400-1739469600@autocamp.com
SUMMARY:Complimentary Hot Cocoa in the Clubhouse
DESCRIPTION:Head to the Clubhouse for a toasty drink\, and settle in by the indoor fire pit for a cozy evening. Visit the front desk to check out available board games to enjoy for the evening.
URL:https://autocamp.com/event/complimentary-hot-cocoa-in-the-clubhouse-2/2025-02-13/
LOCATION:AutoCamp Zion\, 1322 East State Route #9\, Virgin\, UT\, 84779\, United States
CATEGORIES:AutoCamp Zion
ATTACH;FMTTYPE=image/png:https://autocamp.com/wp-content/uploads/2025/02/Frame-157-20.png
END:VEVENT
BEGIN:VEVENT
DTSTART;TZID=America/Los_Angeles:20250214T160000
DTEND;TZID=America/Los_Angeles:20250214T180000
DTSTAMP:20260420T004142
CREATED:20250205T225549Z
LAST-MODIFIED:20250211T195509Z
UID:10008088-1739548800-1739556000@autocamp.com
SUMMARY:Complimentary Hot Cocoa in the Clubhouse
DESCRIPTION:Head to the Clubhouse for a toasty drink\, and settle in by the indoor fire pit for a cozy evening. Visit the front desk to check out available board games to enjoy for the evening.
URL:https://autocamp.com/event/complimentary-hot-cocoa-in-the-clubhouse-2/2025-02-14/
LOCATION:AutoCamp Zion\, 1322 East State Route #9\, Virgin\, UT\, 84779\, United States
CATEGORIES:AutoCamp Zion
ATTACH;FMTTYPE=image/png:https://autocamp.com/wp-content/uploads/2025/02/Frame-157-20.png
END:VEVENT
BEGIN:VEVENT
DTSTART;TZID=America/Los_Angeles:20250215T160000
DTEND;TZID=America/Los_Angeles:20250215T180000
DTSTAMP:20260420T004142
CREATED:20250205T225549Z
LAST-MODIFIED:20250211T195509Z
UID:10008089-1739635200-1739642400@autocamp.com
SUMMARY:Complimentary Hot Cocoa in the Clubhouse
DESCRIPTION:Head to the Clubhouse for a toasty drink\, and settle in by the indoor fire pit for a cozy evening. Visit the front desk to check out available board games to enjoy for the evening.
URL:https://autocamp.com/event/complimentary-hot-cocoa-in-the-clubhouse-2/2025-02-15/
LOCATION:AutoCamp Zion\, 1322 East State Route #9\, Virgin\, UT\, 84779\, United States
CATEGORIES:AutoCamp Zion
ATTACH;FMTTYPE=image/png:https://autocamp.com/wp-content/uploads/2025/02/Frame-157-20.png
END:VEVENT
BEGIN:VEVENT
DTSTART;TZID=America/Los_Angeles:20250216T160000
DTEND;TZID=America/Los_Angeles:20250216T180000
DTSTAMP:20260420T004142
CREATED:20250205T225549Z
LAST-MODIFIED:20250211T195509Z
UID:10008090-1739721600-1739728800@autocamp.com
SUMMARY:Complimentary Hot Cocoa in the Clubhouse
DESCRIPTION:Head to the Clubhouse for a toasty drink\, and settle in by the indoor fire pit for a cozy evening. Visit the front desk to check out available board games to enjoy for the evening.
URL:https://autocamp.com/event/complimentary-hot-cocoa-in-the-clubhouse-2/2025-02-16/
LOCATION:AutoCamp Zion\, 1322 East State Route #9\, Virgin\, UT\, 84779\, United States
CATEGORIES:AutoCamp Zion
ATTACH;FMTTYPE=image/png:https://autocamp.com/wp-content/uploads/2025/02/Frame-157-20.png
END:VEVENT
BEGIN:VEVENT
DTSTART;TZID=America/Los_Angeles:20250217T160000
DTEND;TZID=America/Los_Angeles:20250217T180000
DTSTAMP:20260420T004142
CREATED:20250205T225549Z
LAST-MODIFIED:20250211T195509Z
UID:10008091-1739808000-1739815200@autocamp.com
SUMMARY:Complimentary Hot Cocoa in the Clubhouse
DESCRIPTION:Head to the Clubhouse for a toasty drink\, and settle in by the indoor fire pit for a cozy evening. Visit the front desk to check out available board games to enjoy for the evening.
URL:https://autocamp.com/event/complimentary-hot-cocoa-in-the-clubhouse-2/2025-02-17/
LOCATION:AutoCamp Zion\, 1322 East State Route #9\, Virgin\, UT\, 84779\, United States
CATEGORIES:AutoCamp Zion
ATTACH;FMTTYPE=image/png:https://autocamp.com/wp-content/uploads/2025/02/Frame-157-20.png
END:VEVENT
BEGIN:VEVENT
DTSTART;TZID=America/Los_Angeles:20250218T160000
DTEND;TZID=America/Los_Angeles:20250218T180000
DTSTAMP:20260420T004142
CREATED:20250205T225549Z
LAST-MODIFIED:20250211T195509Z
UID:10008092-1739894400-1739901600@autocamp.com
SUMMARY:Complimentary Hot Cocoa in the Clubhouse
DESCRIPTION:Head to the Clubhouse for a toasty drink\, and settle in by the indoor fire pit for a cozy evening. Visit the front desk to check out available board games to enjoy for the evening.
URL:https://autocamp.com/event/complimentary-hot-cocoa-in-the-clubhouse-2/2025-02-18/
LOCATION:AutoCamp Zion\, 1322 East State Route #9\, Virgin\, UT\, 84779\, United States
CATEGORIES:AutoCamp Zion
ATTACH;FMTTYPE=image/png:https://autocamp.com/wp-content/uploads/2025/02/Frame-157-20.png
END:VEVENT
BEGIN:VEVENT
DTSTART;TZID=America/Los_Angeles:20250219T160000
DTEND;TZID=America/Los_Angeles:20250219T180000
DTSTAMP:20260420T004142
CREATED:20250205T225549Z
LAST-MODIFIED:20250211T195509Z
UID:10008093-1739980800-1739988000@autocamp.com
SUMMARY:Complimentary Hot Cocoa in the Clubhouse
DESCRIPTION:Head to the Clubhouse for a toasty drink\, and settle in by the indoor fire pit for a cozy evening. Visit the front desk to check out available board games to enjoy for the evening.
URL:https://autocamp.com/event/complimentary-hot-cocoa-in-the-clubhouse-2/2025-02-19/
LOCATION:AutoCamp Zion\, 1322 East State Route #9\, Virgin\, UT\, 84779\, United States
CATEGORIES:AutoCamp Zion
ATTACH;FMTTYPE=image/png:https://autocamp.com/wp-content/uploads/2025/02/Frame-157-20.png
END:VEVENT
BEGIN:VEVENT
DTSTART;TZID=America/Los_Angeles:20250220T160000
DTEND;TZID=America/Los_Angeles:20250220T180000
DTSTAMP:20260420T004142
CREATED:20250205T225549Z
LAST-MODIFIED:20250211T195509Z
UID:10008094-1740067200-1740074400@autocamp.com
SUMMARY:Complimentary Hot Cocoa in the Clubhouse
DESCRIPTION:Head to the Clubhouse for a toasty drink\, and settle in by the indoor fire pit for a cozy evening. Visit the front desk to check out available board games to enjoy for the evening.
URL:https://autocamp.com/event/complimentary-hot-cocoa-in-the-clubhouse-2/2025-02-20/
LOCATION:AutoCamp Zion\, 1322 East State Route #9\, Virgin\, UT\, 84779\, United States
CATEGORIES:AutoCamp Zion
ATTACH;FMTTYPE=image/png:https://autocamp.com/wp-content/uploads/2025/02/Frame-157-20.png
END:VEVENT
BEGIN:VEVENT
DTSTART;TZID=America/Los_Angeles:20250221T160000
DTEND;TZID=America/Los_Angeles:20250221T180000
DTSTAMP:20260420T004142
CREATED:20250205T225549Z
LAST-MODIFIED:20250211T195509Z
UID:10008095-1740153600-1740160800@autocamp.com
SUMMARY:Complimentary Hot Cocoa in the Clubhouse
DESCRIPTION:Head to the Clubhouse for a toasty drink\, and settle in by the indoor fire pit for a cozy evening. Visit the front desk to check out available board games to enjoy for the evening.
URL:https://autocamp.com/event/complimentary-hot-cocoa-in-the-clubhouse-2/2025-02-21/
LOCATION:AutoCamp Zion\, 1322 East State Route #9\, Virgin\, UT\, 84779\, United States
CATEGORIES:AutoCamp Zion
ATTACH;FMTTYPE=image/png:https://autocamp.com/wp-content/uploads/2025/02/Frame-157-20.png
END:VEVENT
BEGIN:VEVENT
DTSTART;TZID=America/Los_Angeles:20250222T160000
DTEND;TZID=America/Los_Angeles:20250222T180000
DTSTAMP:20260420T004142
CREATED:20250205T225549Z
LAST-MODIFIED:20250211T195509Z
UID:10008096-1740240000-1740247200@autocamp.com
SUMMARY:Complimentary Hot Cocoa in the Clubhouse
DESCRIPTION:Head to the Clubhouse for a toasty drink\, and settle in by the indoor fire pit for a cozy evening. Visit the front desk to check out available board games to enjoy for the evening.
URL:https://autocamp.com/event/complimentary-hot-cocoa-in-the-clubhouse-2/2025-02-22/
LOCATION:AutoCamp Zion\, 1322 East State Route #9\, Virgin\, UT\, 84779\, United States
CATEGORIES:AutoCamp Zion
ATTACH;FMTTYPE=image/png:https://autocamp.com/wp-content/uploads/2025/02/Frame-157-20.png
END:VEVENT
BEGIN:VEVENT
DTSTART;TZID=America/Los_Angeles:20250223T160000
DTEND;TZID=America/Los_Angeles:20250223T180000
DTSTAMP:20260420T004142
CREATED:20250205T225549Z
LAST-MODIFIED:20250211T195509Z
UID:10008097-1740326400-1740333600@autocamp.com
SUMMARY:Complimentary Hot Cocoa in the Clubhouse
DESCRIPTION:Head to the Clubhouse for a toasty drink\, and settle in by the indoor fire pit for a cozy evening. Visit the front desk to check out available board games to enjoy for the evening.
URL:https://autocamp.com/event/complimentary-hot-cocoa-in-the-clubhouse-2/2025-02-23/
LOCATION:AutoCamp Zion\, 1322 East State Route #9\, Virgin\, UT\, 84779\, United States
CATEGORIES:AutoCamp Zion
ATTACH;FMTTYPE=image/png:https://autocamp.com/wp-content/uploads/2025/02/Frame-157-20.png
END:VEVENT
BEGIN:VEVENT
DTSTART;VALUE=DATE:20250224
DTEND;VALUE=DATE:20250225
DTSTAMP:20260420T004142
CREATED:20250224T212507Z
LAST-MODIFIED:20251126T173645Z
UID:10015768-1740355200-1740441599@autocamp.com
SUMMARY:Find the Ram Kid's Game
DESCRIPTION:Can you find the hidden Utah Ram inside the Clubhouse? During their stay\, young explorers can search for the Utah Ram stuffed animal hidden somewhere in the Clubhouse. Be sure to let a team member know when you find it\, and kiddos will receive a small surprise as their reward. And if you’d like to take your own Utah Ram home with you\, we sell these little stuffed friends in our General Store. Good luck searching!
URL:https://autocamp.com/event/find-the-ram-kids-game/2025-02-24/
LOCATION:AutoCamp Zion\, 1322 East State Route #9\, Virgin\, UT\, 84779\, United States
CATEGORIES:AutoCamp Zion
ATTACH;FMTTYPE=image/png:https://autocamp.com/wp-content/uploads/2025/02/Utah-Ram-Website.png
END:VEVENT
BEGIN:VEVENT
DTSTART;TZID=America/Los_Angeles:20250224T160000
DTEND;TZID=America/Los_Angeles:20250224T180000
DTSTAMP:20260420T004142
CREATED:20250205T225549Z
LAST-MODIFIED:20250211T195509Z
UID:10008098-1740412800-1740420000@autocamp.com
SUMMARY:Complimentary Hot Cocoa in the Clubhouse
DESCRIPTION:Head to the Clubhouse for a toasty drink\, and settle in by the indoor fire pit for a cozy evening. Visit the front desk to check out available board games to enjoy for the evening.
URL:https://autocamp.com/event/complimentary-hot-cocoa-in-the-clubhouse-2/2025-02-24/
LOCATION:AutoCamp Zion\, 1322 East State Route #9\, Virgin\, UT\, 84779\, United States
CATEGORIES:AutoCamp Zion
ATTACH;FMTTYPE=image/png:https://autocamp.com/wp-content/uploads/2025/02/Frame-157-20.png
END:VEVENT
BEGIN:VEVENT
DTSTART;VALUE=DATE:20250225
DTEND;VALUE=DATE:20250226
DTSTAMP:20260420T004142
CREATED:20250224T212507Z
LAST-MODIFIED:20251126T173645Z
UID:10015769-1740441600-1740527999@autocamp.com
SUMMARY:Find the Ram Kid's Game
DESCRIPTION:Can you find the hidden Utah Ram inside the Clubhouse? During their stay\, young explorers can search for the Utah Ram stuffed animal hidden somewhere in the Clubhouse. Be sure to let a team member know when you find it\, and kiddos will receive a small surprise as their reward. And if you’d like to take your own Utah Ram home with you\, we sell these little stuffed friends in our General Store. Good luck searching!
URL:https://autocamp.com/event/find-the-ram-kids-game/2025-02-25/
LOCATION:AutoCamp Zion\, 1322 East State Route #9\, Virgin\, UT\, 84779\, United States
CATEGORIES:AutoCamp Zion
ATTACH;FMTTYPE=image/png:https://autocamp.com/wp-content/uploads/2025/02/Utah-Ram-Website.png
END:VEVENT
BEGIN:VEVENT
DTSTART;TZID=America/Los_Angeles:20250225T160000
DTEND;TZID=America/Los_Angeles:20250225T180000
DTSTAMP:20260420T004142
CREATED:20250205T225549Z
LAST-MODIFIED:20250211T195509Z
UID:10008099-1740499200-1740506400@autocamp.com
SUMMARY:Complimentary Hot Cocoa in the Clubhouse
DESCRIPTION:Head to the Clubhouse for a toasty drink\, and settle in by the indoor fire pit for a cozy evening. Visit the front desk to check out available board games to enjoy for the evening.
URL:https://autocamp.com/event/complimentary-hot-cocoa-in-the-clubhouse-2/2025-02-25/
LOCATION:AutoCamp Zion\, 1322 East State Route #9\, Virgin\, UT\, 84779\, United States
CATEGORIES:AutoCamp Zion
ATTACH;FMTTYPE=image/png:https://autocamp.com/wp-content/uploads/2025/02/Frame-157-20.png
END:VEVENT
BEGIN:VEVENT
DTSTART;VALUE=DATE:20250226
DTEND;VALUE=DATE:20250227
DTSTAMP:20260420T004142
CREATED:20250224T212507Z
LAST-MODIFIED:20251126T173645Z
UID:10015770-1740528000-1740614399@autocamp.com
SUMMARY:Find the Ram Kid's Game
DESCRIPTION:Can you find the hidden Utah Ram inside the Clubhouse? During their stay\, young explorers can search for the Utah Ram stuffed animal hidden somewhere in the Clubhouse. Be sure to let a team member know when you find it\, and kiddos will receive a small surprise as their reward. And if you’d like to take your own Utah Ram home with you\, we sell these little stuffed friends in our General Store. Good luck searching!
URL:https://autocamp.com/event/find-the-ram-kids-game/2025-02-26/
LOCATION:AutoCamp Zion\, 1322 East State Route #9\, Virgin\, UT\, 84779\, United States
CATEGORIES:AutoCamp Zion
ATTACH;FMTTYPE=image/png:https://autocamp.com/wp-content/uploads/2025/02/Utah-Ram-Website.png
END:VEVENT
BEGIN:VEVENT
DTSTART;TZID=America/Los_Angeles:20250226T160000
DTEND;TZID=America/Los_Angeles:20250226T180000
DTSTAMP:20260420T004142
CREATED:20250205T225549Z
LAST-MODIFIED:20250211T195509Z
UID:10008100-1740585600-1740592800@autocamp.com
SUMMARY:Complimentary Hot Cocoa in the Clubhouse
DESCRIPTION:Head to the Clubhouse for a toasty drink\, and settle in by the indoor fire pit for a cozy evening. Visit the front desk to check out available board games to enjoy for the evening.
URL:https://autocamp.com/event/complimentary-hot-cocoa-in-the-clubhouse-2/2025-02-26/
LOCATION:AutoCamp Zion\, 1322 East State Route #9\, Virgin\, UT\, 84779\, United States
CATEGORIES:AutoCamp Zion
ATTACH;FMTTYPE=image/png:https://autocamp.com/wp-content/uploads/2025/02/Frame-157-20.png
END:VEVENT
BEGIN:VEVENT
DTSTART;VALUE=DATE:20250227
DTEND;VALUE=DATE:20250228
DTSTAMP:20260420T004142
CREATED:20250224T212507Z
LAST-MODIFIED:20251126T173645Z
UID:10015771-1740614400-1740700799@autocamp.com
SUMMARY:Find the Ram Kid's Game
DESCRIPTION:Can you find the hidden Utah Ram inside the Clubhouse? During their stay\, young explorers can search for the Utah Ram stuffed animal hidden somewhere in the Clubhouse. Be sure to let a team member know when you find it\, and kiddos will receive a small surprise as their reward. And if you’d like to take your own Utah Ram home with you\, we sell these little stuffed friends in our General Store. Good luck searching!
URL:https://autocamp.com/event/find-the-ram-kids-game/2025-02-27/
LOCATION:AutoCamp Zion\, 1322 East State Route #9\, Virgin\, UT\, 84779\, United States
CATEGORIES:AutoCamp Zion
ATTACH;FMTTYPE=image/png:https://autocamp.com/wp-content/uploads/2025/02/Utah-Ram-Website.png
END:VEVENT
BEGIN:VEVENT
DTSTART;TZID=America/Los_Angeles:20250227T160000
DTEND;TZID=America/Los_Angeles:20250227T180000
DTSTAMP:20260420T004142
CREATED:20250205T225549Z
LAST-MODIFIED:20250211T195509Z
UID:10008101-1740672000-1740679200@autocamp.com
SUMMARY:Complimentary Hot Cocoa in the Clubhouse
DESCRIPTION:Head to the Clubhouse for a toasty drink\, and settle in by the indoor fire pit for a cozy evening. Visit the front desk to check out available board games to enjoy for the evening.
URL:https://autocamp.com/event/complimentary-hot-cocoa-in-the-clubhouse-2/2025-02-27/
LOCATION:AutoCamp Zion\, 1322 East State Route #9\, Virgin\, UT\, 84779\, United States
CATEGORIES:AutoCamp Zion
ATTACH;FMTTYPE=image/png:https://autocamp.com/wp-content/uploads/2025/02/Frame-157-20.png
END:VEVENT
BEGIN:VEVENT
DTSTART;VALUE=DATE:20250228
DTEND;VALUE=DATE:20250301
DTSTAMP:20260420T004142
CREATED:20250224T212507Z
LAST-MODIFIED:20251126T173645Z
UID:10015772-1740700800-1740787199@autocamp.com
SUMMARY:Find the Ram Kid's Game
DESCRIPTION:Can you find the hidden Utah Ram inside the Clubhouse? During their stay\, young explorers can search for the Utah Ram stuffed animal hidden somewhere in the Clubhouse. Be sure to let a team member know when you find it\, and kiddos will receive a small surprise as their reward. And if you’d like to take your own Utah Ram home with you\, we sell these little stuffed friends in our General Store. Good luck searching!
URL:https://autocamp.com/event/find-the-ram-kids-game/2025-02-28/
LOCATION:AutoCamp Zion\, 1322 East State Route #9\, Virgin\, UT\, 84779\, United States
CATEGORIES:AutoCamp Zion
ATTACH;FMTTYPE=image/png:https://autocamp.com/wp-content/uploads/2025/02/Utah-Ram-Website.png
END:VEVENT
BEGIN:VEVENT
DTSTART;TZID=America/Los_Angeles:20250228T160000
DTEND;TZID=America/Los_Angeles:20250228T180000
DTSTAMP:20260420T004142
CREATED:20250205T225549Z
LAST-MODIFIED:20250211T195509Z
UID:10008102-1740758400-1740765600@autocamp.com
SUMMARY:Complimentary Hot Cocoa in the Clubhouse
DESCRIPTION:Head to the Clubhouse for a toasty drink\, and settle in by the indoor fire pit for a cozy evening. Visit the front desk to check out available board games to enjoy for the evening.
URL:https://autocamp.com/event/complimentary-hot-cocoa-in-the-clubhouse-2/2025-02-28/
LOCATION:AutoCamp Zion\, 1322 East State Route #9\, Virgin\, UT\, 84779\, United States
CATEGORIES:AutoCamp Zion
ATTACH;FMTTYPE=image/png:https://autocamp.com/wp-content/uploads/2025/02/Frame-157-20.png
END:VEVENT
BEGIN:VEVENT
DTSTART;VALUE=DATE:20250301
DTEND;VALUE=DATE:20250302
DTSTAMP:20260420T004142
CREATED:20250224T212507Z
LAST-MODIFIED:20251126T173645Z
UID:10015773-1740787200-1740873599@autocamp.com
SUMMARY:Find the Ram Kid's Game
DESCRIPTION:Can you find the hidden Utah Ram inside the Clubhouse? During their stay\, young explorers can search for the Utah Ram stuffed animal hidden somewhere in the Clubhouse. Be sure to let a team member know when you find it\, and kiddos will receive a small surprise as their reward. And if you’d like to take your own Utah Ram home with you\, we sell these little stuffed friends in our General Store. Good luck searching!
URL:https://autocamp.com/event/find-the-ram-kids-game/2025-03-01/
LOCATION:AutoCamp Zion\, 1322 East State Route #9\, Virgin\, UT\, 84779\, United States
CATEGORIES:AutoCamp Zion
ATTACH;FMTTYPE=image/png:https://autocamp.com/wp-content/uploads/2025/02/Utah-Ram-Website.png
END:VEVENT
BEGIN:VEVENT
DTSTART;TZID=America/Los_Angeles:20250301T160000
DTEND;TZID=America/Los_Angeles:20250301T180000
DTSTAMP:20260420T004142
CREATED:20250205T225549Z
LAST-MODIFIED:20250211T195509Z
UID:10008103-1740844800-1740852000@autocamp.com
SUMMARY:Complimentary Hot Cocoa in the Clubhouse
DESCRIPTION:Head to the Clubhouse for a toasty drink\, and settle in by the indoor fire pit for a cozy evening. Visit the front desk to check out available board games to enjoy for the evening.
URL:https://autocamp.com/event/complimentary-hot-cocoa-in-the-clubhouse-2/2025-03-01/
LOCATION:AutoCamp Zion\, 1322 East State Route #9\, Virgin\, UT\, 84779\, United States
CATEGORIES:AutoCamp Zion
ATTACH;FMTTYPE=image/png:https://autocamp.com/wp-content/uploads/2025/02/Frame-157-20.png
END:VEVENT
BEGIN:VEVENT
DTSTART;VALUE=DATE:20250302
DTEND;VALUE=DATE:20250303
DTSTAMP:20260420T004142
CREATED:20250224T212507Z
LAST-MODIFIED:20251126T173645Z
UID:10015774-1740873600-1740959999@autocamp.com
SUMMARY:Find the Ram Kid's Game
DESCRIPTION:Can you find the hidden Utah Ram inside the Clubhouse? During their stay\, young explorers can search for the Utah Ram stuffed animal hidden somewhere in the Clubhouse. Be sure to let a team member know when you find it\, and kiddos will receive a small surprise as their reward. And if you’d like to take your own Utah Ram home with you\, we sell these little stuffed friends in our General Store. Good luck searching!
URL:https://autocamp.com/event/find-the-ram-kids-game/2025-03-02/
LOCATION:AutoCamp Zion\, 1322 East State Route #9\, Virgin\, UT\, 84779\, United States
CATEGORIES:AutoCamp Zion
ATTACH;FMTTYPE=image/png:https://autocamp.com/wp-content/uploads/2025/02/Utah-Ram-Website.png
END:VEVENT
BEGIN:VEVENT
DTSTART;TZID=America/Los_Angeles:20250302T160000
DTEND;TZID=America/Los_Angeles:20250302T180000
DTSTAMP:20260420T004142
CREATED:20250205T225549Z
LAST-MODIFIED:20250211T195509Z
UID:10008104-1740931200-1740938400@autocamp.com
SUMMARY:Complimentary Hot Cocoa in the Clubhouse
DESCRIPTION:Head to the Clubhouse for a toasty drink\, and settle in by the indoor fire pit for a cozy evening. Visit the front desk to check out available board games to enjoy for the evening.
URL:https://autocamp.com/event/complimentary-hot-cocoa-in-the-clubhouse-2/2025-03-02/
LOCATION:AutoCamp Zion\, 1322 East State Route #9\, Virgin\, UT\, 84779\, United States
CATEGORIES:AutoCamp Zion
ATTACH;FMTTYPE=image/png:https://autocamp.com/wp-content/uploads/2025/02/Frame-157-20.png
END:VEVENT
BEGIN:VEVENT
DTSTART;VALUE=DATE:20250303
DTEND;VALUE=DATE:20250304
DTSTAMP:20260420T004142
CREATED:20250224T212507Z
LAST-MODIFIED:20251126T173645Z
UID:10015775-1740960000-1741046399@autocamp.com
SUMMARY:Find the Ram Kid's Game
DESCRIPTION:Can you find the hidden Utah Ram inside the Clubhouse? During their stay\, young explorers can search for the Utah Ram stuffed animal hidden somewhere in the Clubhouse. Be sure to let a team member know when you find it\, and kiddos will receive a small surprise as their reward. And if you’d like to take your own Utah Ram home with you\, we sell these little stuffed friends in our General Store. Good luck searching!
URL:https://autocamp.com/event/find-the-ram-kids-game/2025-03-03/
LOCATION:AutoCamp Zion\, 1322 East State Route #9\, Virgin\, UT\, 84779\, United States
CATEGORIES:AutoCamp Zion
ATTACH;FMTTYPE=image/png:https://autocamp.com/wp-content/uploads/2025/02/Utah-Ram-Website.png
END:VEVENT
BEGIN:VEVENT
DTSTART;TZID=America/Los_Angeles:20250303T160000
DTEND;TZID=America/Los_Angeles:20250303T180000
DTSTAMP:20260420T004142
CREATED:20250205T225549Z
LAST-MODIFIED:20250211T195509Z
UID:10008105-1741017600-1741024800@autocamp.com
SUMMARY:Complimentary Hot Cocoa in the Clubhouse
DESCRIPTION:Head to the Clubhouse for a toasty drink\, and settle in by the indoor fire pit for a cozy evening. Visit the front desk to check out available board games to enjoy for the evening.
URL:https://autocamp.com/event/complimentary-hot-cocoa-in-the-clubhouse-2/2025-03-03/
LOCATION:AutoCamp Zion\, 1322 East State Route #9\, Virgin\, UT\, 84779\, United States
CATEGORIES:AutoCamp Zion
ATTACH;FMTTYPE=image/png:https://autocamp.com/wp-content/uploads/2025/02/Frame-157-20.png
END:VEVENT
BEGIN:VEVENT
DTSTART;VALUE=DATE:20250304
DTEND;VALUE=DATE:20250305
DTSTAMP:20260420T004142
CREATED:20250224T212507Z
LAST-MODIFIED:20251126T173645Z
UID:10015776-1741046400-1741132799@autocamp.com
SUMMARY:Find the Ram Kid's Game
DESCRIPTION:Can you find the hidden Utah Ram inside the Clubhouse? During their stay\, young explorers can search for the Utah Ram stuffed animal hidden somewhere in the Clubhouse. Be sure to let a team member know when you find it\, and kiddos will receive a small surprise as their reward. And if you’d like to take your own Utah Ram home with you\, we sell these little stuffed friends in our General Store. Good luck searching!
URL:https://autocamp.com/event/find-the-ram-kids-game/2025-03-04/
LOCATION:AutoCamp Zion\, 1322 East State Route #9\, Virgin\, UT\, 84779\, United States
CATEGORIES:AutoCamp Zion
ATTACH;FMTTYPE=image/png:https://autocamp.com/wp-content/uploads/2025/02/Utah-Ram-Website.png
END:VEVENT
END:VCALENDAR