BEGIN:VCALENDAR
VERSION:2.0
PRODID:-//AutoCamp - ECPv6.15.0.1//NONSGML v1.0//EN
CALSCALE:GREGORIAN
METHOD:PUBLISH
X-WR-CALNAME:AutoCamp
X-ORIGINAL-URL:https://autocamp.com
X-WR-CALDESC:Events for AutoCamp
REFRESH-INTERVAL;VALUE=DURATION:PT1H
X-Robots-Tag:noindex
X-PUBLISHED-TTL:PT1H
BEGIN:VTIMEZONE
TZID:America/Los_Angeles
BEGIN:DAYLIGHT
TZOFFSETFROM:-0800
TZOFFSETTO:-0700
TZNAME:PDT
DTSTART:20250309T100000
END:DAYLIGHT
BEGIN:STANDARD
TZOFFSETFROM:-0700
TZOFFSETTO:-0800
TZNAME:PST
DTSTART:20251102T090000
END:STANDARD
END:VTIMEZONE
BEGIN:VEVENT
DTSTART;TZID=America/Los_Angeles:20250224T090000
DTEND;TZID=America/Los_Angeles:20250224T100000
DTSTAMP:20260422T024245
CREATED:20250207T212234Z
LAST-MODIFIED:20250616T151223Z
UID:10009254-1740387600-1740391200@autocamp.com
SUMMARY:Meditation Monday
DESCRIPTION:Join us for a mindful morning filled with gentle movements\, breathwork\, and guided meditation led by Cassidy of Yogasemite. This session will offer an opportunity to get grounded and centered\, utilizing pranayama breathing and meditation techniques. All accessories – yoga mats\, blocks\, and blankets – will be provided.
URL:https://autocamp.com/event/meditation-monday/2025-02-24/
LOCATION:AutoCamp Yosemite\, 6323 CA-140\, Midpines\, CA\, 95345\, United States
CATEGORIES:AutoCamp Yosemite
ATTACH;FMTTYPE=image/png:https://autocamp.com/wp-content/uploads/2025/02/Frame-168-1.png
END:VEVENT
BEGIN:VEVENT
DTSTART;TZID=America/Los_Angeles:20250224T160000
DTEND;TZID=America/Los_Angeles:20250224T183000
DTSTAMP:20260422T024245
CREATED:20250207T215807Z
LAST-MODIFIED:20250207T215807Z
UID:10010052-1740412800-1740421800@autocamp.com
SUMMARY:Complimentary Hot Cocoa & Cider
DESCRIPTION:Head to the Clubhouse for a toasty drink\, and settle in by the indoor fire pit for a cozy evening. Visit the front desk to check out available board games to enjoy for the evening. \n(Pro tip for adults: spike your cocoa or cider with a shot from the Kitchen!)
URL:https://autocamp.com/event/complimentary-hot-cocoa-cider/2025-02-24/
LOCATION:AutoCamp Yosemite\, 6323 CA-140\, Midpines\, CA\, 95345\, United States
CATEGORIES:AutoCamp Yosemite
ATTACH;FMTTYPE=image/png:https://autocamp.com/wp-content/uploads/2025/02/Frame-168-3.png
END:VEVENT
BEGIN:VEVENT
DTSTART;TZID=America/Los_Angeles:20250225T160000
DTEND;TZID=America/Los_Angeles:20250225T183000
DTSTAMP:20260422T024245
CREATED:20250207T215807Z
LAST-MODIFIED:20250207T215807Z
UID:10010053-1740499200-1740508200@autocamp.com
SUMMARY:Complimentary Hot Cocoa & Cider
DESCRIPTION:Head to the Clubhouse for a toasty drink\, and settle in by the indoor fire pit for a cozy evening. Visit the front desk to check out available board games to enjoy for the evening. \n(Pro tip for adults: spike your cocoa or cider with a shot from the Kitchen!)
URL:https://autocamp.com/event/complimentary-hot-cocoa-cider/2025-02-25/
LOCATION:AutoCamp Yosemite\, 6323 CA-140\, Midpines\, CA\, 95345\, United States
CATEGORIES:AutoCamp Yosemite
ATTACH;FMTTYPE=image/png:https://autocamp.com/wp-content/uploads/2025/02/Frame-168-3.png
END:VEVENT
BEGIN:VEVENT
DTSTART;TZID=America/Los_Angeles:20250226T160000
DTEND;TZID=America/Los_Angeles:20250226T183000
DTSTAMP:20260422T024245
CREATED:20250207T215807Z
LAST-MODIFIED:20250207T215807Z
UID:10010054-1740585600-1740594600@autocamp.com
SUMMARY:Complimentary Hot Cocoa & Cider
DESCRIPTION:Head to the Clubhouse for a toasty drink\, and settle in by the indoor fire pit for a cozy evening. Visit the front desk to check out available board games to enjoy for the evening. \n(Pro tip for adults: spike your cocoa or cider with a shot from the Kitchen!)
URL:https://autocamp.com/event/complimentary-hot-cocoa-cider/2025-02-26/
LOCATION:AutoCamp Yosemite\, 6323 CA-140\, Midpines\, CA\, 95345\, United States
CATEGORIES:AutoCamp Yosemite
ATTACH;FMTTYPE=image/png:https://autocamp.com/wp-content/uploads/2025/02/Frame-168-3.png
END:VEVENT
BEGIN:VEVENT
DTSTART;TZID=America/Los_Angeles:20250227T160000
DTEND;TZID=America/Los_Angeles:20250227T183000
DTSTAMP:20260422T024245
CREATED:20250227T235521Z
LAST-MODIFIED:20250227T235522Z
UID:10010055-1740672000-1740681000@autocamp.com
SUMMARY:Complimentary Hot Cocoa & Cider
DESCRIPTION:Head to the Clubhouse for a toasty drink\, and settle in by the indoor fire pit for a cozy evening. Visit the front desk to check out available board games to enjoy for the evening. \n(Pro tip for adults: spike your cocoa or cider with a shot from the Kitchen!)
URL:https://autocamp.com/event/complimentary-hot-cocoa-cider-2/2025-02-27/
LOCATION:AutoCamp Yosemite\, 6323 CA-140\, Midpines\, CA\, 95345\, United States
CATEGORIES:AutoCamp Yosemite
ATTACH;FMTTYPE=image/png:https://autocamp.com/wp-content/uploads/2025/02/Frame-168-3.png
END:VEVENT
BEGIN:VEVENT
DTSTART;TZID=America/Los_Angeles:20250228T160000
DTEND;TZID=America/Los_Angeles:20250228T183000
DTSTAMP:20260422T024245
CREATED:20250227T235521Z
LAST-MODIFIED:20250227T235522Z
UID:10010056-1740758400-1740767400@autocamp.com
SUMMARY:Complimentary Hot Cocoa & Cider
DESCRIPTION:Head to the Clubhouse for a toasty drink\, and settle in by the indoor fire pit for a cozy evening. Visit the front desk to check out available board games to enjoy for the evening. \n(Pro tip for adults: spike your cocoa or cider with a shot from the Kitchen!)
URL:https://autocamp.com/event/complimentary-hot-cocoa-cider-2/2025-02-28/
LOCATION:AutoCamp Yosemite\, 6323 CA-140\, Midpines\, CA\, 95345\, United States
CATEGORIES:AutoCamp Yosemite
ATTACH;FMTTYPE=image/png:https://autocamp.com/wp-content/uploads/2025/02/Frame-168-3.png
END:VEVENT
BEGIN:VEVENT
DTSTART;TZID=America/Los_Angeles:20250228T180000
DTEND;TZID=America/Los_Angeles:20250228T200000
DTSTAMP:20260422T024245
CREATED:20250227T235925Z
LAST-MODIFIED:20250511T232454Z
UID:10009519-1740765600-1740772800@autocamp.com
SUMMARY:Live Music
DESCRIPTION:Gather at the Clubhouse’s communal fire pit and listen to some live tunes. We invite you to ease into your weekend evenings with good company and good music. All ages are welcome. Come hang out\, grab a drink at the bar\, and enjoy!
URL:https://autocamp.com/event/live-music-yosemite-2/2025-02-28/
LOCATION:AutoCamp Yosemite\, 6323 CA-140\, Midpines\, CA\, 95345\, United States
CATEGORIES:AutoCamp Yosemite
ATTACH;FMTTYPE=image/png:https://autocamp.com/wp-content/uploads/2025/02/Frame-168-2.png
END:VEVENT
BEGIN:VEVENT
DTSTART;TZID=America/Los_Angeles:20250301T080000
DTEND;TZID=America/Los_Angeles:20250301T090000
DTSTAMP:20260422T024245
CREATED:20250207T210301Z
LAST-MODIFIED:20250616T153508Z
UID:10008736-1740816000-1740819600@autocamp.com
SUMMARY:Morning Yoga
DESCRIPTION:Join our friends from Balanced Rock for a morning yoga session. In this hour of stretching\, a local instructor will guide you through gentle movement and breathing practices. All materials are provided\, and all skill levels are welcome. Meet at the 2nd floor Clubhouse.
URL:https://autocamp.com/event/morning-yoga-yosemite/2025-03-01/
LOCATION:AutoCamp Yosemite\, 6323 CA-140\, Midpines\, CA\, 95345\, United States
CATEGORIES:AutoCamp Yosemite
ATTACH;FMTTYPE=image/png:https://autocamp.com/wp-content/uploads/2025/02/Frame-168.png
END:VEVENT
BEGIN:VEVENT
DTSTART;TZID=America/Los_Angeles:20250301T180000
DTEND;TZID=America/Los_Angeles:20250301T200000
DTSTAMP:20260422T024245
CREATED:20250227T235925Z
LAST-MODIFIED:20250511T232454Z
UID:10009520-1740852000-1740859200@autocamp.com
SUMMARY:Live Music
DESCRIPTION:Gather at the Clubhouse’s communal fire pit and listen to some live tunes. We invite you to ease into your weekend evenings with good company and good music. All ages are welcome. Come hang out\, grab a drink at the bar\, and enjoy!
URL:https://autocamp.com/event/live-music-yosemite-2/2025-03-01/
LOCATION:AutoCamp Yosemite\, 6323 CA-140\, Midpines\, CA\, 95345\, United States
CATEGORIES:AutoCamp Yosemite
ATTACH;FMTTYPE=image/png:https://autocamp.com/wp-content/uploads/2025/02/Frame-168-2.png
END:VEVENT
BEGIN:VEVENT
DTSTART;TZID=America/Los_Angeles:20250302T080000
DTEND;TZID=America/Los_Angeles:20250302T090000
DTSTAMP:20260422T024245
CREATED:20250207T210301Z
LAST-MODIFIED:20250616T153508Z
UID:10008737-1740902400-1740906000@autocamp.com
SUMMARY:Morning Yoga
DESCRIPTION:Join our friends from Balanced Rock for a morning yoga session. In this hour of stretching\, a local instructor will guide you through gentle movement and breathing practices. All materials are provided\, and all skill levels are welcome. Meet at the 2nd floor Clubhouse.
URL:https://autocamp.com/event/morning-yoga-yosemite/2025-03-02/
LOCATION:AutoCamp Yosemite\, 6323 CA-140\, Midpines\, CA\, 95345\, United States
CATEGORIES:AutoCamp Yosemite
ATTACH;FMTTYPE=image/png:https://autocamp.com/wp-content/uploads/2025/02/Frame-168.png
END:VEVENT
BEGIN:VEVENT
DTSTART;TZID=America/Los_Angeles:20250307T180000
DTEND;TZID=America/Los_Angeles:20250307T200000
DTSTAMP:20260422T024245
CREATED:20250227T235925Z
LAST-MODIFIED:20250511T232454Z
UID:10009521-1741370400-1741377600@autocamp.com
SUMMARY:Live Music
DESCRIPTION:Gather at the Clubhouse’s communal fire pit and listen to some live tunes. We invite you to ease into your weekend evenings with good company and good music. All ages are welcome. Come hang out\, grab a drink at the bar\, and enjoy!
URL:https://autocamp.com/event/live-music-yosemite-2/2025-03-07/
LOCATION:AutoCamp Yosemite\, 6323 CA-140\, Midpines\, CA\, 95345\, United States
CATEGORIES:AutoCamp Yosemite
ATTACH;FMTTYPE=image/png:https://autocamp.com/wp-content/uploads/2025/02/Frame-168-2.png
END:VEVENT
BEGIN:VEVENT
DTSTART;TZID=America/Los_Angeles:20250308T080000
DTEND;TZID=America/Los_Angeles:20250308T090000
DTSTAMP:20260422T024245
CREATED:20250207T210301Z
LAST-MODIFIED:20250616T153508Z
UID:10008738-1741420800-1741424400@autocamp.com
SUMMARY:Morning Yoga
DESCRIPTION:Join our friends from Balanced Rock for a morning yoga session. In this hour of stretching\, a local instructor will guide you through gentle movement and breathing practices. All materials are provided\, and all skill levels are welcome. Meet at the 2nd floor Clubhouse.
URL:https://autocamp.com/event/morning-yoga-yosemite/2025-03-08/
LOCATION:AutoCamp Yosemite\, 6323 CA-140\, Midpines\, CA\, 95345\, United States
CATEGORIES:AutoCamp Yosemite
ATTACH;FMTTYPE=image/png:https://autocamp.com/wp-content/uploads/2025/02/Frame-168.png
END:VEVENT
BEGIN:VEVENT
DTSTART;TZID=America/Los_Angeles:20250309T080000
DTEND;TZID=America/Los_Angeles:20250309T090000
DTSTAMP:20260422T024245
CREATED:20250207T210301Z
LAST-MODIFIED:20250616T153508Z
UID:10008739-1741507200-1741510800@autocamp.com
SUMMARY:Morning Yoga
DESCRIPTION:Join our friends from Balanced Rock for a morning yoga session. In this hour of stretching\, a local instructor will guide you through gentle movement and breathing practices. All materials are provided\, and all skill levels are welcome. Meet at the 2nd floor Clubhouse.
URL:https://autocamp.com/event/morning-yoga-yosemite/2025-03-09/
LOCATION:AutoCamp Yosemite\, 6323 CA-140\, Midpines\, CA\, 95345\, United States
CATEGORIES:AutoCamp Yosemite
ATTACH;FMTTYPE=image/png:https://autocamp.com/wp-content/uploads/2025/02/Frame-168.png
END:VEVENT
BEGIN:VEVENT
DTSTART;TZID=America/Los_Angeles:20250314T180000
DTEND;TZID=America/Los_Angeles:20250314T200000
DTSTAMP:20260422T024245
CREATED:20250227T235925Z
LAST-MODIFIED:20250511T232454Z
UID:10009523-1741975200-1741982400@autocamp.com
SUMMARY:Live Music
DESCRIPTION:Gather at the Clubhouse’s communal fire pit and listen to some live tunes. We invite you to ease into your weekend evenings with good company and good music. All ages are welcome. Come hang out\, grab a drink at the bar\, and enjoy!
URL:https://autocamp.com/event/live-music-yosemite-2/2025-03-14/
LOCATION:AutoCamp Yosemite\, 6323 CA-140\, Midpines\, CA\, 95345\, United States
CATEGORIES:AutoCamp Yosemite
ATTACH;FMTTYPE=image/png:https://autocamp.com/wp-content/uploads/2025/02/Frame-168-2.png
END:VEVENT
BEGIN:VEVENT
DTSTART;TZID=America/Los_Angeles:20250315T080000
DTEND;TZID=America/Los_Angeles:20250315T090000
DTSTAMP:20260422T024245
CREATED:20250207T210301Z
LAST-MODIFIED:20250616T153508Z
UID:10008740-1742025600-1742029200@autocamp.com
SUMMARY:Morning Yoga
DESCRIPTION:Join our friends from Balanced Rock for a morning yoga session. In this hour of stretching\, a local instructor will guide you through gentle movement and breathing practices. All materials are provided\, and all skill levels are welcome. Meet at the 2nd floor Clubhouse.
URL:https://autocamp.com/event/morning-yoga-yosemite/2025-03-15/
LOCATION:AutoCamp Yosemite\, 6323 CA-140\, Midpines\, CA\, 95345\, United States
CATEGORIES:AutoCamp Yosemite
ATTACH;FMTTYPE=image/png:https://autocamp.com/wp-content/uploads/2025/02/Frame-168.png
END:VEVENT
BEGIN:VEVENT
DTSTART;TZID=America/Los_Angeles:20250315T180000
DTEND;TZID=America/Los_Angeles:20250315T200000
DTSTAMP:20260422T024245
CREATED:20250227T235925Z
LAST-MODIFIED:20250511T232454Z
UID:10009524-1742061600-1742068800@autocamp.com
SUMMARY:Live Music
DESCRIPTION:Gather at the Clubhouse’s communal fire pit and listen to some live tunes. We invite you to ease into your weekend evenings with good company and good music. All ages are welcome. Come hang out\, grab a drink at the bar\, and enjoy!
URL:https://autocamp.com/event/live-music-yosemite-2/2025-03-15/
LOCATION:AutoCamp Yosemite\, 6323 CA-140\, Midpines\, CA\, 95345\, United States
CATEGORIES:AutoCamp Yosemite
ATTACH;FMTTYPE=image/png:https://autocamp.com/wp-content/uploads/2025/02/Frame-168-2.png
END:VEVENT
BEGIN:VEVENT
DTSTART;TZID=America/Los_Angeles:20250316T080000
DTEND;TZID=America/Los_Angeles:20250316T090000
DTSTAMP:20260422T024245
CREATED:20250207T210301Z
LAST-MODIFIED:20250616T153508Z
UID:10008741-1742112000-1742115600@autocamp.com
SUMMARY:Morning Yoga
DESCRIPTION:Join our friends from Balanced Rock for a morning yoga session. In this hour of stretching\, a local instructor will guide you through gentle movement and breathing practices. All materials are provided\, and all skill levels are welcome. Meet at the 2nd floor Clubhouse.
URL:https://autocamp.com/event/morning-yoga-yosemite/2025-03-16/
LOCATION:AutoCamp Yosemite\, 6323 CA-140\, Midpines\, CA\, 95345\, United States
CATEGORIES:AutoCamp Yosemite
ATTACH;FMTTYPE=image/png:https://autocamp.com/wp-content/uploads/2025/02/Frame-168.png
END:VEVENT
BEGIN:VEVENT
DTSTART;TZID=America/Los_Angeles:20250316T171500
DTEND;TZID=America/Los_Angeles:20250316T193000
DTSTAMP:20260422T024245
CREATED:20250227T235013Z
LAST-MODIFIED:20250228T000409Z
UID:10017607-1742145300-1742153400@autocamp.com
SUMMARY:Stargazing
DESCRIPTION:Join us for a curated\, cosmic\, educational experience under the stars. Just after dusk join local astronomer Andy Skinner to view planets and constellations and learn how to identify them. This is a unique interactive experience. Grab your favorite beverage and snacks from our General Store\, and enjoy your journey to the cosmos. \nStargazing is dependent upon weather and visibility.  Time will vary\,  If it is canceled\, you will be notified in advance. \nPro tip: Grab a s’mores kit from the General Store and treat yourself after this night sky experience! See if you can continue to identify the constellations and planets as they move in the night sky.
URL:https://autocamp.com/event/stargazing-2/2025-03-16/
LOCATION:AutoCamp Yosemite\, 6323 CA-140\, Midpines\, CA\, 95345\, United States
CATEGORIES:AutoCamp Yosemite
ATTACH;FMTTYPE=image/png:https://autocamp.com/wp-content/uploads/2025/02/Frame-168-4.png
END:VEVENT
BEGIN:VEVENT
DTSTART;TZID=America/Los_Angeles:20250321T180000
DTEND;TZID=America/Los_Angeles:20250321T200000
DTSTAMP:20260422T024245
CREATED:20250227T235925Z
LAST-MODIFIED:20250511T232454Z
UID:10017617-1742580000-1742587200@autocamp.com
SUMMARY:Live Music
DESCRIPTION:Gather at the Clubhouse’s communal fire pit and listen to some live tunes. We invite you to ease into your weekend evenings with good company and good music. All ages are welcome. Come hang out\, grab a drink at the bar\, and enjoy!
URL:https://autocamp.com/event/live-music-yosemite-2/2025-03-21/
LOCATION:AutoCamp Yosemite\, 6323 CA-140\, Midpines\, CA\, 95345\, United States
CATEGORIES:AutoCamp Yosemite
ATTACH;FMTTYPE=image/png:https://autocamp.com/wp-content/uploads/2025/02/Frame-168-2.png
END:VEVENT
BEGIN:VEVENT
DTSTART;TZID=America/Los_Angeles:20250322T080000
DTEND;TZID=America/Los_Angeles:20250322T090000
DTSTAMP:20260422T024245
CREATED:20250207T210301Z
LAST-MODIFIED:20250616T153508Z
UID:10008742-1742630400-1742634000@autocamp.com
SUMMARY:Morning Yoga
DESCRIPTION:Join our friends from Balanced Rock for a morning yoga session. In this hour of stretching\, a local instructor will guide you through gentle movement and breathing practices. All materials are provided\, and all skill levels are welcome. Meet at the 2nd floor Clubhouse.
URL:https://autocamp.com/event/morning-yoga-yosemite/2025-03-22/
LOCATION:AutoCamp Yosemite\, 6323 CA-140\, Midpines\, CA\, 95345\, United States
CATEGORIES:AutoCamp Yosemite
ATTACH;FMTTYPE=image/png:https://autocamp.com/wp-content/uploads/2025/02/Frame-168.png
END:VEVENT
BEGIN:VEVENT
DTSTART;TZID=America/Los_Angeles:20250323T080000
DTEND;TZID=America/Los_Angeles:20250323T090000
DTSTAMP:20260422T024245
CREATED:20250207T210301Z
LAST-MODIFIED:20250616T153508Z
UID:10008743-1742716800-1742720400@autocamp.com
SUMMARY:Morning Yoga
DESCRIPTION:Join our friends from Balanced Rock for a morning yoga session. In this hour of stretching\, a local instructor will guide you through gentle movement and breathing practices. All materials are provided\, and all skill levels are welcome. Meet at the 2nd floor Clubhouse.
URL:https://autocamp.com/event/morning-yoga-yosemite/2025-03-23/
LOCATION:AutoCamp Yosemite\, 6323 CA-140\, Midpines\, CA\, 95345\, United States
CATEGORIES:AutoCamp Yosemite
ATTACH;FMTTYPE=image/png:https://autocamp.com/wp-content/uploads/2025/02/Frame-168.png
END:VEVENT
BEGIN:VEVENT
DTSTART;TZID=America/Los_Angeles:20250328T180000
DTEND;TZID=America/Los_Angeles:20250328T200000
DTSTAMP:20260422T024245
CREATED:20250227T235925Z
LAST-MODIFIED:20250511T232454Z
UID:10009527-1743184800-1743192000@autocamp.com
SUMMARY:Live Music
DESCRIPTION:Gather at the Clubhouse’s communal fire pit and listen to some live tunes. We invite you to ease into your weekend evenings with good company and good music. All ages are welcome. Come hang out\, grab a drink at the bar\, and enjoy!
URL:https://autocamp.com/event/live-music-yosemite-2/2025-03-28/
LOCATION:AutoCamp Yosemite\, 6323 CA-140\, Midpines\, CA\, 95345\, United States
CATEGORIES:AutoCamp Yosemite
ATTACH;FMTTYPE=image/png:https://autocamp.com/wp-content/uploads/2025/02/Frame-168-2.png
END:VEVENT
BEGIN:VEVENT
DTSTART;TZID=America/Los_Angeles:20250329T080000
DTEND;TZID=America/Los_Angeles:20250329T090000
DTSTAMP:20260422T024245
CREATED:20250207T210301Z
LAST-MODIFIED:20250616T153508Z
UID:10008744-1743235200-1743238800@autocamp.com
SUMMARY:Morning Yoga
DESCRIPTION:Join our friends from Balanced Rock for a morning yoga session. In this hour of stretching\, a local instructor will guide you through gentle movement and breathing practices. All materials are provided\, and all skill levels are welcome. Meet at the 2nd floor Clubhouse.
URL:https://autocamp.com/event/morning-yoga-yosemite/2025-03-29/
LOCATION:AutoCamp Yosemite\, 6323 CA-140\, Midpines\, CA\, 95345\, United States
CATEGORIES:AutoCamp Yosemite
ATTACH;FMTTYPE=image/png:https://autocamp.com/wp-content/uploads/2025/02/Frame-168.png
END:VEVENT
BEGIN:VEVENT
DTSTART;TZID=America/Los_Angeles:20250329T180000
DTEND;TZID=America/Los_Angeles:20250329T200000
DTSTAMP:20260422T024245
CREATED:20250227T235925Z
LAST-MODIFIED:20250511T232454Z
UID:10009528-1743271200-1743278400@autocamp.com
SUMMARY:Live Music
DESCRIPTION:Gather at the Clubhouse’s communal fire pit and listen to some live tunes. We invite you to ease into your weekend evenings with good company and good music. All ages are welcome. Come hang out\, grab a drink at the bar\, and enjoy!
URL:https://autocamp.com/event/live-music-yosemite-2/2025-03-29/
LOCATION:AutoCamp Yosemite\, 6323 CA-140\, Midpines\, CA\, 95345\, United States
CATEGORIES:AutoCamp Yosemite
ATTACH;FMTTYPE=image/png:https://autocamp.com/wp-content/uploads/2025/02/Frame-168-2.png
END:VEVENT
BEGIN:VEVENT
DTSTART;TZID=America/Los_Angeles:20250330T080000
DTEND;TZID=America/Los_Angeles:20250330T090000
DTSTAMP:20260422T024245
CREATED:20250207T210301Z
LAST-MODIFIED:20250616T153508Z
UID:10008745-1743321600-1743325200@autocamp.com
SUMMARY:Morning Yoga
DESCRIPTION:Join our friends from Balanced Rock for a morning yoga session. In this hour of stretching\, a local instructor will guide you through gentle movement and breathing practices. All materials are provided\, and all skill levels are welcome. Meet at the 2nd floor Clubhouse.
URL:https://autocamp.com/event/morning-yoga-yosemite/2025-03-30/
LOCATION:AutoCamp Yosemite\, 6323 CA-140\, Midpines\, CA\, 95345\, United States
CATEGORIES:AutoCamp Yosemite
ATTACH;FMTTYPE=image/png:https://autocamp.com/wp-content/uploads/2025/02/Frame-168.png
END:VEVENT
BEGIN:VEVENT
DTSTART;TZID=America/Los_Angeles:20250404T180000
DTEND;TZID=America/Los_Angeles:20250404T200000
DTSTAMP:20260422T024245
CREATED:20250227T235925Z
LAST-MODIFIED:20250511T232454Z
UID:10009529-1743789600-1743796800@autocamp.com
SUMMARY:Live Music
DESCRIPTION:Gather at the Clubhouse’s communal fire pit and listen to some live tunes. We invite you to ease into your weekend evenings with good company and good music. All ages are welcome. Come hang out\, grab a drink at the bar\, and enjoy!
URL:https://autocamp.com/event/live-music-yosemite-2/2025-04-04/
LOCATION:AutoCamp Yosemite\, 6323 CA-140\, Midpines\, CA\, 95345\, United States
CATEGORIES:AutoCamp Yosemite
ATTACH;FMTTYPE=image/png:https://autocamp.com/wp-content/uploads/2025/02/Frame-168-2.png
END:VEVENT
BEGIN:VEVENT
DTSTART;TZID=America/Los_Angeles:20250405T080000
DTEND;TZID=America/Los_Angeles:20250405T090000
DTSTAMP:20260422T024245
CREATED:20250207T210301Z
LAST-MODIFIED:20250616T153508Z
UID:10008746-1743840000-1743843600@autocamp.com
SUMMARY:Morning Yoga
DESCRIPTION:Join our friends from Balanced Rock for a morning yoga session. In this hour of stretching\, a local instructor will guide you through gentle movement and breathing practices. All materials are provided\, and all skill levels are welcome. Meet at the 2nd floor Clubhouse.
URL:https://autocamp.com/event/morning-yoga-yosemite/2025-04-05/
LOCATION:AutoCamp Yosemite\, 6323 CA-140\, Midpines\, CA\, 95345\, United States
CATEGORIES:AutoCamp Yosemite
ATTACH;FMTTYPE=image/png:https://autocamp.com/wp-content/uploads/2025/02/Frame-168.png
END:VEVENT
BEGIN:VEVENT
DTSTART;TZID=America/Los_Angeles:20250405T180000
DTEND;TZID=America/Los_Angeles:20250405T200000
DTSTAMP:20260422T024245
CREATED:20250227T235925Z
LAST-MODIFIED:20250511T232454Z
UID:10009530-1743876000-1743883200@autocamp.com
SUMMARY:Live Music
DESCRIPTION:Gather at the Clubhouse’s communal fire pit and listen to some live tunes. We invite you to ease into your weekend evenings with good company and good music. All ages are welcome. Come hang out\, grab a drink at the bar\, and enjoy!
URL:https://autocamp.com/event/live-music-yosemite-2/2025-04-05/
LOCATION:AutoCamp Yosemite\, 6323 CA-140\, Midpines\, CA\, 95345\, United States
CATEGORIES:AutoCamp Yosemite
ATTACH;FMTTYPE=image/png:https://autocamp.com/wp-content/uploads/2025/02/Frame-168-2.png
END:VEVENT
BEGIN:VEVENT
DTSTART;TZID=America/Los_Angeles:20250406T080000
DTEND;TZID=America/Los_Angeles:20250406T090000
DTSTAMP:20260422T024245
CREATED:20250207T210301Z
LAST-MODIFIED:20250616T153508Z
UID:10008747-1743926400-1743930000@autocamp.com
SUMMARY:Morning Yoga
DESCRIPTION:Join our friends from Balanced Rock for a morning yoga session. In this hour of stretching\, a local instructor will guide you through gentle movement and breathing practices. All materials are provided\, and all skill levels are welcome. Meet at the 2nd floor Clubhouse.
URL:https://autocamp.com/event/morning-yoga-yosemite/2025-04-06/
LOCATION:AutoCamp Yosemite\, 6323 CA-140\, Midpines\, CA\, 95345\, United States
CATEGORIES:AutoCamp Yosemite
ATTACH;FMTTYPE=image/png:https://autocamp.com/wp-content/uploads/2025/02/Frame-168.png
END:VEVENT
BEGIN:VEVENT
DTSTART;TZID=America/Los_Angeles:20250411T180000
DTEND;TZID=America/Los_Angeles:20250411T200000
DTSTAMP:20260422T024245
CREATED:20250227T235925Z
LAST-MODIFIED:20250511T232454Z
UID:10009531-1744394400-1744401600@autocamp.com
SUMMARY:Live Music
DESCRIPTION:Gather at the Clubhouse’s communal fire pit and listen to some live tunes. We invite you to ease into your weekend evenings with good company and good music. All ages are welcome. Come hang out\, grab a drink at the bar\, and enjoy!
URL:https://autocamp.com/event/live-music-yosemite-2/2025-04-11/
LOCATION:AutoCamp Yosemite\, 6323 CA-140\, Midpines\, CA\, 95345\, United States
CATEGORIES:AutoCamp Yosemite
ATTACH;FMTTYPE=image/png:https://autocamp.com/wp-content/uploads/2025/02/Frame-168-2.png
END:VEVENT
END:VCALENDAR