BEGIN:VCALENDAR
VERSION:2.0
PRODID:-//AutoCamp - ECPv6.15.0.1//NONSGML v1.0//EN
CALSCALE:GREGORIAN
METHOD:PUBLISH
X-ORIGINAL-URL:https://autocamp.com
X-WR-CALDESC:Events for AutoCamp
REFRESH-INTERVAL;VALUE=DURATION:PT1H
X-Robots-Tag:noindex
X-PUBLISHED-TTL:PT1H
BEGIN:VTIMEZONE
TZID:America/Los_Angeles
BEGIN:DAYLIGHT
TZOFFSETFROM:-0800
TZOFFSETTO:-0700
TZNAME:PDT
DTSTART:20250309T100000
END:DAYLIGHT
BEGIN:STANDARD
TZOFFSETFROM:-0700
TZOFFSETTO:-0800
TZNAME:PST
DTSTART:20251102T090000
END:STANDARD
END:VTIMEZONE
BEGIN:VEVENT
DTSTART;TZID=America/Los_Angeles:20251121T180000
DTEND;TZID=America/Los_Angeles:20251121T200000
DTSTAMP:20260421T214234
CREATED:20250511T232904Z
LAST-MODIFIED:20250511T232905Z
UID:10009595-1763748000-1763755200@autocamp.com
SUMMARY:Live Music
DESCRIPTION:Gather at the Clubhouse’s communal fire pit and listen to some live tunes. We invite you to ease into your weekend evenings with good company and good music. All ages are welcome. Come hang out\, grab a drink at the bar\, and enjoy!
URL:https://autocamp.com/event/live-music-yosemite-2-2/2025-11-21/
LOCATION:AutoCamp Yosemite\, 6323 CA-140\, Midpines\, CA\, 95345\, United States
CATEGORIES:AutoCamp Yosemite
ATTACH;FMTTYPE=image/png:https://autocamp.com/wp-content/uploads/2025/02/Frame-168-2.png
END:VEVENT
BEGIN:VEVENT
DTSTART;TZID=America/Los_Angeles:20251122T080000
DTEND;TZID=America/Los_Angeles:20251122T090000
DTSTAMP:20260421T214234
CREATED:20250207T210301Z
LAST-MODIFIED:20250616T153508Z
UID:10008812-1763798400-1763802000@autocamp.com
SUMMARY:Morning Yoga
DESCRIPTION:Join our friends from Balanced Rock for a morning yoga session. In this hour of stretching\, a local instructor will guide you through gentle movement and breathing practices. All materials are provided\, and all skill levels are welcome. Meet at the 2nd floor Clubhouse.
URL:https://autocamp.com/event/morning-yoga-yosemite/2025-11-22/
LOCATION:AutoCamp Yosemite\, 6323 CA-140\, Midpines\, CA\, 95345\, United States
CATEGORIES:AutoCamp Yosemite
ATTACH;FMTTYPE=image/png:https://autocamp.com/wp-content/uploads/2025/02/Frame-168.png
END:VEVENT
BEGIN:VEVENT
DTSTART;TZID=America/Los_Angeles:20251122T120000
DTEND;TZID=America/Los_Angeles:20251122T140000
DTSTAMP:20260421T214234
CREATED:20251006T160042Z
LAST-MODIFIED:20251006T191731Z
UID:10037072-1763812800-1763820000@autocamp.com
SUMMARY:Kids Autumn Arts n' Crafts
DESCRIPTION:Join us at the Clubhouse for complimentary autumn-themed arts and crafts like pumpkin painting and leaf creatures! Create cherished memories with your family and friends. \nWe will provide all of the needed arts supplies and materials\, and our team will assist you in creating your fun souvenir to remember your outdoor adventure by.
URL:https://autocamp.com/event/kids-autumn-arts-n-crafts-6/2025-11-22/
LOCATION:AutoCamp Yosemite\, 6323 CA-140\, Midpines\, CA\, 95345\, United States
CATEGORIES:AutoCamp Yosemite
ATTACH;FMTTYPE=image/jpeg:https://autocamp.com/wp-content/uploads/2025/02/sigmund-OV44gxH71DU-unsplash-scaled.jpg
END:VEVENT
BEGIN:VEVENT
DTSTART;TZID=America/Los_Angeles:20251122T150000
DTEND;TZID=America/Los_Angeles:20251122T180000
DTSTAMP:20260421T214234
CREATED:20251002T225735Z
LAST-MODIFIED:20251006T192349Z
UID:10035662-1763823600-1763834400@autocamp.com
SUMMARY:Fall Hot Cider Bar
DESCRIPTION:Join us in the Clubhouse\, get cozy and celebrate this fall season with a complimentary hot cider bar – it’s on us. Spike your cider with Bourbon Whiskey for $5.
URL:https://autocamp.com/event/fall-hot-cider-bar/2025-11-22/
LOCATION:AutoCamp Yosemite\, 6323 CA-140\, Midpines\, CA\, 95345\, United States
CATEGORIES:AutoCamp Yosemite
ATTACH;FMTTYPE=image/png:https://autocamp.com/wp-content/uploads/2025/09/Hot-CIder-Bar-2.png
END:VEVENT
BEGIN:VEVENT
DTSTART;TZID=America/Los_Angeles:20251122T180000
DTEND;TZID=America/Los_Angeles:20251122T200000
DTSTAMP:20260421T214234
CREATED:20250511T232904Z
LAST-MODIFIED:20250511T232905Z
UID:10009596-1763834400-1763841600@autocamp.com
SUMMARY:Live Music
DESCRIPTION:Gather at the Clubhouse’s communal fire pit and listen to some live tunes. We invite you to ease into your weekend evenings with good company and good music. All ages are welcome. Come hang out\, grab a drink at the bar\, and enjoy!
URL:https://autocamp.com/event/live-music-yosemite-2-2/2025-11-22/
LOCATION:AutoCamp Yosemite\, 6323 CA-140\, Midpines\, CA\, 95345\, United States
CATEGORIES:AutoCamp Yosemite
ATTACH;FMTTYPE=image/png:https://autocamp.com/wp-content/uploads/2025/02/Frame-168-2.png
END:VEVENT
BEGIN:VEVENT
DTSTART;TZID=America/Los_Angeles:20251123T080000
DTEND;TZID=America/Los_Angeles:20251123T090000
DTSTAMP:20260421T214234
CREATED:20250207T210301Z
LAST-MODIFIED:20250616T153508Z
UID:10008813-1763884800-1763888400@autocamp.com
SUMMARY:Morning Yoga
DESCRIPTION:Join our friends from Balanced Rock for a morning yoga session. In this hour of stretching\, a local instructor will guide you through gentle movement and breathing practices. All materials are provided\, and all skill levels are welcome. Meet at the 2nd floor Clubhouse.
URL:https://autocamp.com/event/morning-yoga-yosemite/2025-11-23/
LOCATION:AutoCamp Yosemite\, 6323 CA-140\, Midpines\, CA\, 95345\, United States
CATEGORIES:AutoCamp Yosemite
ATTACH;FMTTYPE=image/png:https://autocamp.com/wp-content/uploads/2025/02/Frame-168.png
END:VEVENT
BEGIN:VEVENT
DTSTART;TZID=America/Los_Angeles:20251123T150000
DTEND;TZID=America/Los_Angeles:20251123T180000
DTSTAMP:20260421T214234
CREATED:20251002T225735Z
LAST-MODIFIED:20251006T192349Z
UID:10035663-1763910000-1763920800@autocamp.com
SUMMARY:Fall Hot Cider Bar
DESCRIPTION:Join us in the Clubhouse\, get cozy and celebrate this fall season with a complimentary hot cider bar – it’s on us. Spike your cider with Bourbon Whiskey for $5.
URL:https://autocamp.com/event/fall-hot-cider-bar/2025-11-23/
LOCATION:AutoCamp Yosemite\, 6323 CA-140\, Midpines\, CA\, 95345\, United States
CATEGORIES:AutoCamp Yosemite
ATTACH;FMTTYPE=image/png:https://autocamp.com/wp-content/uploads/2025/09/Hot-CIder-Bar-2.png
END:VEVENT
BEGIN:VEVENT
DTSTART;TZID=America/Los_Angeles:20251123T180000
DTEND;TZID=America/Los_Angeles:20251123T193000
DTSTAMP:20260421T214234
CREATED:20251110T210311Z
LAST-MODIFIED:20251110T210311Z
UID:10046769-1763920800-1763926200@autocamp.com
SUMMARY:Stargazing
DESCRIPTION:Join us for a curated\, cosmic\, educational experience under the stars. Just after dusk join local astronomer Andy Skinner to view planets and constellations and learn how to identify them. This is a unique interactive experience. Grab your favorite beverage and snacks from our General Store\, and enjoy your journey to the cosmos. \nStargazing sessions are dependent on weather and sky visibility\, and times may vary based on the season. Please check with the front desk on the day of your visit for the most up-to-date schedule. If stargazing is cancelled due to weather or poor visibility\, our team will notify you directly. \nPro tip: Grab a s’mores kit from the General Store and treat yourself after this night sky experience! See if you can continue to identify the constellations and planets as they move in the night sky.
URL:https://autocamp.com/event/stargazing-2-2-2-2/2025-11-23/
LOCATION:AutoCamp Yosemite\, 6323 CA-140\, Midpines\, CA\, 95345\, United States
CATEGORIES:AutoCamp Yosemite
ATTACH;FMTTYPE=image/png:https://autocamp.com/wp-content/uploads/2025/02/Frame-168-4.png
END:VEVENT
BEGIN:VEVENT
DTSTART;TZID=America/Los_Angeles:20251124T150000
DTEND;TZID=America/Los_Angeles:20251124T180000
DTSTAMP:20260421T214234
CREATED:20251002T225735Z
LAST-MODIFIED:20251006T192349Z
UID:10035664-1763996400-1764007200@autocamp.com
SUMMARY:Fall Hot Cider Bar
DESCRIPTION:Join us in the Clubhouse\, get cozy and celebrate this fall season with a complimentary hot cider bar – it’s on us. Spike your cider with Bourbon Whiskey for $5.
URL:https://autocamp.com/event/fall-hot-cider-bar/2025-11-24/
LOCATION:AutoCamp Yosemite\, 6323 CA-140\, Midpines\, CA\, 95345\, United States
CATEGORIES:AutoCamp Yosemite
ATTACH;FMTTYPE=image/png:https://autocamp.com/wp-content/uploads/2025/09/Hot-CIder-Bar-2.png
END:VEVENT
BEGIN:VEVENT
DTSTART;TZID=America/Los_Angeles:20251125T150000
DTEND;TZID=America/Los_Angeles:20251125T180000
DTSTAMP:20260421T214234
CREATED:20251002T225735Z
LAST-MODIFIED:20251006T192349Z
UID:10035665-1764082800-1764093600@autocamp.com
SUMMARY:Fall Hot Cider Bar
DESCRIPTION:Join us in the Clubhouse\, get cozy and celebrate this fall season with a complimentary hot cider bar – it’s on us. Spike your cider with Bourbon Whiskey for $5.
URL:https://autocamp.com/event/fall-hot-cider-bar/2025-11-25/
LOCATION:AutoCamp Yosemite\, 6323 CA-140\, Midpines\, CA\, 95345\, United States
CATEGORIES:AutoCamp Yosemite
ATTACH;FMTTYPE=image/png:https://autocamp.com/wp-content/uploads/2025/09/Hot-CIder-Bar-2.png
END:VEVENT
BEGIN:VEVENT
DTSTART;TZID=America/Los_Angeles:20251126T150000
DTEND;TZID=America/Los_Angeles:20251126T180000
DTSTAMP:20260421T214234
CREATED:20251002T225735Z
LAST-MODIFIED:20251006T192349Z
UID:10035666-1764169200-1764180000@autocamp.com
SUMMARY:Fall Hot Cider Bar
DESCRIPTION:Join us in the Clubhouse\, get cozy and celebrate this fall season with a complimentary hot cider bar – it’s on us. Spike your cider with Bourbon Whiskey for $5.
URL:https://autocamp.com/event/fall-hot-cider-bar/2025-11-26/
LOCATION:AutoCamp Yosemite\, 6323 CA-140\, Midpines\, CA\, 95345\, United States
CATEGORIES:AutoCamp Yosemite
ATTACH;FMTTYPE=image/png:https://autocamp.com/wp-content/uploads/2025/09/Hot-CIder-Bar-2.png
END:VEVENT
BEGIN:VEVENT
DTSTART;TZID=America/Los_Angeles:20251126T200000
DTEND;TZID=America/Los_Angeles:20251126T210000
DTSTAMP:20260421T214234
CREATED:20250606T200352Z
LAST-MODIFIED:20250616T152553Z
UID:10028368-1764187200-1764190800@autocamp.com
SUMMARY:S'mores
DESCRIPTION:Join us for a celebratory memory-making s’mores experience around our outdoor firepit\, with a lovely view of our pond. When visibility is clear\, we can also enjoy a beautiful starry sky. \nWe look forward to seeing you.  Weather permitting.
URL:https://autocamp.com/event/smores-2/2025-11-26/
LOCATION:AutoCamp Yosemite\, 6323 CA-140\, Midpines\, CA\, 95345\, United States
CATEGORIES:AutoCamp Yosemite
ATTACH;FMTTYPE=image/png:https://autocamp.com/wp-content/uploads/2025/02/Frame-168-4-1.png
END:VEVENT
BEGIN:VEVENT
DTSTART;TZID=America/Los_Angeles:20251127T150000
DTEND;TZID=America/Los_Angeles:20251127T180000
DTSTAMP:20260421T214234
CREATED:20251002T225735Z
LAST-MODIFIED:20251006T192349Z
UID:10035667-1764255600-1764266400@autocamp.com
SUMMARY:Fall Hot Cider Bar
DESCRIPTION:Join us in the Clubhouse\, get cozy and celebrate this fall season with a complimentary hot cider bar – it’s on us. Spike your cider with Bourbon Whiskey for $5.
URL:https://autocamp.com/event/fall-hot-cider-bar/2025-11-27/
LOCATION:AutoCamp Yosemite\, 6323 CA-140\, Midpines\, CA\, 95345\, United States
CATEGORIES:AutoCamp Yosemite
ATTACH;FMTTYPE=image/png:https://autocamp.com/wp-content/uploads/2025/09/Hot-CIder-Bar-2.png
END:VEVENT
BEGIN:VEVENT
DTSTART;TZID=America/Los_Angeles:20251127T190000
DTEND;TZID=America/Los_Angeles:20251127T200000
DTSTAMP:20260421T214234
CREATED:20250606T200523Z
LAST-MODIFIED:20250606T200525Z
UID:10028628-1764270000-1764273600@autocamp.com
SUMMARY:Rock Painting
DESCRIPTION:Join us at the Clubhouse for a complimentary rock painting event! Create cherished memories with your family and friends. \nWe will provide rocks and acrylic paint\, and our team will assist you in applying a sealant overnight so you can pick up your masterpieces the following morning.
URL:https://autocamp.com/event/rock-painting-3/2025-11-27/
LOCATION:AutoCamp Yosemite\, 6323 CA-140\, Midpines\, CA\, 95345\, United States
CATEGORIES:AutoCamp Yosemite
ATTACH;FMTTYPE=image/png:https://autocamp.com/wp-content/uploads/2025/02/Frame-168-5-1.png
END:VEVENT
BEGIN:VEVENT
DTSTART;TZID=America/Los_Angeles:20251128T120000
DTEND;TZID=America/Los_Angeles:20251128T140000
DTSTAMP:20260421T214234
CREATED:20251006T160042Z
LAST-MODIFIED:20251006T191731Z
UID:10037073-1764331200-1764338400@autocamp.com
SUMMARY:Kids Autumn Arts n' Crafts
DESCRIPTION:Join us at the Clubhouse for complimentary autumn-themed arts and crafts like pumpkin painting and leaf creatures! Create cherished memories with your family and friends. \nWe will provide all of the needed arts supplies and materials\, and our team will assist you in creating your fun souvenir to remember your outdoor adventure by.
URL:https://autocamp.com/event/kids-autumn-arts-n-crafts-6/2025-11-28/
LOCATION:AutoCamp Yosemite\, 6323 CA-140\, Midpines\, CA\, 95345\, United States
CATEGORIES:AutoCamp Yosemite
ATTACH;FMTTYPE=image/jpeg:https://autocamp.com/wp-content/uploads/2025/02/sigmund-OV44gxH71DU-unsplash-scaled.jpg
END:VEVENT
BEGIN:VEVENT
DTSTART;TZID=America/Los_Angeles:20251128T150000
DTEND;TZID=America/Los_Angeles:20251128T180000
DTSTAMP:20260421T214234
CREATED:20251002T225735Z
LAST-MODIFIED:20251006T192349Z
UID:10035668-1764342000-1764352800@autocamp.com
SUMMARY:Fall Hot Cider Bar
DESCRIPTION:Join us in the Clubhouse\, get cozy and celebrate this fall season with a complimentary hot cider bar – it’s on us. Spike your cider with Bourbon Whiskey for $5.
URL:https://autocamp.com/event/fall-hot-cider-bar/2025-11-28/
LOCATION:AutoCamp Yosemite\, 6323 CA-140\, Midpines\, CA\, 95345\, United States
CATEGORIES:AutoCamp Yosemite
ATTACH;FMTTYPE=image/png:https://autocamp.com/wp-content/uploads/2025/09/Hot-CIder-Bar-2.png
END:VEVENT
BEGIN:VEVENT
DTSTART;TZID=America/Los_Angeles:20251128T180000
DTEND;TZID=America/Los_Angeles:20251128T200000
DTSTAMP:20260421T214234
CREATED:20250511T232904Z
LAST-MODIFIED:20250511T232905Z
UID:10009597-1764352800-1764360000@autocamp.com
SUMMARY:Live Music
DESCRIPTION:Gather at the Clubhouse’s communal fire pit and listen to some live tunes. We invite you to ease into your weekend evenings with good company and good music. All ages are welcome. Come hang out\, grab a drink at the bar\, and enjoy!
URL:https://autocamp.com/event/live-music-yosemite-2-2/2025-11-28/
LOCATION:AutoCamp Yosemite\, 6323 CA-140\, Midpines\, CA\, 95345\, United States
CATEGORIES:AutoCamp Yosemite
ATTACH;FMTTYPE=image/png:https://autocamp.com/wp-content/uploads/2025/02/Frame-168-2.png
END:VEVENT
BEGIN:VEVENT
DTSTART;TZID=America/Los_Angeles:20251129T080000
DTEND;TZID=America/Los_Angeles:20251129T090000
DTSTAMP:20260421T214234
CREATED:20250207T210301Z
LAST-MODIFIED:20250616T153508Z
UID:10008814-1764403200-1764406800@autocamp.com
SUMMARY:Morning Yoga
DESCRIPTION:Join our friends from Balanced Rock for a morning yoga session. In this hour of stretching\, a local instructor will guide you through gentle movement and breathing practices. All materials are provided\, and all skill levels are welcome. Meet at the 2nd floor Clubhouse.
URL:https://autocamp.com/event/morning-yoga-yosemite/2025-11-29/
LOCATION:AutoCamp Yosemite\, 6323 CA-140\, Midpines\, CA\, 95345\, United States
CATEGORIES:AutoCamp Yosemite
ATTACH;FMTTYPE=image/png:https://autocamp.com/wp-content/uploads/2025/02/Frame-168.png
END:VEVENT
BEGIN:VEVENT
DTSTART;TZID=America/Los_Angeles:20251129T120000
DTEND;TZID=America/Los_Angeles:20251129T140000
DTSTAMP:20260421T214234
CREATED:20251006T160042Z
LAST-MODIFIED:20251006T191731Z
UID:10037074-1764417600-1764424800@autocamp.com
SUMMARY:Kids Autumn Arts n' Crafts
DESCRIPTION:Join us at the Clubhouse for complimentary autumn-themed arts and crafts like pumpkin painting and leaf creatures! Create cherished memories with your family and friends. \nWe will provide all of the needed arts supplies and materials\, and our team will assist you in creating your fun souvenir to remember your outdoor adventure by.
URL:https://autocamp.com/event/kids-autumn-arts-n-crafts-6/2025-11-29/
LOCATION:AutoCamp Yosemite\, 6323 CA-140\, Midpines\, CA\, 95345\, United States
CATEGORIES:AutoCamp Yosemite
ATTACH;FMTTYPE=image/jpeg:https://autocamp.com/wp-content/uploads/2025/02/sigmund-OV44gxH71DU-unsplash-scaled.jpg
END:VEVENT
BEGIN:VEVENT
DTSTART;TZID=America/Los_Angeles:20251129T150000
DTEND;TZID=America/Los_Angeles:20251129T180000
DTSTAMP:20260421T214234
CREATED:20251002T225735Z
LAST-MODIFIED:20251006T192349Z
UID:10035669-1764428400-1764439200@autocamp.com
SUMMARY:Fall Hot Cider Bar
DESCRIPTION:Join us in the Clubhouse\, get cozy and celebrate this fall season with a complimentary hot cider bar – it’s on us. Spike your cider with Bourbon Whiskey for $5.
URL:https://autocamp.com/event/fall-hot-cider-bar/2025-11-29/
LOCATION:AutoCamp Yosemite\, 6323 CA-140\, Midpines\, CA\, 95345\, United States
CATEGORIES:AutoCamp Yosemite
ATTACH;FMTTYPE=image/png:https://autocamp.com/wp-content/uploads/2025/09/Hot-CIder-Bar-2.png
END:VEVENT
BEGIN:VEVENT
DTSTART;TZID=America/Los_Angeles:20251129T180000
DTEND;TZID=America/Los_Angeles:20251129T200000
DTSTAMP:20260421T214234
CREATED:20250511T232904Z
LAST-MODIFIED:20250511T232905Z
UID:10009598-1764439200-1764446400@autocamp.com
SUMMARY:Live Music
DESCRIPTION:Gather at the Clubhouse’s communal fire pit and listen to some live tunes. We invite you to ease into your weekend evenings with good company and good music. All ages are welcome. Come hang out\, grab a drink at the bar\, and enjoy!
URL:https://autocamp.com/event/live-music-yosemite-2-2/2025-11-29/
LOCATION:AutoCamp Yosemite\, 6323 CA-140\, Midpines\, CA\, 95345\, United States
CATEGORIES:AutoCamp Yosemite
ATTACH;FMTTYPE=image/png:https://autocamp.com/wp-content/uploads/2025/02/Frame-168-2.png
END:VEVENT
BEGIN:VEVENT
DTSTART;TZID=America/Los_Angeles:20251130T080000
DTEND;TZID=America/Los_Angeles:20251130T090000
DTSTAMP:20260421T214234
CREATED:20250207T210301Z
LAST-MODIFIED:20250616T153508Z
UID:10008815-1764489600-1764493200@autocamp.com
SUMMARY:Morning Yoga
DESCRIPTION:Join our friends from Balanced Rock for a morning yoga session. In this hour of stretching\, a local instructor will guide you through gentle movement and breathing practices. All materials are provided\, and all skill levels are welcome. Meet at the 2nd floor Clubhouse.
URL:https://autocamp.com/event/morning-yoga-yosemite/2025-11-30/
LOCATION:AutoCamp Yosemite\, 6323 CA-140\, Midpines\, CA\, 95345\, United States
CATEGORIES:AutoCamp Yosemite
ATTACH;FMTTYPE=image/png:https://autocamp.com/wp-content/uploads/2025/02/Frame-168.png
END:VEVENT
BEGIN:VEVENT
DTSTART;TZID=America/Los_Angeles:20251130T150000
DTEND;TZID=America/Los_Angeles:20251130T180000
DTSTAMP:20260421T214234
CREATED:20251002T225735Z
LAST-MODIFIED:20251006T192349Z
UID:10035670-1764514800-1764525600@autocamp.com
SUMMARY:Fall Hot Cider Bar
DESCRIPTION:Join us in the Clubhouse\, get cozy and celebrate this fall season with a complimentary hot cider bar – it’s on us. Spike your cider with Bourbon Whiskey for $5.
URL:https://autocamp.com/event/fall-hot-cider-bar/2025-11-30/
LOCATION:AutoCamp Yosemite\, 6323 CA-140\, Midpines\, CA\, 95345\, United States
CATEGORIES:AutoCamp Yosemite
ATTACH;FMTTYPE=image/png:https://autocamp.com/wp-content/uploads/2025/09/Hot-CIder-Bar-2.png
END:VEVENT
BEGIN:VEVENT
DTSTART;TZID=America/Los_Angeles:20251130T180000
DTEND;TZID=America/Los_Angeles:20251130T193000
DTSTAMP:20260421T214234
CREATED:20251110T210311Z
LAST-MODIFIED:20251110T210311Z
UID:10046770-1764525600-1764531000@autocamp.com
SUMMARY:Stargazing
DESCRIPTION:Join us for a curated\, cosmic\, educational experience under the stars. Just after dusk join local astronomer Andy Skinner to view planets and constellations and learn how to identify them. This is a unique interactive experience. Grab your favorite beverage and snacks from our General Store\, and enjoy your journey to the cosmos. \nStargazing sessions are dependent on weather and sky visibility\, and times may vary based on the season. Please check with the front desk on the day of your visit for the most up-to-date schedule. If stargazing is cancelled due to weather or poor visibility\, our team will notify you directly. \nPro tip: Grab a s’mores kit from the General Store and treat yourself after this night sky experience! See if you can continue to identify the constellations and planets as they move in the night sky.
URL:https://autocamp.com/event/stargazing-2-2-2-2/2025-11-30/
LOCATION:AutoCamp Yosemite\, 6323 CA-140\, Midpines\, CA\, 95345\, United States
CATEGORIES:AutoCamp Yosemite
ATTACH;FMTTYPE=image/png:https://autocamp.com/wp-content/uploads/2025/02/Frame-168-4.png
END:VEVENT
BEGIN:VEVENT
DTSTART;TZID=America/Los_Angeles:20251201T150000
DTEND;TZID=America/Los_Angeles:20251201T180000
DTSTAMP:20260421T214234
CREATED:20251126T163713Z
LAST-MODIFIED:20251126T163713Z
UID:10049065-1764601200-1764612000@autocamp.com
SUMMARY:Hot Cocoa Bar
DESCRIPTION:Head to the Clubhouse for a toasty drink\, and settle in by the indoor fire pit for a cozy evening. The complimentary hot cocoa is on us. Spike your cocoa with peppermint schnapps for $5.
URL:https://autocamp.com/event/hot-cocoa-bar-6/2025-12-01/
LOCATION:AutoCamp Yosemite\, 6323 CA-140\, Midpines\, CA\, 95345\, United States
CATEGORIES:AutoCamp Yosemite
ATTACH;FMTTYPE=image/png:https://autocamp.com/wp-content/uploads/2025/02/Frame-168-3.png
END:VEVENT
BEGIN:VEVENT
DTSTART;TZID=America/Los_Angeles:20251202T150000
DTEND;TZID=America/Los_Angeles:20251202T180000
DTSTAMP:20260421T214234
CREATED:20251126T163713Z
LAST-MODIFIED:20251126T163713Z
UID:10049066-1764687600-1764698400@autocamp.com
SUMMARY:Hot Cocoa Bar
DESCRIPTION:Head to the Clubhouse for a toasty drink\, and settle in by the indoor fire pit for a cozy evening. The complimentary hot cocoa is on us. Spike your cocoa with peppermint schnapps for $5.
URL:https://autocamp.com/event/hot-cocoa-bar-6/2025-12-02/
LOCATION:AutoCamp Yosemite\, 6323 CA-140\, Midpines\, CA\, 95345\, United States
CATEGORIES:AutoCamp Yosemite
ATTACH;FMTTYPE=image/png:https://autocamp.com/wp-content/uploads/2025/02/Frame-168-3.png
END:VEVENT
BEGIN:VEVENT
DTSTART;TZID=America/Los_Angeles:20251203T150000
DTEND;TZID=America/Los_Angeles:20251203T180000
DTSTAMP:20260421T214234
CREATED:20251126T163713Z
LAST-MODIFIED:20251126T163713Z
UID:10049067-1764774000-1764784800@autocamp.com
SUMMARY:Hot Cocoa Bar
DESCRIPTION:Head to the Clubhouse for a toasty drink\, and settle in by the indoor fire pit for a cozy evening. The complimentary hot cocoa is on us. Spike your cocoa with peppermint schnapps for $5.
URL:https://autocamp.com/event/hot-cocoa-bar-6/2025-12-03/
LOCATION:AutoCamp Yosemite\, 6323 CA-140\, Midpines\, CA\, 95345\, United States
CATEGORIES:AutoCamp Yosemite
ATTACH;FMTTYPE=image/png:https://autocamp.com/wp-content/uploads/2025/02/Frame-168-3.png
END:VEVENT
BEGIN:VEVENT
DTSTART;TZID=America/Los_Angeles:20251203T200000
DTEND;TZID=America/Los_Angeles:20251203T210000
DTSTAMP:20260421T214234
CREATED:20250606T200352Z
LAST-MODIFIED:20250616T152553Z
UID:10028369-1764792000-1764795600@autocamp.com
SUMMARY:S'mores
DESCRIPTION:Join us for a celebratory memory-making s’mores experience around our outdoor firepit\, with a lovely view of our pond. When visibility is clear\, we can also enjoy a beautiful starry sky. \nWe look forward to seeing you.  Weather permitting.
URL:https://autocamp.com/event/smores-2/2025-12-03/
LOCATION:AutoCamp Yosemite\, 6323 CA-140\, Midpines\, CA\, 95345\, United States
CATEGORIES:AutoCamp Yosemite
ATTACH;FMTTYPE=image/png:https://autocamp.com/wp-content/uploads/2025/02/Frame-168-4-1.png
END:VEVENT
BEGIN:VEVENT
DTSTART;TZID=America/Los_Angeles:20251204T150000
DTEND;TZID=America/Los_Angeles:20251204T180000
DTSTAMP:20260421T214234
CREATED:20251126T163713Z
LAST-MODIFIED:20251126T163713Z
UID:10049068-1764860400-1764871200@autocamp.com
SUMMARY:Hot Cocoa Bar
DESCRIPTION:Head to the Clubhouse for a toasty drink\, and settle in by the indoor fire pit for a cozy evening. The complimentary hot cocoa is on us. Spike your cocoa with peppermint schnapps for $5.
URL:https://autocamp.com/event/hot-cocoa-bar-6/2025-12-04/
LOCATION:AutoCamp Yosemite\, 6323 CA-140\, Midpines\, CA\, 95345\, United States
CATEGORIES:AutoCamp Yosemite
ATTACH;FMTTYPE=image/png:https://autocamp.com/wp-content/uploads/2025/02/Frame-168-3.png
END:VEVENT
BEGIN:VEVENT
DTSTART;TZID=America/Los_Angeles:20251204T190000
DTEND;TZID=America/Los_Angeles:20251204T200000
DTSTAMP:20260421T214234
CREATED:20250606T200523Z
LAST-MODIFIED:20250606T200525Z
UID:10028629-1764874800-1764878400@autocamp.com
SUMMARY:Rock Painting
DESCRIPTION:Join us at the Clubhouse for a complimentary rock painting event! Create cherished memories with your family and friends. \nWe will provide rocks and acrylic paint\, and our team will assist you in applying a sealant overnight so you can pick up your masterpieces the following morning.
URL:https://autocamp.com/event/rock-painting-3/2025-12-04/
LOCATION:AutoCamp Yosemite\, 6323 CA-140\, Midpines\, CA\, 95345\, United States
CATEGORIES:AutoCamp Yosemite
ATTACH;FMTTYPE=image/png:https://autocamp.com/wp-content/uploads/2025/02/Frame-168-5-1.png
END:VEVENT
END:VCALENDAR