BEGIN:VCALENDAR
VERSION:2.0
PRODID:-//AutoCamp - ECPv6.15.0.1//NONSGML v1.0//EN
CALSCALE:GREGORIAN
METHOD:PUBLISH
X-ORIGINAL-URL:https://autocamp.com
X-WR-CALDESC:Events for AutoCamp
REFRESH-INTERVAL;VALUE=DURATION:PT1H
X-Robots-Tag:noindex
X-PUBLISHED-TTL:PT1H
BEGIN:VTIMEZONE
TZID:America/Los_Angeles
BEGIN:DAYLIGHT
TZOFFSETFROM:-0800
TZOFFSETTO:-0700
TZNAME:PDT
DTSTART:20250309T100000
END:DAYLIGHT
BEGIN:STANDARD
TZOFFSETFROM:-0700
TZOFFSETTO:-0800
TZNAME:PST
DTSTART:20251102T090000
END:STANDARD
END:VTIMEZONE
BEGIN:VEVENT
DTSTART;TZID=America/Los_Angeles:20250425T180000
DTEND;TZID=America/Los_Angeles:20250425T200000
DTSTAMP:20260421T095436
CREATED:20250227T235925Z
LAST-MODIFIED:20250511T232454Z
UID:10009535-1745604000-1745611200@autocamp.com
SUMMARY:Live Music
DESCRIPTION:Gather at the Clubhouse’s communal fire pit and listen to some live tunes. We invite you to ease into your weekend evenings with good company and good music. All ages are welcome. Come hang out\, grab a drink at the bar\, and enjoy!
URL:https://autocamp.com/event/live-music-yosemite-2/2025-04-25/
LOCATION:AutoCamp Yosemite\, 6323 CA-140\, Midpines\, CA\, 95345\, United States
CATEGORIES:AutoCamp Yosemite
ATTACH;FMTTYPE=image/png:https://autocamp.com/wp-content/uploads/2025/02/Frame-168-2.png
END:VEVENT
BEGIN:VEVENT
DTSTART;TZID=America/Los_Angeles:20250426T080000
DTEND;TZID=America/Los_Angeles:20250426T090000
DTSTAMP:20260421T095436
CREATED:20250207T210301Z
LAST-MODIFIED:20250616T153508Z
UID:10008752-1745654400-1745658000@autocamp.com
SUMMARY:Morning Yoga
DESCRIPTION:Join our friends from Balanced Rock for a morning yoga session. In this hour of stretching\, a local instructor will guide you through gentle movement and breathing practices. All materials are provided\, and all skill levels are welcome. Meet at the 2nd floor Clubhouse.
URL:https://autocamp.com/event/morning-yoga-yosemite/2025-04-26/
LOCATION:AutoCamp Yosemite\, 6323 CA-140\, Midpines\, CA\, 95345\, United States
CATEGORIES:AutoCamp Yosemite
ATTACH;FMTTYPE=image/png:https://autocamp.com/wp-content/uploads/2025/02/Frame-168.png
END:VEVENT
BEGIN:VEVENT
DTSTART;TZID=America/Los_Angeles:20250426T180000
DTEND;TZID=America/Los_Angeles:20250426T200000
DTSTAMP:20260421T095436
CREATED:20250227T235925Z
LAST-MODIFIED:20250511T232454Z
UID:10009536-1745690400-1745697600@autocamp.com
SUMMARY:Live Music
DESCRIPTION:Gather at the Clubhouse’s communal fire pit and listen to some live tunes. We invite you to ease into your weekend evenings with good company and good music. All ages are welcome. Come hang out\, grab a drink at the bar\, and enjoy!
URL:https://autocamp.com/event/live-music-yosemite-2/2025-04-26/
LOCATION:AutoCamp Yosemite\, 6323 CA-140\, Midpines\, CA\, 95345\, United States
CATEGORIES:AutoCamp Yosemite
ATTACH;FMTTYPE=image/png:https://autocamp.com/wp-content/uploads/2025/02/Frame-168-2.png
END:VEVENT
BEGIN:VEVENT
DTSTART;TZID=America/Los_Angeles:20250427T080000
DTEND;TZID=America/Los_Angeles:20250427T090000
DTSTAMP:20260421T095436
CREATED:20250207T210301Z
LAST-MODIFIED:20250616T153508Z
UID:10008753-1745740800-1745744400@autocamp.com
SUMMARY:Morning Yoga
DESCRIPTION:Join our friends from Balanced Rock for a morning yoga session. In this hour of stretching\, a local instructor will guide you through gentle movement and breathing practices. All materials are provided\, and all skill levels are welcome. Meet at the 2nd floor Clubhouse.
URL:https://autocamp.com/event/morning-yoga-yosemite/2025-04-27/
LOCATION:AutoCamp Yosemite\, 6323 CA-140\, Midpines\, CA\, 95345\, United States
CATEGORIES:AutoCamp Yosemite
ATTACH;FMTTYPE=image/png:https://autocamp.com/wp-content/uploads/2025/02/Frame-168.png
END:VEVENT
BEGIN:VEVENT
DTSTART;TZID=America/Los_Angeles:20250502T180000
DTEND;TZID=America/Los_Angeles:20250502T200000
DTSTAMP:20260421T095436
CREATED:20250227T235925Z
LAST-MODIFIED:20250511T232454Z
UID:10009537-1746208800-1746216000@autocamp.com
SUMMARY:Live Music
DESCRIPTION:Gather at the Clubhouse’s communal fire pit and listen to some live tunes. We invite you to ease into your weekend evenings with good company and good music. All ages are welcome. Come hang out\, grab a drink at the bar\, and enjoy!
URL:https://autocamp.com/event/live-music-yosemite-2/2025-05-02/
LOCATION:AutoCamp Yosemite\, 6323 CA-140\, Midpines\, CA\, 95345\, United States
CATEGORIES:AutoCamp Yosemite
ATTACH;FMTTYPE=image/png:https://autocamp.com/wp-content/uploads/2025/02/Frame-168-2.png
END:VEVENT
BEGIN:VEVENT
DTSTART;TZID=America/Los_Angeles:20250503T080000
DTEND;TZID=America/Los_Angeles:20250503T090000
DTSTAMP:20260421T095436
CREATED:20250207T210301Z
LAST-MODIFIED:20250616T153508Z
UID:10008754-1746259200-1746262800@autocamp.com
SUMMARY:Morning Yoga
DESCRIPTION:Join our friends from Balanced Rock for a morning yoga session. In this hour of stretching\, a local instructor will guide you through gentle movement and breathing practices. All materials are provided\, and all skill levels are welcome. Meet at the 2nd floor Clubhouse.
URL:https://autocamp.com/event/morning-yoga-yosemite/2025-05-03/
LOCATION:AutoCamp Yosemite\, 6323 CA-140\, Midpines\, CA\, 95345\, United States
CATEGORIES:AutoCamp Yosemite
ATTACH;FMTTYPE=image/png:https://autocamp.com/wp-content/uploads/2025/02/Frame-168.png
END:VEVENT
BEGIN:VEVENT
DTSTART;TZID=America/Los_Angeles:20250503T180000
DTEND;TZID=America/Los_Angeles:20250503T200000
DTSTAMP:20260421T095436
CREATED:20250227T235925Z
LAST-MODIFIED:20250511T232454Z
UID:10009538-1746295200-1746302400@autocamp.com
SUMMARY:Live Music
DESCRIPTION:Gather at the Clubhouse’s communal fire pit and listen to some live tunes. We invite you to ease into your weekend evenings with good company and good music. All ages are welcome. Come hang out\, grab a drink at the bar\, and enjoy!
URL:https://autocamp.com/event/live-music-yosemite-2/2025-05-03/
LOCATION:AutoCamp Yosemite\, 6323 CA-140\, Midpines\, CA\, 95345\, United States
CATEGORIES:AutoCamp Yosemite
ATTACH;FMTTYPE=image/png:https://autocamp.com/wp-content/uploads/2025/02/Frame-168-2.png
END:VEVENT
BEGIN:VEVENT
DTSTART;TZID=America/Los_Angeles:20250504T080000
DTEND;TZID=America/Los_Angeles:20250504T090000
DTSTAMP:20260421T095436
CREATED:20250207T210301Z
LAST-MODIFIED:20250616T153508Z
UID:10008755-1746345600-1746349200@autocamp.com
SUMMARY:Morning Yoga
DESCRIPTION:Join our friends from Balanced Rock for a morning yoga session. In this hour of stretching\, a local instructor will guide you through gentle movement and breathing practices. All materials are provided\, and all skill levels are welcome. Meet at the 2nd floor Clubhouse.
URL:https://autocamp.com/event/morning-yoga-yosemite/2025-05-04/
LOCATION:AutoCamp Yosemite\, 6323 CA-140\, Midpines\, CA\, 95345\, United States
CATEGORIES:AutoCamp Yosemite
ATTACH;FMTTYPE=image/png:https://autocamp.com/wp-content/uploads/2025/02/Frame-168.png
END:VEVENT
BEGIN:VEVENT
DTSTART;TZID=America/Los_Angeles:20250509T180000
DTEND;TZID=America/Los_Angeles:20250509T200000
DTSTAMP:20260421T095436
CREATED:20250227T235925Z
LAST-MODIFIED:20250511T232454Z
UID:10009539-1746813600-1746820800@autocamp.com
SUMMARY:Live Music
DESCRIPTION:Gather at the Clubhouse’s communal fire pit and listen to some live tunes. We invite you to ease into your weekend evenings with good company and good music. All ages are welcome. Come hang out\, grab a drink at the bar\, and enjoy!
URL:https://autocamp.com/event/live-music-yosemite-2/2025-05-09/
LOCATION:AutoCamp Yosemite\, 6323 CA-140\, Midpines\, CA\, 95345\, United States
CATEGORIES:AutoCamp Yosemite
ATTACH;FMTTYPE=image/png:https://autocamp.com/wp-content/uploads/2025/02/Frame-168-2.png
END:VEVENT
BEGIN:VEVENT
DTSTART;TZID=America/Los_Angeles:20250510T080000
DTEND;TZID=America/Los_Angeles:20250510T090000
DTSTAMP:20260421T095436
CREATED:20250207T210301Z
LAST-MODIFIED:20250616T153508Z
UID:10008756-1746864000-1746867600@autocamp.com
SUMMARY:Morning Yoga
DESCRIPTION:Join our friends from Balanced Rock for a morning yoga session. In this hour of stretching\, a local instructor will guide you through gentle movement and breathing practices. All materials are provided\, and all skill levels are welcome. Meet at the 2nd floor Clubhouse.
URL:https://autocamp.com/event/morning-yoga-yosemite/2025-05-10/
LOCATION:AutoCamp Yosemite\, 6323 CA-140\, Midpines\, CA\, 95345\, United States
CATEGORIES:AutoCamp Yosemite
ATTACH;FMTTYPE=image/png:https://autocamp.com/wp-content/uploads/2025/02/Frame-168.png
END:VEVENT
BEGIN:VEVENT
DTSTART;TZID=America/Los_Angeles:20250510T180000
DTEND;TZID=America/Los_Angeles:20250510T200000
DTSTAMP:20260421T095436
CREATED:20250227T235925Z
LAST-MODIFIED:20250511T232454Z
UID:10009540-1746900000-1746907200@autocamp.com
SUMMARY:Live Music
DESCRIPTION:Gather at the Clubhouse’s communal fire pit and listen to some live tunes. We invite you to ease into your weekend evenings with good company and good music. All ages are welcome. Come hang out\, grab a drink at the bar\, and enjoy!
URL:https://autocamp.com/event/live-music-yosemite-2/2025-05-10/
LOCATION:AutoCamp Yosemite\, 6323 CA-140\, Midpines\, CA\, 95345\, United States
CATEGORIES:AutoCamp Yosemite
ATTACH;FMTTYPE=image/png:https://autocamp.com/wp-content/uploads/2025/02/Frame-168-2.png
END:VEVENT
BEGIN:VEVENT
DTSTART;TZID=America/Los_Angeles:20250511T080000
DTEND;TZID=America/Los_Angeles:20250511T090000
DTSTAMP:20260421T095436
CREATED:20250207T210301Z
LAST-MODIFIED:20250616T153508Z
UID:10008757-1746950400-1746954000@autocamp.com
SUMMARY:Morning Yoga
DESCRIPTION:Join our friends from Balanced Rock for a morning yoga session. In this hour of stretching\, a local instructor will guide you through gentle movement and breathing practices. All materials are provided\, and all skill levels are welcome. Meet at the 2nd floor Clubhouse.
URL:https://autocamp.com/event/morning-yoga-yosemite/2025-05-11/
LOCATION:AutoCamp Yosemite\, 6323 CA-140\, Midpines\, CA\, 95345\, United States
CATEGORIES:AutoCamp Yosemite
ATTACH;FMTTYPE=image/png:https://autocamp.com/wp-content/uploads/2025/02/Frame-168.png
END:VEVENT
BEGIN:VEVENT
DTSTART;TZID=America/Los_Angeles:20250516T180000
DTEND;TZID=America/Los_Angeles:20250516T200000
DTSTAMP:20260421T095436
CREATED:20250511T232904Z
LAST-MODIFIED:20250511T232905Z
UID:10009541-1747418400-1747425600@autocamp.com
SUMMARY:Live Music
DESCRIPTION:Gather at the Clubhouse’s communal fire pit and listen to some live tunes. We invite you to ease into your weekend evenings with good company and good music. All ages are welcome. Come hang out\, grab a drink at the bar\, and enjoy!
URL:https://autocamp.com/event/live-music-yosemite-2-2/2025-05-16/
LOCATION:AutoCamp Yosemite\, 6323 CA-140\, Midpines\, CA\, 95345\, United States
CATEGORIES:AutoCamp Yosemite
ATTACH;FMTTYPE=image/png:https://autocamp.com/wp-content/uploads/2025/02/Frame-168-2.png
END:VEVENT
BEGIN:VEVENT
DTSTART;TZID=America/Los_Angeles:20250517T080000
DTEND;TZID=America/Los_Angeles:20250517T090000
DTSTAMP:20260421T095436
CREATED:20250207T210301Z
LAST-MODIFIED:20250616T153508Z
UID:10008758-1747468800-1747472400@autocamp.com
SUMMARY:Morning Yoga
DESCRIPTION:Join our friends from Balanced Rock for a morning yoga session. In this hour of stretching\, a local instructor will guide you through gentle movement and breathing practices. All materials are provided\, and all skill levels are welcome. Meet at the 2nd floor Clubhouse.
URL:https://autocamp.com/event/morning-yoga-yosemite/2025-05-17/
LOCATION:AutoCamp Yosemite\, 6323 CA-140\, Midpines\, CA\, 95345\, United States
CATEGORIES:AutoCamp Yosemite
ATTACH;FMTTYPE=image/png:https://autocamp.com/wp-content/uploads/2025/02/Frame-168.png
END:VEVENT
BEGIN:VEVENT
DTSTART;TZID=America/Los_Angeles:20250518T080000
DTEND;TZID=America/Los_Angeles:20250518T090000
DTSTAMP:20260421T095436
CREATED:20250207T210301Z
LAST-MODIFIED:20250616T153508Z
UID:10008759-1747555200-1747558800@autocamp.com
SUMMARY:Morning Yoga
DESCRIPTION:Join our friends from Balanced Rock for a morning yoga session. In this hour of stretching\, a local instructor will guide you through gentle movement and breathing practices. All materials are provided\, and all skill levels are welcome. Meet at the 2nd floor Clubhouse.
URL:https://autocamp.com/event/morning-yoga-yosemite/2025-05-18/
LOCATION:AutoCamp Yosemite\, 6323 CA-140\, Midpines\, CA\, 95345\, United States
CATEGORIES:AutoCamp Yosemite
ATTACH;FMTTYPE=image/png:https://autocamp.com/wp-content/uploads/2025/02/Frame-168.png
END:VEVENT
BEGIN:VEVENT
DTSTART;TZID=America/Los_Angeles:20250518T171500
DTEND;TZID=America/Los_Angeles:20250518T193000
DTSTAMP:20260421T095436
CREATED:20250227T235013Z
LAST-MODIFIED:20250228T000409Z
UID:10010467-1747588500-1747596600@autocamp.com
SUMMARY:Stargazing
DESCRIPTION:Join us for a curated\, cosmic\, educational experience under the stars. Just after dusk join local astronomer Andy Skinner to view planets and constellations and learn how to identify them. This is a unique interactive experience. Grab your favorite beverage and snacks from our General Store\, and enjoy your journey to the cosmos. \nStargazing is dependent upon weather and visibility.  Time will vary\,  If it is canceled\, you will be notified in advance. \nPro tip: Grab a s’mores kit from the General Store and treat yourself after this night sky experience! See if you can continue to identify the constellations and planets as they move in the night sky.
URL:https://autocamp.com/event/stargazing-2/2025-05-18/
LOCATION:AutoCamp Yosemite\, 6323 CA-140\, Midpines\, CA\, 95345\, United States
CATEGORIES:AutoCamp Yosemite
ATTACH;FMTTYPE=image/png:https://autocamp.com/wp-content/uploads/2025/02/Frame-168-4.png
END:VEVENT
BEGIN:VEVENT
DTSTART;TZID=America/Los_Angeles:20250523T180000
DTEND;TZID=America/Los_Angeles:20250523T200000
DTSTAMP:20260421T095436
CREATED:20250511T232904Z
LAST-MODIFIED:20250511T232905Z
UID:10009543-1748023200-1748030400@autocamp.com
SUMMARY:Live Music
DESCRIPTION:Gather at the Clubhouse’s communal fire pit and listen to some live tunes. We invite you to ease into your weekend evenings with good company and good music. All ages are welcome. Come hang out\, grab a drink at the bar\, and enjoy!
URL:https://autocamp.com/event/live-music-yosemite-2-2/2025-05-23/
LOCATION:AutoCamp Yosemite\, 6323 CA-140\, Midpines\, CA\, 95345\, United States
CATEGORIES:AutoCamp Yosemite
ATTACH;FMTTYPE=image/png:https://autocamp.com/wp-content/uploads/2025/02/Frame-168-2.png
END:VEVENT
BEGIN:VEVENT
DTSTART;TZID=America/Los_Angeles:20250524T080000
DTEND;TZID=America/Los_Angeles:20250524T090000
DTSTAMP:20260421T095436
CREATED:20250207T210301Z
LAST-MODIFIED:20250616T153508Z
UID:10008760-1748073600-1748077200@autocamp.com
SUMMARY:Morning Yoga
DESCRIPTION:Join our friends from Balanced Rock for a morning yoga session. In this hour of stretching\, a local instructor will guide you through gentle movement and breathing practices. All materials are provided\, and all skill levels are welcome. Meet at the 2nd floor Clubhouse.
URL:https://autocamp.com/event/morning-yoga-yosemite/2025-05-24/
LOCATION:AutoCamp Yosemite\, 6323 CA-140\, Midpines\, CA\, 95345\, United States
CATEGORIES:AutoCamp Yosemite
ATTACH;FMTTYPE=image/png:https://autocamp.com/wp-content/uploads/2025/02/Frame-168.png
END:VEVENT
BEGIN:VEVENT
DTSTART;TZID=America/Los_Angeles:20250525T080000
DTEND;TZID=America/Los_Angeles:20250525T090000
DTSTAMP:20260421T095436
CREATED:20250207T210301Z
LAST-MODIFIED:20250616T153508Z
UID:10008761-1748160000-1748163600@autocamp.com
SUMMARY:Morning Yoga
DESCRIPTION:Join our friends from Balanced Rock for a morning yoga session. In this hour of stretching\, a local instructor will guide you through gentle movement and breathing practices. All materials are provided\, and all skill levels are welcome. Meet at the 2nd floor Clubhouse.
URL:https://autocamp.com/event/morning-yoga-yosemite/2025-05-25/
LOCATION:AutoCamp Yosemite\, 6323 CA-140\, Midpines\, CA\, 95345\, United States
CATEGORIES:AutoCamp Yosemite
ATTACH;FMTTYPE=image/png:https://autocamp.com/wp-content/uploads/2025/02/Frame-168.png
END:VEVENT
BEGIN:VEVENT
DTSTART;TZID=America/Los_Angeles:20250530T180000
DTEND;TZID=America/Los_Angeles:20250530T200000
DTSTAMP:20260421T095436
CREATED:20250511T232904Z
LAST-MODIFIED:20250511T232905Z
UID:10009545-1748628000-1748635200@autocamp.com
SUMMARY:Live Music
DESCRIPTION:Gather at the Clubhouse’s communal fire pit and listen to some live tunes. We invite you to ease into your weekend evenings with good company and good music. All ages are welcome. Come hang out\, grab a drink at the bar\, and enjoy!
URL:https://autocamp.com/event/live-music-yosemite-2-2/2025-05-30/
LOCATION:AutoCamp Yosemite\, 6323 CA-140\, Midpines\, CA\, 95345\, United States
CATEGORIES:AutoCamp Yosemite
ATTACH;FMTTYPE=image/png:https://autocamp.com/wp-content/uploads/2025/02/Frame-168-2.png
END:VEVENT
BEGIN:VEVENT
DTSTART;TZID=America/Los_Angeles:20250531T080000
DTEND;TZID=America/Los_Angeles:20250531T090000
DTSTAMP:20260421T095436
CREATED:20250207T210301Z
LAST-MODIFIED:20250616T153508Z
UID:10008762-1748678400-1748682000@autocamp.com
SUMMARY:Morning Yoga
DESCRIPTION:Join our friends from Balanced Rock for a morning yoga session. In this hour of stretching\, a local instructor will guide you through gentle movement and breathing practices. All materials are provided\, and all skill levels are welcome. Meet at the 2nd floor Clubhouse.
URL:https://autocamp.com/event/morning-yoga-yosemite/2025-05-31/
LOCATION:AutoCamp Yosemite\, 6323 CA-140\, Midpines\, CA\, 95345\, United States
CATEGORIES:AutoCamp Yosemite
ATTACH;FMTTYPE=image/png:https://autocamp.com/wp-content/uploads/2025/02/Frame-168.png
END:VEVENT
BEGIN:VEVENT
DTSTART;TZID=America/Los_Angeles:20250531T180000
DTEND;TZID=America/Los_Angeles:20250531T200000
DTSTAMP:20260421T095436
CREATED:20250511T232904Z
LAST-MODIFIED:20250511T232905Z
UID:10009546-1748714400-1748721600@autocamp.com
SUMMARY:Live Music
DESCRIPTION:Gather at the Clubhouse’s communal fire pit and listen to some live tunes. We invite you to ease into your weekend evenings with good company and good music. All ages are welcome. Come hang out\, grab a drink at the bar\, and enjoy!
URL:https://autocamp.com/event/live-music-yosemite-2-2/2025-05-31/
LOCATION:AutoCamp Yosemite\, 6323 CA-140\, Midpines\, CA\, 95345\, United States
CATEGORIES:AutoCamp Yosemite
ATTACH;FMTTYPE=image/png:https://autocamp.com/wp-content/uploads/2025/02/Frame-168-2.png
END:VEVENT
BEGIN:VEVENT
DTSTART;TZID=America/Los_Angeles:20250601T080000
DTEND;TZID=America/Los_Angeles:20250601T090000
DTSTAMP:20260421T095436
CREATED:20250207T210301Z
LAST-MODIFIED:20250616T153508Z
UID:10008763-1748764800-1748768400@autocamp.com
SUMMARY:Morning Yoga
DESCRIPTION:Join our friends from Balanced Rock for a morning yoga session. In this hour of stretching\, a local instructor will guide you through gentle movement and breathing practices. All materials are provided\, and all skill levels are welcome. Meet at the 2nd floor Clubhouse.
URL:https://autocamp.com/event/morning-yoga-yosemite/2025-06-01/
LOCATION:AutoCamp Yosemite\, 6323 CA-140\, Midpines\, CA\, 95345\, United States
CATEGORIES:AutoCamp Yosemite
ATTACH;FMTTYPE=image/png:https://autocamp.com/wp-content/uploads/2025/02/Frame-168.png
END:VEVENT
BEGIN:VEVENT
DTSTART;TZID=America/Los_Angeles:20250606T180000
DTEND;TZID=America/Los_Angeles:20250606T200000
DTSTAMP:20260421T095436
CREATED:20250511T232904Z
LAST-MODIFIED:20250511T232905Z
UID:10009547-1749232800-1749240000@autocamp.com
SUMMARY:Live Music
DESCRIPTION:Gather at the Clubhouse’s communal fire pit and listen to some live tunes. We invite you to ease into your weekend evenings with good company and good music. All ages are welcome. Come hang out\, grab a drink at the bar\, and enjoy!
URL:https://autocamp.com/event/live-music-yosemite-2-2/2025-06-06/
LOCATION:AutoCamp Yosemite\, 6323 CA-140\, Midpines\, CA\, 95345\, United States
CATEGORIES:AutoCamp Yosemite
ATTACH;FMTTYPE=image/png:https://autocamp.com/wp-content/uploads/2025/02/Frame-168-2.png
END:VEVENT
BEGIN:VEVENT
DTSTART;TZID=America/Los_Angeles:20250607T080000
DTEND;TZID=America/Los_Angeles:20250607T090000
DTSTAMP:20260421T095436
CREATED:20250207T210301Z
LAST-MODIFIED:20250616T153508Z
UID:10008764-1749283200-1749286800@autocamp.com
SUMMARY:Morning Yoga
DESCRIPTION:Join our friends from Balanced Rock for a morning yoga session. In this hour of stretching\, a local instructor will guide you through gentle movement and breathing practices. All materials are provided\, and all skill levels are welcome. Meet at the 2nd floor Clubhouse.
URL:https://autocamp.com/event/morning-yoga-yosemite/2025-06-07/
LOCATION:AutoCamp Yosemite\, 6323 CA-140\, Midpines\, CA\, 95345\, United States
CATEGORIES:AutoCamp Yosemite
ATTACH;FMTTYPE=image/png:https://autocamp.com/wp-content/uploads/2025/02/Frame-168.png
END:VEVENT
BEGIN:VEVENT
DTSTART;TZID=America/Los_Angeles:20250607T180000
DTEND;TZID=America/Los_Angeles:20250607T200000
DTSTAMP:20260421T095436
CREATED:20250511T232904Z
LAST-MODIFIED:20250511T232905Z
UID:10009548-1749319200-1749326400@autocamp.com
SUMMARY:Live Music
DESCRIPTION:Gather at the Clubhouse’s communal fire pit and listen to some live tunes. We invite you to ease into your weekend evenings with good company and good music. All ages are welcome. Come hang out\, grab a drink at the bar\, and enjoy!
URL:https://autocamp.com/event/live-music-yosemite-2-2/2025-06-07/
LOCATION:AutoCamp Yosemite\, 6323 CA-140\, Midpines\, CA\, 95345\, United States
CATEGORIES:AutoCamp Yosemite
ATTACH;FMTTYPE=image/png:https://autocamp.com/wp-content/uploads/2025/02/Frame-168-2.png
END:VEVENT
BEGIN:VEVENT
DTSTART;TZID=America/Los_Angeles:20250608T080000
DTEND;TZID=America/Los_Angeles:20250608T090000
DTSTAMP:20260421T095436
CREATED:20250207T210301Z
LAST-MODIFIED:20250616T153508Z
UID:10008765-1749369600-1749373200@autocamp.com
SUMMARY:Morning Yoga
DESCRIPTION:Join our friends from Balanced Rock for a morning yoga session. In this hour of stretching\, a local instructor will guide you through gentle movement and breathing practices. All materials are provided\, and all skill levels are welcome. Meet at the 2nd floor Clubhouse.
URL:https://autocamp.com/event/morning-yoga-yosemite/2025-06-08/
LOCATION:AutoCamp Yosemite\, 6323 CA-140\, Midpines\, CA\, 95345\, United States
CATEGORIES:AutoCamp Yosemite
ATTACH;FMTTYPE=image/png:https://autocamp.com/wp-content/uploads/2025/02/Frame-168.png
END:VEVENT
BEGIN:VEVENT
DTSTART;TZID=America/Los_Angeles:20250611T200000
DTEND;TZID=America/Los_Angeles:20250611T210000
DTSTAMP:20260421T095436
CREATED:20250606T200352Z
LAST-MODIFIED:20250616T152553Z
UID:10017646-1749672000-1749675600@autocamp.com
SUMMARY:S'mores
DESCRIPTION:Join us for a celebratory memory-making s’mores experience around our outdoor firepit\, with a lovely view of our pond. When visibility is clear\, we can also enjoy a beautiful starry sky. \nWe look forward to seeing you.  Weather permitting.
URL:https://autocamp.com/event/smores-2/2025-06-11/
LOCATION:AutoCamp Yosemite\, 6323 CA-140\, Midpines\, CA\, 95345\, United States
CATEGORIES:AutoCamp Yosemite
ATTACH;FMTTYPE=image/png:https://autocamp.com/wp-content/uploads/2025/02/Frame-168-4-1.png
END:VEVENT
BEGIN:VEVENT
DTSTART;TZID=America/Los_Angeles:20250612T190000
DTEND;TZID=America/Los_Angeles:20250612T200000
DTSTAMP:20260421T095436
CREATED:20250606T200523Z
LAST-MODIFIED:20250606T200525Z
UID:10018153-1749754800-1749758400@autocamp.com
SUMMARY:Rock Painting
DESCRIPTION:Join us at the Clubhouse for a complimentary rock painting event! Create cherished memories with your family and friends. \nWe will provide rocks and acrylic paint\, and our team will assist you in applying a sealant overnight so you can pick up your masterpieces the following morning.
URL:https://autocamp.com/event/rock-painting-3/2025-06-12/
LOCATION:AutoCamp Yosemite\, 6323 CA-140\, Midpines\, CA\, 95345\, United States
CATEGORIES:AutoCamp Yosemite
ATTACH;FMTTYPE=image/png:https://autocamp.com/wp-content/uploads/2025/02/Frame-168-5-1.png
END:VEVENT
BEGIN:VEVENT
DTSTART;TZID=America/Los_Angeles:20250613T180000
DTEND;TZID=America/Los_Angeles:20250613T200000
DTSTAMP:20260421T095436
CREATED:20250511T232904Z
LAST-MODIFIED:20250511T232905Z
UID:10009549-1749837600-1749844800@autocamp.com
SUMMARY:Live Music
DESCRIPTION:Gather at the Clubhouse’s communal fire pit and listen to some live tunes. We invite you to ease into your weekend evenings with good company and good music. All ages are welcome. Come hang out\, grab a drink at the bar\, and enjoy!
URL:https://autocamp.com/event/live-music-yosemite-2-2/2025-06-13/
LOCATION:AutoCamp Yosemite\, 6323 CA-140\, Midpines\, CA\, 95345\, United States
CATEGORIES:AutoCamp Yosemite
ATTACH;FMTTYPE=image/png:https://autocamp.com/wp-content/uploads/2025/02/Frame-168-2.png
END:VEVENT
END:VCALENDAR