BEGIN:VCALENDAR
VERSION:2.0
PRODID:-//AutoCamp - ECPv6.15.0.1//NONSGML v1.0//EN
CALSCALE:GREGORIAN
METHOD:PUBLISH
X-ORIGINAL-URL:https://autocamp.com
X-WR-CALDESC:Events for AutoCamp
REFRESH-INTERVAL;VALUE=DURATION:PT1H
X-Robots-Tag:noindex
X-PUBLISHED-TTL:PT1H
BEGIN:VTIMEZONE
TZID:America/Los_Angeles
BEGIN:DAYLIGHT
TZOFFSETFROM:-0800
TZOFFSETTO:-0700
TZNAME:PDT
DTSTART:20260308T100000
END:DAYLIGHT
BEGIN:STANDARD
TZOFFSETFROM:-0700
TZOFFSETTO:-0800
TZNAME:PST
DTSTART:20261101T090000
END:STANDARD
END:VTIMEZONE
BEGIN:VEVENT
DTSTART;VALUE=DATE:20260410
DTEND;VALUE=DATE:20260411
DTSTAMP:20260423T051722
CREATED:20251126T174710Z
LAST-MODIFIED:20251126T174710Z
UID:10057911-1775779200-1775865599@autocamp.com
SUMMARY:Find the Bear Kid's Game
DESCRIPTION:Can you find the hidden Black Bear inside the Clubhouse? During their stay\, young explorers can search for the Black Bear stuffed animal hidden somewhere in the Clubhouse. Be sure to let a team member know when you find it\, and kiddos will receive a small surprise as their reward. And if you’d like to take your own Black Bear home with you\, we sell these little stuffed friends in our General Store. Good luck searching!
URL:https://autocamp.com/event/find-the-bear-kids-game-yosemite/2026-04-10/
LOCATION:AutoCamp Yosemite\, 6323 CA-140\, Midpines\, CA\, 95345\, United States
CATEGORIES:AutoCamp Yosemite
ATTACH;FMTTYPE=image/png:https://autocamp.com/wp-content/uploads/2025/11/Black-Bear-Website.png
END:VEVENT
BEGIN:VEVENT
DTSTART;TZID=America/Los_Angeles:20260410T180000
DTEND;TZID=America/Los_Angeles:20260410T200000
DTSTAMP:20260423T051722
CREATED:20260320T195858Z
LAST-MODIFIED:20260320T195858Z
UID:10009635-1775844000-1775851200@autocamp.com
SUMMARY:Live Music
DESCRIPTION:Gather at the Clubhouse’s communal fire pit and listen to some live tunes. We invite you to ease into your weekend evenings with good company and good music. All ages are welcome. Come hang out\, grab a drink at the bar\, and enjoy!
URL:https://autocamp.com/event/live-music-yosemite-2-2-2/2026-04-10/
LOCATION:AutoCamp Yosemite\, 6323 CA-140\, Midpines\, CA\, 95345\, United States
CATEGORIES:AutoCamp Yosemite
ATTACH;FMTTYPE=image/png:https://autocamp.com/wp-content/uploads/2025/02/Frame-168-2.png
END:VEVENT
END:VCALENDAR