BEGIN:VCALENDAR
VERSION:2.0
PRODID:-//AutoCamp - ECPv6.15.0.1//NONSGML v1.0//EN
CALSCALE:GREGORIAN
METHOD:PUBLISH
X-WR-CALNAME:AutoCamp
X-ORIGINAL-URL:https://autocamp.com
X-WR-CALDESC:Events for AutoCamp
REFRESH-INTERVAL;VALUE=DURATION:PT1H
X-Robots-Tag:noindex
X-PUBLISHED-TTL:PT1H
BEGIN:VTIMEZONE
TZID:America/Los_Angeles
BEGIN:DAYLIGHT
TZOFFSETFROM:-0800
TZOFFSETTO:-0700
TZNAME:PDT
DTSTART:20260308T100000
END:DAYLIGHT
BEGIN:STANDARD
TZOFFSETFROM:-0700
TZOFFSETTO:-0800
TZNAME:PST
DTSTART:20261101T090000
END:STANDARD
END:VTIMEZONE
BEGIN:VEVENT
DTSTART;VALUE=DATE:20260409
DTEND;VALUE=DATE:20260410
DTSTAMP:20260423T015958
CREATED:20251126T174710Z
LAST-MODIFIED:20251126T174710Z
UID:10057910-1775692800-1775779199@autocamp.com
SUMMARY:Find the Bear Kid's Game
DESCRIPTION:Can you find the hidden Black Bear inside the Clubhouse? During their stay\, young explorers can search for the Black Bear stuffed animal hidden somewhere in the Clubhouse. Be sure to let a team member know when you find it\, and kiddos will receive a small surprise as their reward. And if you’d like to take your own Black Bear home with you\, we sell these little stuffed friends in our General Store. Good luck searching!
URL:https://autocamp.com/event/find-the-bear-kids-game-yosemite/2026-04-09/
LOCATION:AutoCamp Yosemite\, 6323 CA-140\, Midpines\, CA\, 95345\, United States
CATEGORIES:AutoCamp Yosemite
ATTACH;FMTTYPE=image/png:https://autocamp.com/wp-content/uploads/2025/11/Black-Bear-Website.png
END:VEVENT
BEGIN:VEVENT
DTSTART;TZID=America/Los_Angeles:20260409T190000
DTEND;TZID=America/Los_Angeles:20260409T200000
DTSTAMP:20260423T015958
CREATED:20250606T200523Z
LAST-MODIFIED:20250606T200525Z
UID:10028647-1775761200-1775764800@autocamp.com
SUMMARY:Rock Painting
DESCRIPTION:Join us at the Clubhouse for a complimentary rock painting event! Create cherished memories with your family and friends. \nWe will provide rocks and acrylic paint\, and our team will assist you in applying a sealant overnight so you can pick up your masterpieces the following morning.
URL:https://autocamp.com/event/rock-painting-3/2026-04-09/
LOCATION:AutoCamp Yosemite\, 6323 CA-140\, Midpines\, CA\, 95345\, United States
CATEGORIES:AutoCamp Yosemite
ATTACH;FMTTYPE=image/png:https://autocamp.com/wp-content/uploads/2025/02/Frame-168-5-1.png
END:VEVENT
END:VCALENDAR