BEGIN:VCALENDAR
VERSION:2.0
PRODID:-//AutoCamp - ECPv6.15.0.1//NONSGML v1.0//EN
CALSCALE:GREGORIAN
METHOD:PUBLISH
X-WR-CALNAME:AutoCamp
X-ORIGINAL-URL:https://autocamp.com
X-WR-CALDESC:Events for AutoCamp
REFRESH-INTERVAL;VALUE=DURATION:PT1H
X-Robots-Tag:noindex
X-PUBLISHED-TTL:PT1H
BEGIN:VTIMEZONE
TZID:America/Los_Angeles
BEGIN:DAYLIGHT
TZOFFSETFROM:-0800
TZOFFSETTO:-0700
TZNAME:PDT
DTSTART:20250309T100000
END:DAYLIGHT
BEGIN:STANDARD
TZOFFSETFROM:-0700
TZOFFSETTO:-0800
TZNAME:PST
DTSTART:20251102T090000
END:STANDARD
END:VTIMEZONE
BEGIN:VEVENT
DTSTART;VALUE=DATE:20251012
DTEND;VALUE=DATE:20251013
DTSTAMP:20260419T054439
CREATED:20251006T161421Z
LAST-MODIFIED:20251031T225336Z
UID:10042153-1760227200-1760313599@autocamp.com
SUMMARY:Pumpkin Patch
DESCRIPTION:Bring the family and celebrate this fall season with AutoCamp by exploring our pumpkin patch on the lawn! Find your favorite pumpkin to decorate for your Airstream porch and take home with you as a keepsake to your nature escape. Our patch is complimentary. Art supplies are provided in the Clubhouse at select times of the week for pumpkin decorating.
URL:https://autocamp.com/event/pumpkin-patch-2/2025-10-12/
LOCATION:AutoCamp Yosemite\, 6323 CA-140\, Midpines\, CA\, 95345\, United States
CATEGORIES:AutoCamp Yosemite
ATTACH;FMTTYPE=image/png:https://autocamp.com/wp-content/uploads/2025/10/pumpkin-patch-1-.png
END:VEVENT
BEGIN:VEVENT
DTSTART;TZID=America/Los_Angeles:20251012T080000
DTEND;TZID=America/Los_Angeles:20251012T090000
DTSTAMP:20260419T054439
CREATED:20250207T210301Z
LAST-MODIFIED:20250616T153508Z
UID:10008801-1760256000-1760259600@autocamp.com
SUMMARY:Morning Yoga
DESCRIPTION:Join our friends from Balanced Rock for a morning yoga session. In this hour of stretching\, a local instructor will guide you through gentle movement and breathing practices. All materials are provided\, and all skill levels are welcome. Meet at the 2nd floor Clubhouse.
URL:https://autocamp.com/event/morning-yoga-yosemite/2025-10-12/
LOCATION:AutoCamp Yosemite\, 6323 CA-140\, Midpines\, CA\, 95345\, United States
CATEGORIES:AutoCamp Yosemite
ATTACH;FMTTYPE=image/png:https://autocamp.com/wp-content/uploads/2025/02/Frame-168.png
END:VEVENT
BEGIN:VEVENT
DTSTART;TZID=America/Los_Angeles:20251012T150000
DTEND;TZID=America/Los_Angeles:20251012T180000
DTSTAMP:20260419T054439
CREATED:20251002T225735Z
LAST-MODIFIED:20251006T192349Z
UID:10035621-1760281200-1760292000@autocamp.com
SUMMARY:Fall Hot Cider Bar
DESCRIPTION:Join us in the Clubhouse\, get cozy and celebrate this fall season with a complimentary hot cider bar – it’s on us. Spike your cider with Bourbon Whiskey for $5.
URL:https://autocamp.com/event/fall-hot-cider-bar/2025-10-12/
LOCATION:AutoCamp Yosemite\, 6323 CA-140\, Midpines\, CA\, 95345\, United States
CATEGORIES:AutoCamp Yosemite
ATTACH;FMTTYPE=image/png:https://autocamp.com/wp-content/uploads/2025/09/Hot-CIder-Bar-2.png
END:VEVENT
END:VCALENDAR