BEGIN:VCALENDAR
VERSION:2.0
PRODID:-//AutoCamp - ECPv6.15.0.1//NONSGML v1.0//EN
CALSCALE:GREGORIAN
METHOD:PUBLISH
X-ORIGINAL-URL:https://autocamp.com
X-WR-CALDESC:Events for AutoCamp
REFRESH-INTERVAL;VALUE=DURATION:PT1H
X-Robots-Tag:noindex
X-PUBLISHED-TTL:PT1H
BEGIN:VTIMEZONE
TZID:America/Los_Angeles
BEGIN:DAYLIGHT
TZOFFSETFROM:-0800
TZOFFSETTO:-0700
TZNAME:PDT
DTSTART:20250309T100000
END:DAYLIGHT
BEGIN:STANDARD
TZOFFSETFROM:-0700
TZOFFSETTO:-0800
TZNAME:PST
DTSTART:20251102T090000
END:STANDARD
END:VTIMEZONE
BEGIN:VEVENT
DTSTART;TZID=America/Los_Angeles:20250222T080000
DTEND;TZID=America/Los_Angeles:20250222T090000
DTSTAMP:20260421T180938
CREATED:20250207T210301Z
LAST-MODIFIED:20250616T153508Z
UID:10008734-1740211200-1740214800@autocamp.com
SUMMARY:Morning Yoga
DESCRIPTION:Join our friends from Balanced Rock for a morning yoga session. In this hour of stretching\, a local instructor will guide you through gentle movement and breathing practices. All materials are provided\, and all skill levels are welcome. Meet at the 2nd floor Clubhouse.
URL:https://autocamp.com/event/morning-yoga-yosemite/2025-02-22/
LOCATION:AutoCamp Yosemite\, 6323 CA-140\, Midpines\, CA\, 95345\, United States
CATEGORIES:AutoCamp Yosemite
ATTACH;FMTTYPE=image/png:https://autocamp.com/wp-content/uploads/2025/02/Frame-168.png
END:VEVENT
BEGIN:VEVENT
DTSTART;TZID=America/Los_Angeles:20250222T160000
DTEND;TZID=America/Los_Angeles:20250222T183000
DTSTAMP:20260421T180938
CREATED:20250207T215807Z
LAST-MODIFIED:20250207T215807Z
UID:10010050-1740240000-1740249000@autocamp.com
SUMMARY:Complimentary Hot Cocoa & Cider
DESCRIPTION:Head to the Clubhouse for a toasty drink\, and settle in by the indoor fire pit for a cozy evening. Visit the front desk to check out available board games to enjoy for the evening. \n(Pro tip for adults: spike your cocoa or cider with a shot from the Kitchen!)
URL:https://autocamp.com/event/complimentary-hot-cocoa-cider/2025-02-22/
LOCATION:AutoCamp Yosemite\, 6323 CA-140\, Midpines\, CA\, 95345\, United States
CATEGORIES:AutoCamp Yosemite
ATTACH;FMTTYPE=image/png:https://autocamp.com/wp-content/uploads/2025/02/Frame-168-3.png
END:VEVENT
BEGIN:VEVENT
DTSTART;TZID=America/Los_Angeles:20250222T171500
DTEND;TZID=America/Los_Angeles:20250222T193000
DTSTAMP:20260421T180938
CREATED:20250207T221247Z
LAST-MODIFIED:20250207T221247Z
UID:10010430-1740244500-1740252600@autocamp.com
SUMMARY:Stargazing
DESCRIPTION:Join us for a curated\, cosmic\, educational experience under the stars. Just after dusk join local astronomer Andy Skinner to view planets and constellations and learn how to identify them. This is a unique interactive experience. Grab your favorite beverage and snacks from our General Store\, and enjoy your journey to the cosmos. \nStargazing is dependent upon weather and visibility.  If it is canceled\, you will be notified in advance. \nPro tip: Grab a s’mores kit from the General Store and treat yourself after this night sky experience! See if you can continue to identify the constellations and planets as they move in the night sky.
URL:https://autocamp.com/event/stargazing/2025-02-22/
LOCATION:AutoCamp Yosemite\, 6323 CA-140\, Midpines\, CA\, 95345\, United States
CATEGORIES:AutoCamp Yosemite
ATTACH;FMTTYPE=image/png:https://autocamp.com/wp-content/uploads/2025/02/Frame-168-4.png
END:VEVENT
END:VCALENDAR