BEGIN:VCALENDAR
VERSION:2.0
PRODID:-//AutoCamp - ECPv6.15.0.1//NONSGML v1.0//EN
CALSCALE:GREGORIAN
METHOD:PUBLISH
X-WR-CALNAME:AutoCamp
X-ORIGINAL-URL:https://autocamp.com
X-WR-CALDESC:Events for AutoCamp
REFRESH-INTERVAL;VALUE=DURATION:PT1H
X-Robots-Tag:noindex
X-PUBLISHED-TTL:PT1H
BEGIN:VTIMEZONE
TZID:America/Los_Angeles
BEGIN:DAYLIGHT
TZOFFSETFROM:-0800
TZOFFSETTO:-0700
TZNAME:PDT
DTSTART:20250309T100000
END:DAYLIGHT
BEGIN:STANDARD
TZOFFSETFROM:-0700
TZOFFSETTO:-0800
TZNAME:PST
DTSTART:20251102T090000
END:STANDARD
END:VTIMEZONE
BEGIN:VEVENT
DTSTART;TZID=America/Los_Angeles:20250211T160000
DTEND;TZID=America/Los_Angeles:20250211T183000
DTSTAMP:20260421T181903
CREATED:20250207T215807Z
LAST-MODIFIED:20250207T215807Z
UID:10010039-1739289600-1739298600@autocamp.com
SUMMARY:Complimentary Hot Cocoa & Cider
DESCRIPTION:Head to the Clubhouse for a toasty drink\, and settle in by the indoor fire pit for a cozy evening. Visit the front desk to check out available board games to enjoy for the evening. \n(Pro tip for adults: spike your cocoa or cider with a shot from the Kitchen!)
URL:https://autocamp.com/event/complimentary-hot-cocoa-cider/2025-02-11/
LOCATION:AutoCamp Yosemite\, 6323 CA-140\, Midpines\, CA\, 95345\, United States
CATEGORIES:AutoCamp Yosemite
ATTACH;FMTTYPE=image/png:https://autocamp.com/wp-content/uploads/2025/02/Frame-168-3.png
END:VEVENT
END:VCALENDAR