BEGIN:VCALENDAR
VERSION:2.0
PRODID:-//AutoCamp - ECPv6.15.0.1//NONSGML v1.0//EN
CALSCALE:GREGORIAN
METHOD:PUBLISH
X-ORIGINAL-URL:https://autocamp.com
X-WR-CALDESC:Events for AutoCamp
REFRESH-INTERVAL;VALUE=DURATION:PT1H
X-Robots-Tag:noindex
X-PUBLISHED-TTL:PT1H
BEGIN:VTIMEZONE
TZID:America/Los_Angeles
BEGIN:DAYLIGHT
TZOFFSETFROM:-0800
TZOFFSETTO:-0700
TZNAME:PDT
DTSTART:20260308T100000
END:DAYLIGHT
BEGIN:STANDARD
TZOFFSETFROM:-0700
TZOFFSETTO:-0800
TZNAME:PST
DTSTART:20261101T090000
END:STANDARD
END:VTIMEZONE
BEGIN:VEVENT
DTSTART;VALUE=DATE:20260422
DTEND;VALUE=DATE:20260423
DTSTAMP:20260421T064007
CREATED:20251126T173910Z
LAST-MODIFIED:20251126T173937Z
UID:10050734-1776816000-1776902399@autocamp.com
SUMMARY:Find the Otter Kid's Game
DESCRIPTION:Can you find the hidden River Otter inside the Clubhouse? During their stay\, young explorers can search for the River Otter stuffed animal hidden somewhere in the Clubhouse. Be sure to let a team member know when you find it\, and kiddos will receive a small surprise as their reward. And if you’d like to take your own River Otter home with you\, we sell these little stuffed friends in our General Store. Good luck searching!
URL:https://autocamp.com/event/find-the-otter-kids-game-sonoma/2026-04-22/
LOCATION:AutoCamp Sonoma\, 14120 Old Cazadero Rd\, Guerneville\, CA\, 95446\, United States
CATEGORIES:AutoCamp Sonoma
ATTACH;FMTTYPE=image/png:https://autocamp.com/wp-content/uploads/2025/11/Otter-Website.png
END:VEVENT
BEGIN:VEVENT
DTSTART;TZID=America/Los_Angeles:20260422T160000
DTEND;TZID=America/Los_Angeles:20260422T200000
DTSTAMP:20260421T064007
CREATED:20260417T153039Z
LAST-MODIFIED:20260417T153039Z
UID:10087235-1776873600-1776888000@autocamp.com
SUMMARY:EARTH DAY!!!    Sun  & Moon & Jupiter  Stargazing
DESCRIPTION:hosted by Dan Gordon w/ Night Sky Adventure
URL:https://autocamp.com/event/earth-day-sun-moon-jupiter-stargazing/
LOCATION:AutoCamp Sonoma\, 14120 Old Cazadero Rd\, Guerneville\, CA\, 95446\, United States
CATEGORIES:AutoCamp Sonoma
END:VEVENT
BEGIN:VEVENT
DTSTART;VALUE=DATE:20260423
DTEND;VALUE=DATE:20260424
DTSTAMP:20260421T064007
CREATED:20251126T173910Z
LAST-MODIFIED:20251126T173937Z
UID:10050735-1776902400-1776988799@autocamp.com
SUMMARY:Find the Otter Kid's Game
DESCRIPTION:Can you find the hidden River Otter inside the Clubhouse? During their stay\, young explorers can search for the River Otter stuffed animal hidden somewhere in the Clubhouse. Be sure to let a team member know when you find it\, and kiddos will receive a small surprise as their reward. And if you’d like to take your own River Otter home with you\, we sell these little stuffed friends in our General Store. Good luck searching!
URL:https://autocamp.com/event/find-the-otter-kids-game-sonoma/2026-04-23/
LOCATION:AutoCamp Sonoma\, 14120 Old Cazadero Rd\, Guerneville\, CA\, 95446\, United States
CATEGORIES:AutoCamp Sonoma
ATTACH;FMTTYPE=image/png:https://autocamp.com/wp-content/uploads/2025/11/Otter-Website.png
END:VEVENT
BEGIN:VEVENT
DTSTART;VALUE=DATE:20260424
DTEND;VALUE=DATE:20260425
DTSTAMP:20260421T064007
CREATED:20251126T173910Z
LAST-MODIFIED:20251126T173937Z
UID:10050736-1776988800-1777075199@autocamp.com
SUMMARY:Find the Otter Kid's Game
DESCRIPTION:Can you find the hidden River Otter inside the Clubhouse? During their stay\, young explorers can search for the River Otter stuffed animal hidden somewhere in the Clubhouse. Be sure to let a team member know when you find it\, and kiddos will receive a small surprise as their reward. And if you’d like to take your own River Otter home with you\, we sell these little stuffed friends in our General Store. Good luck searching!
URL:https://autocamp.com/event/find-the-otter-kids-game-sonoma/2026-04-24/
LOCATION:AutoCamp Sonoma\, 14120 Old Cazadero Rd\, Guerneville\, CA\, 95446\, United States
CATEGORIES:AutoCamp Sonoma
ATTACH;FMTTYPE=image/png:https://autocamp.com/wp-content/uploads/2025/11/Otter-Website.png
END:VEVENT
BEGIN:VEVENT
DTSTART;TZID=America/Los_Angeles:20260424T170000
DTEND;TZID=America/Los_Angeles:20260424T190000
DTSTAMP:20260421T064007
CREATED:20260308T200435Z
LAST-MODIFIED:20260309T204425Z
UID:10080938-1777050000-1777057200@autocamp.com
SUMMARY:Wine tasting hosted by Burtech Family Vineyards
DESCRIPTION:Join Jesse from Burtech Family Vineyards for a complimentary \ntasting of their award-winning wines.
URL:https://autocamp.com/event/wine-tasting-hosted-by-burtech-family-vineyards-3/
LOCATION:AutoCamp Sonoma\, 14120 Old Cazadero Rd\, Guerneville\, CA\, 95446\, United States
CATEGORIES:AutoCamp Sonoma
END:VEVENT
BEGIN:VEVENT
DTSTART;VALUE=DATE:20260425
DTEND;VALUE=DATE:20260426
DTSTAMP:20260421T064007
CREATED:20251126T173910Z
LAST-MODIFIED:20251126T173937Z
UID:10050737-1777075200-1777161599@autocamp.com
SUMMARY:Find the Otter Kid's Game
DESCRIPTION:Can you find the hidden River Otter inside the Clubhouse? During their stay\, young explorers can search for the River Otter stuffed animal hidden somewhere in the Clubhouse. Be sure to let a team member know when you find it\, and kiddos will receive a small surprise as their reward. And if you’d like to take your own River Otter home with you\, we sell these little stuffed friends in our General Store. Good luck searching!
URL:https://autocamp.com/event/find-the-otter-kids-game-sonoma/2026-04-25/
LOCATION:AutoCamp Sonoma\, 14120 Old Cazadero Rd\, Guerneville\, CA\, 95446\, United States
CATEGORIES:AutoCamp Sonoma
ATTACH;FMTTYPE=image/png:https://autocamp.com/wp-content/uploads/2025/11/Otter-Website.png
END:VEVENT
BEGIN:VEVENT
DTSTART;TZID=America/Los_Angeles:20260425T160000
DTEND;TZID=America/Los_Angeles:20260425T180000
DTSTAMP:20260421T064007
CREATED:20260308T200554Z
LAST-MODIFIED:20260309T204359Z
UID:10080939-1777132800-1777140000@autocamp.com
SUMMARY:Wine tasting hosted by Reeve Winery
DESCRIPTION:Come join us for a complimentary tasting of Reeve Winery’s \nfine Sonoma County wines.
URL:https://autocamp.com/event/wine-tasting-hosted-by-reeve-winery/
LOCATION:AutoCamp Sonoma\, 14120 Old Cazadero Rd\, Guerneville\, CA\, 95446\, United States
CATEGORIES:AutoCamp Sonoma
END:VEVENT
BEGIN:VEVENT
DTSTART;VALUE=DATE:20260426
DTEND;VALUE=DATE:20260427
DTSTAMP:20260421T064007
CREATED:20251126T173910Z
LAST-MODIFIED:20251126T173937Z
UID:10050738-1777161600-1777247999@autocamp.com
SUMMARY:Find the Otter Kid's Game
DESCRIPTION:Can you find the hidden River Otter inside the Clubhouse? During their stay\, young explorers can search for the River Otter stuffed animal hidden somewhere in the Clubhouse. Be sure to let a team member know when you find it\, and kiddos will receive a small surprise as their reward. And if you’d like to take your own River Otter home with you\, we sell these little stuffed friends in our General Store. Good luck searching!
URL:https://autocamp.com/event/find-the-otter-kids-game-sonoma/2026-04-26/
LOCATION:AutoCamp Sonoma\, 14120 Old Cazadero Rd\, Guerneville\, CA\, 95446\, United States
CATEGORIES:AutoCamp Sonoma
ATTACH;FMTTYPE=image/png:https://autocamp.com/wp-content/uploads/2025/11/Otter-Website.png
END:VEVENT
BEGIN:VEVENT
DTSTART;VALUE=DATE:20260427
DTEND;VALUE=DATE:20260428
DTSTAMP:20260421T064007
CREATED:20251126T173910Z
LAST-MODIFIED:20251126T173937Z
UID:10050739-1777248000-1777334399@autocamp.com
SUMMARY:Find the Otter Kid's Game
DESCRIPTION:Can you find the hidden River Otter inside the Clubhouse? During their stay\, young explorers can search for the River Otter stuffed animal hidden somewhere in the Clubhouse. Be sure to let a team member know when you find it\, and kiddos will receive a small surprise as their reward. And if you’d like to take your own River Otter home with you\, we sell these little stuffed friends in our General Store. Good luck searching!
URL:https://autocamp.com/event/find-the-otter-kids-game-sonoma/2026-04-27/
LOCATION:AutoCamp Sonoma\, 14120 Old Cazadero Rd\, Guerneville\, CA\, 95446\, United States
CATEGORIES:AutoCamp Sonoma
ATTACH;FMTTYPE=image/png:https://autocamp.com/wp-content/uploads/2025/11/Otter-Website.png
END:VEVENT
BEGIN:VEVENT
DTSTART;VALUE=DATE:20260428
DTEND;VALUE=DATE:20260429
DTSTAMP:20260421T064007
CREATED:20251126T173910Z
LAST-MODIFIED:20251126T173937Z
UID:10050740-1777334400-1777420799@autocamp.com
SUMMARY:Find the Otter Kid's Game
DESCRIPTION:Can you find the hidden River Otter inside the Clubhouse? During their stay\, young explorers can search for the River Otter stuffed animal hidden somewhere in the Clubhouse. Be sure to let a team member know when you find it\, and kiddos will receive a small surprise as their reward. And if you’d like to take your own River Otter home with you\, we sell these little stuffed friends in our General Store. Good luck searching!
URL:https://autocamp.com/event/find-the-otter-kids-game-sonoma/2026-04-28/
LOCATION:AutoCamp Sonoma\, 14120 Old Cazadero Rd\, Guerneville\, CA\, 95446\, United States
CATEGORIES:AutoCamp Sonoma
ATTACH;FMTTYPE=image/png:https://autocamp.com/wp-content/uploads/2025/11/Otter-Website.png
END:VEVENT
BEGIN:VEVENT
DTSTART;VALUE=DATE:20260429
DTEND;VALUE=DATE:20260430
DTSTAMP:20260421T064007
CREATED:20251126T173910Z
LAST-MODIFIED:20251126T173937Z
UID:10050741-1777420800-1777507199@autocamp.com
SUMMARY:Find the Otter Kid's Game
DESCRIPTION:Can you find the hidden River Otter inside the Clubhouse? During their stay\, young explorers can search for the River Otter stuffed animal hidden somewhere in the Clubhouse. Be sure to let a team member know when you find it\, and kiddos will receive a small surprise as their reward. And if you’d like to take your own River Otter home with you\, we sell these little stuffed friends in our General Store. Good luck searching!
URL:https://autocamp.com/event/find-the-otter-kids-game-sonoma/2026-04-29/
LOCATION:AutoCamp Sonoma\, 14120 Old Cazadero Rd\, Guerneville\, CA\, 95446\, United States
CATEGORIES:AutoCamp Sonoma
ATTACH;FMTTYPE=image/png:https://autocamp.com/wp-content/uploads/2025/11/Otter-Website.png
END:VEVENT
BEGIN:VEVENT
DTSTART;VALUE=DATE:20260430
DTEND;VALUE=DATE:20260501
DTSTAMP:20260421T064007
CREATED:20251126T173910Z
LAST-MODIFIED:20251126T173937Z
UID:10050742-1777507200-1777593599@autocamp.com
SUMMARY:Find the Otter Kid's Game
DESCRIPTION:Can you find the hidden River Otter inside the Clubhouse? During their stay\, young explorers can search for the River Otter stuffed animal hidden somewhere in the Clubhouse. Be sure to let a team member know when you find it\, and kiddos will receive a small surprise as their reward. And if you’d like to take your own River Otter home with you\, we sell these little stuffed friends in our General Store. Good luck searching!
URL:https://autocamp.com/event/find-the-otter-kids-game-sonoma/2026-04-30/
LOCATION:AutoCamp Sonoma\, 14120 Old Cazadero Rd\, Guerneville\, CA\, 95446\, United States
CATEGORIES:AutoCamp Sonoma
ATTACH;FMTTYPE=image/png:https://autocamp.com/wp-content/uploads/2025/11/Otter-Website.png
END:VEVENT
BEGIN:VEVENT
DTSTART;VALUE=DATE:20260501
DTEND;VALUE=DATE:20260502
DTSTAMP:20260421T064007
CREATED:20251126T173910Z
LAST-MODIFIED:20251126T173937Z
UID:10050743-1777593600-1777679999@autocamp.com
SUMMARY:Find the Otter Kid's Game
DESCRIPTION:Can you find the hidden River Otter inside the Clubhouse? During their stay\, young explorers can search for the River Otter stuffed animal hidden somewhere in the Clubhouse. Be sure to let a team member know when you find it\, and kiddos will receive a small surprise as their reward. And if you’d like to take your own River Otter home with you\, we sell these little stuffed friends in our General Store. Good luck searching!
URL:https://autocamp.com/event/find-the-otter-kids-game-sonoma/2026-05-01/
LOCATION:AutoCamp Sonoma\, 14120 Old Cazadero Rd\, Guerneville\, CA\, 95446\, United States
CATEGORIES:AutoCamp Sonoma
ATTACH;FMTTYPE=image/png:https://autocamp.com/wp-content/uploads/2025/11/Otter-Website.png
END:VEVENT
BEGIN:VEVENT
DTSTART;VALUE=DATE:20260502
DTEND;VALUE=DATE:20260503
DTSTAMP:20260421T064007
CREATED:20251126T173910Z
LAST-MODIFIED:20251126T173937Z
UID:10050744-1777680000-1777766399@autocamp.com
SUMMARY:Find the Otter Kid's Game
DESCRIPTION:Can you find the hidden River Otter inside the Clubhouse? During their stay\, young explorers can search for the River Otter stuffed animal hidden somewhere in the Clubhouse. Be sure to let a team member know when you find it\, and kiddos will receive a small surprise as their reward. And if you’d like to take your own River Otter home with you\, we sell these little stuffed friends in our General Store. Good luck searching!
URL:https://autocamp.com/event/find-the-otter-kids-game-sonoma/2026-05-02/
LOCATION:AutoCamp Sonoma\, 14120 Old Cazadero Rd\, Guerneville\, CA\, 95446\, United States
CATEGORIES:AutoCamp Sonoma
ATTACH;FMTTYPE=image/png:https://autocamp.com/wp-content/uploads/2025/11/Otter-Website.png
END:VEVENT
BEGIN:VEVENT
DTSTART;TZID=America/Los_Angeles:20260502T170000
DTEND;TZID=America/Los_Angeles:20260502T190000
DTSTAMP:20260421T064007
CREATED:20260314T211800Z
LAST-MODIFIED:20260314T212027Z
UID:10080942-1777741200-1777748400@autocamp.com
SUMMARY:Wine tasting hosted by Kenneth Carl Estate Winery
DESCRIPTION:Join us in the Clubhouse with Jahlial for a complimentary tasting of Estate wines.
URL:https://autocamp.com/event/wine-tasting-hosted-by-kenneth-carl-estate-winery/
LOCATION:AutoCamp Sonoma\, 14120 Old Cazadero Rd\, Guerneville\, CA\, 95446\, United States
CATEGORIES:AutoCamp Sonoma
END:VEVENT
BEGIN:VEVENT
DTSTART;VALUE=DATE:20260503
DTEND;VALUE=DATE:20260504
DTSTAMP:20260421T064007
CREATED:20251126T173910Z
LAST-MODIFIED:20251126T173937Z
UID:10050745-1777766400-1777852799@autocamp.com
SUMMARY:Find the Otter Kid's Game
DESCRIPTION:Can you find the hidden River Otter inside the Clubhouse? During their stay\, young explorers can search for the River Otter stuffed animal hidden somewhere in the Clubhouse. Be sure to let a team member know when you find it\, and kiddos will receive a small surprise as their reward. And if you’d like to take your own River Otter home with you\, we sell these little stuffed friends in our General Store. Good luck searching!
URL:https://autocamp.com/event/find-the-otter-kids-game-sonoma/2026-05-03/
LOCATION:AutoCamp Sonoma\, 14120 Old Cazadero Rd\, Guerneville\, CA\, 95446\, United States
CATEGORIES:AutoCamp Sonoma
ATTACH;FMTTYPE=image/png:https://autocamp.com/wp-content/uploads/2025/11/Otter-Website.png
END:VEVENT
BEGIN:VEVENT
DTSTART;VALUE=DATE:20260504
DTEND;VALUE=DATE:20260505
DTSTAMP:20260421T064007
CREATED:20251126T173910Z
LAST-MODIFIED:20251126T173937Z
UID:10050746-1777852800-1777939199@autocamp.com
SUMMARY:Find the Otter Kid's Game
DESCRIPTION:Can you find the hidden River Otter inside the Clubhouse? During their stay\, young explorers can search for the River Otter stuffed animal hidden somewhere in the Clubhouse. Be sure to let a team member know when you find it\, and kiddos will receive a small surprise as their reward. And if you’d like to take your own River Otter home with you\, we sell these little stuffed friends in our General Store. Good luck searching!
URL:https://autocamp.com/event/find-the-otter-kids-game-sonoma/2026-05-04/
LOCATION:AutoCamp Sonoma\, 14120 Old Cazadero Rd\, Guerneville\, CA\, 95446\, United States
CATEGORIES:AutoCamp Sonoma
ATTACH;FMTTYPE=image/png:https://autocamp.com/wp-content/uploads/2025/11/Otter-Website.png
END:VEVENT
BEGIN:VEVENT
DTSTART;VALUE=DATE:20260505
DTEND;VALUE=DATE:20260506
DTSTAMP:20260421T064007
CREATED:20251126T173910Z
LAST-MODIFIED:20251126T173937Z
UID:10050747-1777939200-1778025599@autocamp.com
SUMMARY:Find the Otter Kid's Game
DESCRIPTION:Can you find the hidden River Otter inside the Clubhouse? During their stay\, young explorers can search for the River Otter stuffed animal hidden somewhere in the Clubhouse. Be sure to let a team member know when you find it\, and kiddos will receive a small surprise as their reward. And if you’d like to take your own River Otter home with you\, we sell these little stuffed friends in our General Store. Good luck searching!
URL:https://autocamp.com/event/find-the-otter-kids-game-sonoma/2026-05-05/
LOCATION:AutoCamp Sonoma\, 14120 Old Cazadero Rd\, Guerneville\, CA\, 95446\, United States
CATEGORIES:AutoCamp Sonoma
ATTACH;FMTTYPE=image/png:https://autocamp.com/wp-content/uploads/2025/11/Otter-Website.png
END:VEVENT
BEGIN:VEVENT
DTSTART;VALUE=DATE:20260506
DTEND;VALUE=DATE:20260507
DTSTAMP:20260421T064007
CREATED:20251126T173910Z
LAST-MODIFIED:20251126T173937Z
UID:10050748-1778025600-1778111999@autocamp.com
SUMMARY:Find the Otter Kid's Game
DESCRIPTION:Can you find the hidden River Otter inside the Clubhouse? During their stay\, young explorers can search for the River Otter stuffed animal hidden somewhere in the Clubhouse. Be sure to let a team member know when you find it\, and kiddos will receive a small surprise as their reward. And if you’d like to take your own River Otter home with you\, we sell these little stuffed friends in our General Store. Good luck searching!
URL:https://autocamp.com/event/find-the-otter-kids-game-sonoma/2026-05-06/
LOCATION:AutoCamp Sonoma\, 14120 Old Cazadero Rd\, Guerneville\, CA\, 95446\, United States
CATEGORIES:AutoCamp Sonoma
ATTACH;FMTTYPE=image/png:https://autocamp.com/wp-content/uploads/2025/11/Otter-Website.png
END:VEVENT
BEGIN:VEVENT
DTSTART;VALUE=DATE:20260507
DTEND;VALUE=DATE:20260508
DTSTAMP:20260421T064007
CREATED:20251126T173910Z
LAST-MODIFIED:20251126T173937Z
UID:10050749-1778112000-1778198399@autocamp.com
SUMMARY:Find the Otter Kid's Game
DESCRIPTION:Can you find the hidden River Otter inside the Clubhouse? During their stay\, young explorers can search for the River Otter stuffed animal hidden somewhere in the Clubhouse. Be sure to let a team member know when you find it\, and kiddos will receive a small surprise as their reward. And if you’d like to take your own River Otter home with you\, we sell these little stuffed friends in our General Store. Good luck searching!
URL:https://autocamp.com/event/find-the-otter-kids-game-sonoma/2026-05-07/
LOCATION:AutoCamp Sonoma\, 14120 Old Cazadero Rd\, Guerneville\, CA\, 95446\, United States
CATEGORIES:AutoCamp Sonoma
ATTACH;FMTTYPE=image/png:https://autocamp.com/wp-content/uploads/2025/11/Otter-Website.png
END:VEVENT
BEGIN:VEVENT
DTSTART;TZID=America/Los_Angeles:20260507T160000
DTEND;TZID=America/Los_Angeles:20260507T180000
DTSTAMP:20260421T064007
CREATED:20260417T152118Z
LAST-MODIFIED:20260417T152118Z
UID:10087232-1778169600-1778176800@autocamp.com
SUMMARY:Lottie's Meats & Cooperage Beer Tasting
DESCRIPTION:Come to the Clubhouse for a tasting of select beers and meats.
URL:https://autocamp.com/event/lotties-meats-cooperage-beer-tasting/
LOCATION:AutoCamp Sonoma\, 14120 Old Cazadero Rd\, Guerneville\, CA\, 95446\, United States
CATEGORIES:AutoCamp Sonoma
END:VEVENT
BEGIN:VEVENT
DTSTART;VALUE=DATE:20260508
DTEND;VALUE=DATE:20260509
DTSTAMP:20260421T064007
CREATED:20251126T173910Z
LAST-MODIFIED:20251126T173937Z
UID:10050750-1778198400-1778284799@autocamp.com
SUMMARY:Find the Otter Kid's Game
DESCRIPTION:Can you find the hidden River Otter inside the Clubhouse? During their stay\, young explorers can search for the River Otter stuffed animal hidden somewhere in the Clubhouse. Be sure to let a team member know when you find it\, and kiddos will receive a small surprise as their reward. And if you’d like to take your own River Otter home with you\, we sell these little stuffed friends in our General Store. Good luck searching!
URL:https://autocamp.com/event/find-the-otter-kids-game-sonoma/2026-05-08/
LOCATION:AutoCamp Sonoma\, 14120 Old Cazadero Rd\, Guerneville\, CA\, 95446\, United States
CATEGORIES:AutoCamp Sonoma
ATTACH;FMTTYPE=image/png:https://autocamp.com/wp-content/uploads/2025/11/Otter-Website.png
END:VEVENT
BEGIN:VEVENT
DTSTART;TZID=America/Los_Angeles:20260508T160000
DTEND;TZID=America/Los_Angeles:20260508T180000
DTSTAMP:20260421T064007
CREATED:20260314T212248Z
LAST-MODIFIED:20260314T212248Z
UID:10080943-1778256000-1778263200@autocamp.com
SUMMARY:Wine tasting hosted by Reeve Wines
DESCRIPTION:Come join us in the Clubhouse for a complimentary tasting of Reeve Wines latest offerings.
URL:https://autocamp.com/event/wine-tasting-hosted-by-reeve-wines/
LOCATION:AutoCamp Sonoma\, 14120 Old Cazadero Rd\, Guerneville\, CA\, 95446\, United States
CATEGORIES:AutoCamp Sonoma
END:VEVENT
BEGIN:VEVENT
DTSTART;VALUE=DATE:20260509
DTEND;VALUE=DATE:20260510
DTSTAMP:20260421T064007
CREATED:20251126T173910Z
LAST-MODIFIED:20251126T173937Z
UID:10050751-1778284800-1778371199@autocamp.com
SUMMARY:Find the Otter Kid's Game
DESCRIPTION:Can you find the hidden River Otter inside the Clubhouse? During their stay\, young explorers can search for the River Otter stuffed animal hidden somewhere in the Clubhouse. Be sure to let a team member know when you find it\, and kiddos will receive a small surprise as their reward. And if you’d like to take your own River Otter home with you\, we sell these little stuffed friends in our General Store. Good luck searching!
URL:https://autocamp.com/event/find-the-otter-kids-game-sonoma/2026-05-09/
LOCATION:AutoCamp Sonoma\, 14120 Old Cazadero Rd\, Guerneville\, CA\, 95446\, United States
CATEGORIES:AutoCamp Sonoma
ATTACH;FMTTYPE=image/png:https://autocamp.com/wp-content/uploads/2025/11/Otter-Website.png
END:VEVENT
BEGIN:VEVENT
DTSTART;TZID=America/Los_Angeles:20260509T160000
DTEND;TZID=America/Los_Angeles:20260509T180000
DTSTAMP:20260421T064007
CREATED:20260314T212454Z
LAST-MODIFIED:20260314T212454Z
UID:10080944-1778342400-1778349600@autocamp.com
SUMMARY:Wine tasting hosted by Dehlinger Winery
DESCRIPTION:Come join us at the Clubhouse with Emi for a complimentary tasting of world-class Pinot Noir.
URL:https://autocamp.com/event/wine-tasting-hosted-by-dehlinger-winery-2/
LOCATION:AutoCamp Sonoma\, 14120 Old Cazadero Rd\, Guerneville\, CA\, 95446\, United States
CATEGORIES:AutoCamp Sonoma
END:VEVENT
BEGIN:VEVENT
DTSTART;VALUE=DATE:20260510
DTEND;VALUE=DATE:20260511
DTSTAMP:20260421T064007
CREATED:20251126T173910Z
LAST-MODIFIED:20251126T173937Z
UID:10050752-1778371200-1778457599@autocamp.com
SUMMARY:Find the Otter Kid's Game
DESCRIPTION:Can you find the hidden River Otter inside the Clubhouse? During their stay\, young explorers can search for the River Otter stuffed animal hidden somewhere in the Clubhouse. Be sure to let a team member know when you find it\, and kiddos will receive a small surprise as their reward. And if you’d like to take your own River Otter home with you\, we sell these little stuffed friends in our General Store. Good luck searching!
URL:https://autocamp.com/event/find-the-otter-kids-game-sonoma/2026-05-10/
LOCATION:AutoCamp Sonoma\, 14120 Old Cazadero Rd\, Guerneville\, CA\, 95446\, United States
CATEGORIES:AutoCamp Sonoma
ATTACH;FMTTYPE=image/png:https://autocamp.com/wp-content/uploads/2025/11/Otter-Website.png
END:VEVENT
BEGIN:VEVENT
DTSTART;VALUE=DATE:20260511
DTEND;VALUE=DATE:20260512
DTSTAMP:20260421T064007
CREATED:20251126T173910Z
LAST-MODIFIED:20251126T173937Z
UID:10050753-1778457600-1778543999@autocamp.com
SUMMARY:Find the Otter Kid's Game
DESCRIPTION:Can you find the hidden River Otter inside the Clubhouse? During their stay\, young explorers can search for the River Otter stuffed animal hidden somewhere in the Clubhouse. Be sure to let a team member know when you find it\, and kiddos will receive a small surprise as their reward. And if you’d like to take your own River Otter home with you\, we sell these little stuffed friends in our General Store. Good luck searching!
URL:https://autocamp.com/event/find-the-otter-kids-game-sonoma/2026-05-11/
LOCATION:AutoCamp Sonoma\, 14120 Old Cazadero Rd\, Guerneville\, CA\, 95446\, United States
CATEGORIES:AutoCamp Sonoma
ATTACH;FMTTYPE=image/png:https://autocamp.com/wp-content/uploads/2025/11/Otter-Website.png
END:VEVENT
BEGIN:VEVENT
DTSTART;VALUE=DATE:20260512
DTEND;VALUE=DATE:20260513
DTSTAMP:20260421T064007
CREATED:20251126T173910Z
LAST-MODIFIED:20251126T173937Z
UID:10050754-1778544000-1778630399@autocamp.com
SUMMARY:Find the Otter Kid's Game
DESCRIPTION:Can you find the hidden River Otter inside the Clubhouse? During their stay\, young explorers can search for the River Otter stuffed animal hidden somewhere in the Clubhouse. Be sure to let a team member know when you find it\, and kiddos will receive a small surprise as their reward. And if you’d like to take your own River Otter home with you\, we sell these little stuffed friends in our General Store. Good luck searching!
URL:https://autocamp.com/event/find-the-otter-kids-game-sonoma/2026-05-12/
LOCATION:AutoCamp Sonoma\, 14120 Old Cazadero Rd\, Guerneville\, CA\, 95446\, United States
CATEGORIES:AutoCamp Sonoma
ATTACH;FMTTYPE=image/png:https://autocamp.com/wp-content/uploads/2025/11/Otter-Website.png
END:VEVENT
BEGIN:VEVENT
DTSTART;VALUE=DATE:20260513
DTEND;VALUE=DATE:20260514
DTSTAMP:20260421T064007
CREATED:20251126T173910Z
LAST-MODIFIED:20251126T173937Z
UID:10050755-1778630400-1778716799@autocamp.com
SUMMARY:Find the Otter Kid's Game
DESCRIPTION:Can you find the hidden River Otter inside the Clubhouse? During their stay\, young explorers can search for the River Otter stuffed animal hidden somewhere in the Clubhouse. Be sure to let a team member know when you find it\, and kiddos will receive a small surprise as their reward. And if you’d like to take your own River Otter home with you\, we sell these little stuffed friends in our General Store. Good luck searching!
URL:https://autocamp.com/event/find-the-otter-kids-game-sonoma/2026-05-13/
LOCATION:AutoCamp Sonoma\, 14120 Old Cazadero Rd\, Guerneville\, CA\, 95446\, United States
CATEGORIES:AutoCamp Sonoma
ATTACH;FMTTYPE=image/png:https://autocamp.com/wp-content/uploads/2025/11/Otter-Website.png
END:VEVENT
BEGIN:VEVENT
DTSTART;VALUE=DATE:20260514
DTEND;VALUE=DATE:20260515
DTSTAMP:20260421T064007
CREATED:20251126T173910Z
LAST-MODIFIED:20251126T173937Z
UID:10050756-1778716800-1778803199@autocamp.com
SUMMARY:Find the Otter Kid's Game
DESCRIPTION:Can you find the hidden River Otter inside the Clubhouse? During their stay\, young explorers can search for the River Otter stuffed animal hidden somewhere in the Clubhouse. Be sure to let a team member know when you find it\, and kiddos will receive a small surprise as their reward. And if you’d like to take your own River Otter home with you\, we sell these little stuffed friends in our General Store. Good luck searching!
URL:https://autocamp.com/event/find-the-otter-kids-game-sonoma/2026-05-14/
LOCATION:AutoCamp Sonoma\, 14120 Old Cazadero Rd\, Guerneville\, CA\, 95446\, United States
CATEGORIES:AutoCamp Sonoma
ATTACH;FMTTYPE=image/png:https://autocamp.com/wp-content/uploads/2025/11/Otter-Website.png
END:VEVENT
END:VCALENDAR