BEGIN:VCALENDAR
VERSION:2.0
PRODID:-//AutoCamp - ECPv6.15.0.1//NONSGML v1.0//EN
CALSCALE:GREGORIAN
METHOD:PUBLISH
X-ORIGINAL-URL:https://autocamp.com
X-WR-CALDESC:Events for AutoCamp
REFRESH-INTERVAL;VALUE=DURATION:PT1H
X-Robots-Tag:noindex
X-PUBLISHED-TTL:PT1H
BEGIN:VTIMEZONE
TZID:America/Los_Angeles
BEGIN:DAYLIGHT
TZOFFSETFROM:-0800
TZOFFSETTO:-0700
TZNAME:PDT
DTSTART:20260308T100000
END:DAYLIGHT
BEGIN:STANDARD
TZOFFSETFROM:-0700
TZOFFSETTO:-0800
TZNAME:PST
DTSTART:20261101T090000
END:STANDARD
END:VTIMEZONE
BEGIN:VEVENT
DTSTART;VALUE=DATE:20260501
DTEND;VALUE=DATE:20260502
DTSTAMP:20260419T230850
CREATED:20251126T174621Z
LAST-MODIFIED:20251126T174621Z
UID:10056119-1777593600-1777679999@autocamp.com
SUMMARY:Find the Bear Kid's Game
DESCRIPTION:Can you find the hidden Black Bear inside the Clubhouse? During their stay\, young explorers can search for the Black Bear stuffed animal hidden somewhere in the Clubhouse. Be sure to let a team member know when you find it\, and kiddos will receive a small surprise as their reward. And if you’d like to take your own Black Bear home with you\, we sell these little stuffed friends in our General Store. Good luck searching!
URL:https://autocamp.com/event/find-the-bear-kids-game-sequoia/2026-05-01/
LOCATION:AutoCamp Sequoia\, 40457 Sierra Drive\, Three Rivers\, CA\, 93271\, United States
CATEGORIES:AutoCamp Sequoia
ATTACH;FMTTYPE=image/png:https://autocamp.com/wp-content/uploads/2025/11/Black-Bear-Website.png
END:VEVENT
BEGIN:VEVENT
DTSTART;TZID=America/Los_Angeles:20260501T203000
DTEND;TZID=America/Los_Angeles:20260501T213000
DTSTAMP:20260419T230850
CREATED:20260413T195317Z
LAST-MODIFIED:20260413T195650Z
UID:10084723-1777667400-1777671000@autocamp.com
SUMMARY:Star Gazing Chats with Scott
DESCRIPTION:Whether it is your first time or tenth visit to Sequoia and Kings Canyon Nations Parks\, there is always something new to learn about these giant trees. Join ex-Park Ranger and local guide Scott C. Reinhardt (Big Trees Tours) for an educational\, relaxing talk around the campfire. \nIf the Sky’s are clear enjoy Stargazing. Scott will lead you on a celestial journey of the wonders of the Cosmos. \nGrab a snack from the Clubhouse and bring your questions as we explore why these Sierra Nevada trees are so special. Meet us at the fire pit at 7:30PM. Bring a camp chair or blanket to sit on (not required).
URL:https://autocamp.com/event/star-gazing-chats-with-scott/2026-05-01/
LOCATION:CA
CATEGORIES:AutoCamp Sequoia
END:VEVENT
BEGIN:VEVENT
DTSTART;VALUE=DATE:20260502
DTEND;VALUE=DATE:20260503
DTSTAMP:20260419T230850
CREATED:20251126T174621Z
LAST-MODIFIED:20251126T174621Z
UID:10056120-1777680000-1777766399@autocamp.com
SUMMARY:Find the Bear Kid's Game
DESCRIPTION:Can you find the hidden Black Bear inside the Clubhouse? During their stay\, young explorers can search for the Black Bear stuffed animal hidden somewhere in the Clubhouse. Be sure to let a team member know when you find it\, and kiddos will receive a small surprise as their reward. And if you’d like to take your own Black Bear home with you\, we sell these little stuffed friends in our General Store. Good luck searching!
URL:https://autocamp.com/event/find-the-bear-kids-game-sequoia/2026-05-02/
LOCATION:AutoCamp Sequoia\, 40457 Sierra Drive\, Three Rivers\, CA\, 93271\, United States
CATEGORIES:AutoCamp Sequoia
ATTACH;FMTTYPE=image/png:https://autocamp.com/wp-content/uploads/2025/11/Black-Bear-Website.png
END:VEVENT
BEGIN:VEVENT
DTSTART;TZID=America/Los_Angeles:20260502T080000
DTEND;TZID=America/Los_Angeles:20260502T090000
DTSTAMP:20260419T230850
CREATED:20250522T000651Z
LAST-MODIFIED:20260205T190556Z
UID:10027640-1777708800-1777712400@autocamp.com
SUMMARY:Weekend Yoga
DESCRIPTION:Join us in the Cedar Room for a moment of breath work and relaxation every weekend with a guided meditation and yoga flow. There’s no better way to start your day! Open to most ages and all experience levels. Mats and props will be provided.
URL:https://autocamp.com/event/weekend-yoga/2026-05-02/
LOCATION:AutoCamp Sequoia\, 40457 Sierra Drive\, Three Rivers\, CA\, 93271\, United States
CATEGORIES:AutoCamp Sequoia
ATTACH;FMTTYPE=image/jpeg:https://autocamp.com/wp-content/uploads/2025/05/yoga.jpg
END:VEVENT
BEGIN:VEVENT
DTSTART;TZID=America/Los_Angeles:20260502T090000
DTEND;TZID=America/Los_Angeles:20260502T170000
DTSTAMP:20260419T230850
CREATED:20260325T204020Z
LAST-MODIFIED:20260403T002622Z
UID:10082859-1777712400-1777741200@autocamp.com
SUMMARY:Guided Hike to Sequoia National Park
DESCRIPTION:Join us for Family friendly guided hike led by Pani of Mountain Trekking Adventures. This immersive experience features\, guided caravan style tour of the Sequoia National Park and is $75 per person. \nGuests will meet Pani in front of the AutoCamp Sequoia Clubhouse at 9AM. The drive to the trailhead is approximately 45 minutes. Stops will include Sequoia National Parks sign\, Hospital Rock\, and General Sherman Tree\, followed by 3 – mile Congress Trail . After a lunch break guests can opt- to the 3.5 mile Tokopah Falls Hike. \nPark passes can be purchased here\, https://www.recreation.gov/sitepass/72471. The entrance kiosk is cashless\, park entry fees are per vehicle and must be purchased seperately. \nTo add this experience to your reservation\, please contact the AutoCamp Sequoia Guest Experience team by calling 559-465-0779 or emailing sequoia@autocamp.com.
URL:https://autocamp.com/event/guided-hike-to-sequoia-national-park/2026-05-02/
LOCATION:CA
CATEGORIES:AutoCamp Sequoia
END:VEVENT
BEGIN:VEVENT
DTSTART;TZID=America/Los_Angeles:20260502T100000
DTEND;TZID=America/Los_Angeles:20260502T110000
DTSTAMP:20260419T230850
CREATED:20250801T173223Z
LAST-MODIFIED:20250801T173224Z
UID:10029894-1777716000-1777719600@autocamp.com
SUMMARY:Post Card Station
DESCRIPTION:The best adventures are the ones shared! Join us in the Clubhouse to decorate and write postcards that you can deliver to your friends and family. Whether you’re recounting an awesome hike or your perfect summer day by the pool\, there’s something nostalgic about capturing your memories in the moment.
URL:https://autocamp.com/event/post-card-station-2/2026-05-02/
LOCATION:AutoCamp Sequoia\, 40457 Sierra Drive\, Three Rivers\, CA\, 93271\, United States
CATEGORIES:AutoCamp Sequoia
ATTACH;FMTTYPE=image/png:https://autocamp.com/wp-content/uploads/2025/05/Frame-197.png
END:VEVENT
BEGIN:VEVENT
DTSTART;TZID=America/Los_Angeles:20260502T180000
DTEND;TZID=America/Los_Angeles:20260502T200000
DTSTAMP:20260419T230850
CREATED:20260210T184926Z
LAST-MODIFIED:20260210T185528Z
UID:10041434-1777744800-1777752000@autocamp.com
SUMMARY:Live Music
DESCRIPTION:Gather at the Clubhouse’s communal fire pit and listen to some live tunes. We invite you to ease into your weekend evenings with good company and good music. All ages are welcome. Come hang out\, grab a drink at the bar\, and enjoy!
URL:https://autocamp.com/event/live-music-6-2-3/2026-05-02/
LOCATION:AutoCamp Sequoia\, 40457 Sierra Drive\, Three Rivers\, CA\, 93271\, United States
CATEGORIES:AutoCamp Sequoia
ATTACH;FMTTYPE=image/png:https://autocamp.com/wp-content/uploads/2025/02/Frame-168-2.png
END:VEVENT
BEGIN:VEVENT
DTSTART;VALUE=DATE:20260503
DTEND;VALUE=DATE:20260504
DTSTAMP:20260419T230850
CREATED:20251126T174621Z
LAST-MODIFIED:20251126T174621Z
UID:10056121-1777766400-1777852799@autocamp.com
SUMMARY:Find the Bear Kid's Game
DESCRIPTION:Can you find the hidden Black Bear inside the Clubhouse? During their stay\, young explorers can search for the Black Bear stuffed animal hidden somewhere in the Clubhouse. Be sure to let a team member know when you find it\, and kiddos will receive a small surprise as their reward. And if you’d like to take your own Black Bear home with you\, we sell these little stuffed friends in our General Store. Good luck searching!
URL:https://autocamp.com/event/find-the-bear-kids-game-sequoia/2026-05-03/
LOCATION:AutoCamp Sequoia\, 40457 Sierra Drive\, Three Rivers\, CA\, 93271\, United States
CATEGORIES:AutoCamp Sequoia
ATTACH;FMTTYPE=image/png:https://autocamp.com/wp-content/uploads/2025/11/Black-Bear-Website.png
END:VEVENT
BEGIN:VEVENT
DTSTART;TZID=America/Los_Angeles:20260503T190000
DTEND;TZID=America/Los_Angeles:20260503T210000
DTSTAMP:20260419T230850
CREATED:20251202T215721Z
LAST-MODIFIED:20251202T215722Z
UID:10063707-1777834800-1777842000@autocamp.com
SUMMARY:Movie Night Under the Stars
DESCRIPTION:Relax and enjoy an evening film. Grab your loved ones\, enjoy a drink and some food from The Kitchen\, and snuggle up to enjoy the show. \nMovie titles are family-friendly and can be found in the Clubhouse. \n 
URL:https://autocamp.com/event/movie-night-under-the-stars-2-2-2-2-2-2/2026-05-03/
LOCATION:AutoCamp Sequoia\, 40457 Sierra Drive\, Three Rivers\, CA\, 93271\, United States
CATEGORIES:AutoCamp Sequoia
ATTACH;FMTTYPE=image/jpeg:https://autocamp.com/wp-content/uploads/2025/02/CBS-Tracker-Joshua-Tree-x-CNC-139-scaled.jpg
END:VEVENT
BEGIN:VEVENT
DTSTART;VALUE=DATE:20260504
DTEND;VALUE=DATE:20260505
DTSTAMP:20260419T230850
CREATED:20251126T174621Z
LAST-MODIFIED:20251126T174621Z
UID:10056122-1777852800-1777939199@autocamp.com
SUMMARY:Find the Bear Kid's Game
DESCRIPTION:Can you find the hidden Black Bear inside the Clubhouse? During their stay\, young explorers can search for the Black Bear stuffed animal hidden somewhere in the Clubhouse. Be sure to let a team member know when you find it\, and kiddos will receive a small surprise as their reward. And if you’d like to take your own Black Bear home with you\, we sell these little stuffed friends in our General Store. Good luck searching!
URL:https://autocamp.com/event/find-the-bear-kids-game-sequoia/2026-05-04/
LOCATION:AutoCamp Sequoia\, 40457 Sierra Drive\, Three Rivers\, CA\, 93271\, United States
CATEGORIES:AutoCamp Sequoia
ATTACH;FMTTYPE=image/png:https://autocamp.com/wp-content/uploads/2025/11/Black-Bear-Website.png
END:VEVENT
BEGIN:VEVENT
DTSTART;TZID=America/Los_Angeles:20260504T100000
DTEND;TZID=America/Los_Angeles:20260504T110000
DTSTAMP:20260419T230850
CREATED:20250801T173223Z
LAST-MODIFIED:20250801T173224Z
UID:10029895-1777888800-1777892400@autocamp.com
SUMMARY:Post Card Station
DESCRIPTION:The best adventures are the ones shared! Join us in the Clubhouse to decorate and write postcards that you can deliver to your friends and family. Whether you’re recounting an awesome hike or your perfect summer day by the pool\, there’s something nostalgic about capturing your memories in the moment.
URL:https://autocamp.com/event/post-card-station-2/2026-05-04/
LOCATION:AutoCamp Sequoia\, 40457 Sierra Drive\, Three Rivers\, CA\, 93271\, United States
CATEGORIES:AutoCamp Sequoia
ATTACH;FMTTYPE=image/png:https://autocamp.com/wp-content/uploads/2025/05/Frame-197.png
END:VEVENT
BEGIN:VEVENT
DTSTART;TZID=America/Los_Angeles:20260504T190000
DTEND;TZID=America/Los_Angeles:20260504T200000
DTSTAMP:20260419T230850
CREATED:20260414T163636Z
LAST-MODIFIED:20260414T163722Z
UID:10086895-1777921200-1777924800@autocamp.com
SUMMARY:Time with a Park Ranger Scott C. Reinhardt
DESCRIPTION:Whether it is your first time or tenth visit to Sequoia and Kings Canyon Nations Parks\, there is always something new to learn about these giant trees. Join ex-Park Ranger and local guide Scott C. Reinhardt (Big Trees Tours) for an educational\, relaxing talk around the campfire.
URL:https://autocamp.com/event/time-with-a-park-ranger-scott-c-reinhardt-2/
LOCATION:CA
CATEGORIES:AutoCamp Sequoia
END:VEVENT
BEGIN:VEVENT
DTSTART;TZID=America/Los_Angeles:20260504T193000
DTEND;TZID=America/Los_Angeles:20260504T203000
DTSTAMP:20260419T230850
CREATED:20260410T190514Z
LAST-MODIFIED:20260410T190514Z
UID:10084661-1777923000-1777926600@autocamp.com
SUMMARY:Fun and Games
DESCRIPTION:Join us in the Clubhouse for a friendly game of Bingo or Trivia. Dealers choice of game. \nFamily friendly and fun for all ages. \n 
URL:https://autocamp.com/event/fun-and-games/2026-05-04/
LOCATION:CA
CATEGORIES:AutoCamp Sequoia
END:VEVENT
BEGIN:VEVENT
DTSTART;VALUE=DATE:20260505
DTEND;VALUE=DATE:20260506
DTSTAMP:20260419T230850
CREATED:20251126T174621Z
LAST-MODIFIED:20251126T174621Z
UID:10056123-1777939200-1778025599@autocamp.com
SUMMARY:Find the Bear Kid's Game
DESCRIPTION:Can you find the hidden Black Bear inside the Clubhouse? During their stay\, young explorers can search for the Black Bear stuffed animal hidden somewhere in the Clubhouse. Be sure to let a team member know when you find it\, and kiddos will receive a small surprise as their reward. And if you’d like to take your own Black Bear home with you\, we sell these little stuffed friends in our General Store. Good luck searching!
URL:https://autocamp.com/event/find-the-bear-kids-game-sequoia/2026-05-05/
LOCATION:AutoCamp Sequoia\, 40457 Sierra Drive\, Three Rivers\, CA\, 93271\, United States
CATEGORIES:AutoCamp Sequoia
ATTACH;FMTTYPE=image/png:https://autocamp.com/wp-content/uploads/2025/11/Black-Bear-Website.png
END:VEVENT
BEGIN:VEVENT
DTSTART;TZID=America/Los_Angeles:20260505T190000
DTEND;TZID=America/Los_Angeles:20260505T200000
DTSTAMP:20260419T230850
CREATED:20251202T215221Z
LAST-MODIFIED:20251202T215221Z
UID:10063388-1778007600-1778011200@autocamp.com
SUMMARY:Family Game Night
DESCRIPTION:Come join us in the Clubhouse for a family-friendly game night. Grab a beverage and a snack at The General Store + Kitchen\, then settle into an evening of fun led by the AutoCamp team.
URL:https://autocamp.com/event/bingo-night-sequoia-2/2026-05-05/
LOCATION:AutoCamp Sequoia\, 40457 Sierra Drive\, Three Rivers\, CA\, 93271\, United States
CATEGORIES:AutoCamp Sequoia
ATTACH;FMTTYPE=image/png:https://autocamp.com/wp-content/uploads/2025/02/Frame-157-15.png
END:VEVENT
BEGIN:VEVENT
DTSTART;VALUE=DATE:20260506
DTEND;VALUE=DATE:20260507
DTSTAMP:20260419T230850
CREATED:20251126T174621Z
LAST-MODIFIED:20251126T174621Z
UID:10056124-1778025600-1778111999@autocamp.com
SUMMARY:Find the Bear Kid's Game
DESCRIPTION:Can you find the hidden Black Bear inside the Clubhouse? During their stay\, young explorers can search for the Black Bear stuffed animal hidden somewhere in the Clubhouse. Be sure to let a team member know when you find it\, and kiddos will receive a small surprise as their reward. And if you’d like to take your own Black Bear home with you\, we sell these little stuffed friends in our General Store. Good luck searching!
URL:https://autocamp.com/event/find-the-bear-kids-game-sequoia/2026-05-06/
LOCATION:AutoCamp Sequoia\, 40457 Sierra Drive\, Three Rivers\, CA\, 93271\, United States
CATEGORIES:AutoCamp Sequoia
ATTACH;FMTTYPE=image/png:https://autocamp.com/wp-content/uploads/2025/11/Black-Bear-Website.png
END:VEVENT
BEGIN:VEVENT
DTSTART;TZID=America/Los_Angeles:20260506T140000
DTEND;TZID=America/Los_Angeles:20260506T150000
DTSTAMP:20260419T230850
CREATED:20260412T174407Z
LAST-MODIFIED:20260412T174407Z
UID:10082032-1778076000-1778079600@autocamp.com
SUMMARY:Camp Crafts
DESCRIPTION:Join us in the Clubhouse for complimentary arts and crafts. Seasonal  & nature themed crafts including  painting\, while creating cherished memories with your family and friends. We will provide all of the needed art supplies and materials\, and our team will assist you in creating your fun souvenir to remember your nature escape.
URL:https://autocamp.com/event/camp-crafts-2/2026-05-06/
LOCATION:AutoCamp Sequoia\, 40457 Sierra Drive\, Three Rivers\, CA\, 93271\, United States
CATEGORIES:AutoCamp Sequoia
END:VEVENT
BEGIN:VEVENT
DTSTART;VALUE=DATE:20260507
DTEND;VALUE=DATE:20260508
DTSTAMP:20260419T230850
CREATED:20251126T174621Z
LAST-MODIFIED:20251126T174621Z
UID:10056125-1778112000-1778198399@autocamp.com
SUMMARY:Find the Bear Kid's Game
DESCRIPTION:Can you find the hidden Black Bear inside the Clubhouse? During their stay\, young explorers can search for the Black Bear stuffed animal hidden somewhere in the Clubhouse. Be sure to let a team member know when you find it\, and kiddos will receive a small surprise as their reward. And if you’d like to take your own Black Bear home with you\, we sell these little stuffed friends in our General Store. Good luck searching!
URL:https://autocamp.com/event/find-the-bear-kids-game-sequoia/2026-05-07/
LOCATION:AutoCamp Sequoia\, 40457 Sierra Drive\, Three Rivers\, CA\, 93271\, United States
CATEGORIES:AutoCamp Sequoia
ATTACH;FMTTYPE=image/png:https://autocamp.com/wp-content/uploads/2025/11/Black-Bear-Website.png
END:VEVENT
BEGIN:VEVENT
DTSTART;VALUE=DATE:20260508
DTEND;VALUE=DATE:20260509
DTSTAMP:20260419T230850
CREATED:20251126T174621Z
LAST-MODIFIED:20251126T174621Z
UID:10056126-1778198400-1778284799@autocamp.com
SUMMARY:Find the Bear Kid's Game
DESCRIPTION:Can you find the hidden Black Bear inside the Clubhouse? During their stay\, young explorers can search for the Black Bear stuffed animal hidden somewhere in the Clubhouse. Be sure to let a team member know when you find it\, and kiddos will receive a small surprise as their reward. And if you’d like to take your own Black Bear home with you\, we sell these little stuffed friends in our General Store. Good luck searching!
URL:https://autocamp.com/event/find-the-bear-kids-game-sequoia/2026-05-08/
LOCATION:AutoCamp Sequoia\, 40457 Sierra Drive\, Three Rivers\, CA\, 93271\, United States
CATEGORIES:AutoCamp Sequoia
ATTACH;FMTTYPE=image/png:https://autocamp.com/wp-content/uploads/2025/11/Black-Bear-Website.png
END:VEVENT
BEGIN:VEVENT
DTSTART;TZID=America/Los_Angeles:20260508T203000
DTEND;TZID=America/Los_Angeles:20260508T213000
DTSTAMP:20260419T230850
CREATED:20260413T195317Z
LAST-MODIFIED:20260413T195650Z
UID:10084724-1778272200-1778275800@autocamp.com
SUMMARY:Star Gazing Chats with Scott
DESCRIPTION:Whether it is your first time or tenth visit to Sequoia and Kings Canyon Nations Parks\, there is always something new to learn about these giant trees. Join ex-Park Ranger and local guide Scott C. Reinhardt (Big Trees Tours) for an educational\, relaxing talk around the campfire. \nIf the Sky’s are clear enjoy Stargazing. Scott will lead you on a celestial journey of the wonders of the Cosmos. \nGrab a snack from the Clubhouse and bring your questions as we explore why these Sierra Nevada trees are so special. Meet us at the fire pit at 7:30PM. Bring a camp chair or blanket to sit on (not required).
URL:https://autocamp.com/event/star-gazing-chats-with-scott/2026-05-08/
LOCATION:CA
CATEGORIES:AutoCamp Sequoia
END:VEVENT
BEGIN:VEVENT
DTSTART;VALUE=DATE:20260509
DTEND;VALUE=DATE:20260510
DTSTAMP:20260419T230850
CREATED:20251126T174621Z
LAST-MODIFIED:20251126T174621Z
UID:10056127-1778284800-1778371199@autocamp.com
SUMMARY:Find the Bear Kid's Game
DESCRIPTION:Can you find the hidden Black Bear inside the Clubhouse? During their stay\, young explorers can search for the Black Bear stuffed animal hidden somewhere in the Clubhouse. Be sure to let a team member know when you find it\, and kiddos will receive a small surprise as their reward. And if you’d like to take your own Black Bear home with you\, we sell these little stuffed friends in our General Store. Good luck searching!
URL:https://autocamp.com/event/find-the-bear-kids-game-sequoia/2026-05-09/
LOCATION:AutoCamp Sequoia\, 40457 Sierra Drive\, Three Rivers\, CA\, 93271\, United States
CATEGORIES:AutoCamp Sequoia
ATTACH;FMTTYPE=image/png:https://autocamp.com/wp-content/uploads/2025/11/Black-Bear-Website.png
END:VEVENT
BEGIN:VEVENT
DTSTART;VALUE=DATE:20260509
DTEND;VALUE=DATE:20260511
DTSTAMP:20260419T230850
CREATED:20260324T161548Z
LAST-MODIFIED:20260324T161548Z
UID:10081744-1778284800-1778457599@autocamp.com
SUMMARY:Sauna & Cold Plunge Wellness Weekend
DESCRIPTION:Join us at AutoCamp Sequoia on May 9 & 10 as we partner with The Traveling Sauna for the ultimate Mother’s Day wellness weekend experience. AutoCamp guests can relax with the benefit of wood-fired heat and cold plunge therapy sessions. \nSauna wellness sessions will be available from 7AM-12PM and 3PM-8PM in Community (up to 4 people) and Private bookings\, for 30-minute or 60-minute sessions. A booking link to reserve sessions will be shared with guests prior to arrival\, and a booking schedule will be available at the Clubhouse. \nWe look forward to welcoming you to AutoCamp Sequoia for this transformational wellness experience.
URL:https://autocamp.com/event/sauna-cold-plunge-wellness-weekend/
LOCATION:AutoCamp Sequoia\, 40457 Sierra Drive\, Three Rivers\, CA\, 93271\, United States
CATEGORIES:AutoCamp Sequoia
ATTACH;FMTTYPE=image/webp:https://autocamp.com/wp-content/uploads/2026/01/huum-r5CSRlVOp3U-unsplash.webp
END:VEVENT
BEGIN:VEVENT
DTSTART;TZID=America/Los_Angeles:20260509T080000
DTEND;TZID=America/Los_Angeles:20260509T090000
DTSTAMP:20260419T230850
CREATED:20250522T000651Z
LAST-MODIFIED:20260205T190556Z
UID:10027642-1778313600-1778317200@autocamp.com
SUMMARY:Weekend Yoga
DESCRIPTION:Join us in the Cedar Room for a moment of breath work and relaxation every weekend with a guided meditation and yoga flow. There’s no better way to start your day! Open to most ages and all experience levels. Mats and props will be provided.
URL:https://autocamp.com/event/weekend-yoga/2026-05-09/
LOCATION:AutoCamp Sequoia\, 40457 Sierra Drive\, Three Rivers\, CA\, 93271\, United States
CATEGORIES:AutoCamp Sequoia
ATTACH;FMTTYPE=image/jpeg:https://autocamp.com/wp-content/uploads/2025/05/yoga.jpg
END:VEVENT
BEGIN:VEVENT
DTSTART;TZID=America/Los_Angeles:20260509T090000
DTEND;TZID=America/Los_Angeles:20260509T170000
DTSTAMP:20260419T230850
CREATED:20260325T204020Z
LAST-MODIFIED:20260403T002622Z
UID:10082860-1778317200-1778346000@autocamp.com
SUMMARY:Guided Hike to Sequoia National Park
DESCRIPTION:Join us for Family friendly guided hike led by Pani of Mountain Trekking Adventures. This immersive experience features\, guided caravan style tour of the Sequoia National Park and is $75 per person. \nGuests will meet Pani in front of the AutoCamp Sequoia Clubhouse at 9AM. The drive to the trailhead is approximately 45 minutes. Stops will include Sequoia National Parks sign\, Hospital Rock\, and General Sherman Tree\, followed by 3 – mile Congress Trail . After a lunch break guests can opt- to the 3.5 mile Tokopah Falls Hike. \nPark passes can be purchased here\, https://www.recreation.gov/sitepass/72471. The entrance kiosk is cashless\, park entry fees are per vehicle and must be purchased seperately. \nTo add this experience to your reservation\, please contact the AutoCamp Sequoia Guest Experience team by calling 559-465-0779 or emailing sequoia@autocamp.com.
URL:https://autocamp.com/event/guided-hike-to-sequoia-national-park/2026-05-09/
LOCATION:CA
CATEGORIES:AutoCamp Sequoia
END:VEVENT
BEGIN:VEVENT
DTSTART;TZID=America/Los_Angeles:20260509T100000
DTEND;TZID=America/Los_Angeles:20260509T110000
DTSTAMP:20260419T230850
CREATED:20250801T173223Z
LAST-MODIFIED:20250801T173224Z
UID:10029896-1778320800-1778324400@autocamp.com
SUMMARY:Post Card Station
DESCRIPTION:The best adventures are the ones shared! Join us in the Clubhouse to decorate and write postcards that you can deliver to your friends and family. Whether you’re recounting an awesome hike or your perfect summer day by the pool\, there’s something nostalgic about capturing your memories in the moment.
URL:https://autocamp.com/event/post-card-station-2/2026-05-09/
LOCATION:AutoCamp Sequoia\, 40457 Sierra Drive\, Three Rivers\, CA\, 93271\, United States
CATEGORIES:AutoCamp Sequoia
ATTACH;FMTTYPE=image/png:https://autocamp.com/wp-content/uploads/2025/05/Frame-197.png
END:VEVENT
BEGIN:VEVENT
DTSTART;TZID=America/Los_Angeles:20260509T180000
DTEND;TZID=America/Los_Angeles:20260509T200000
DTSTAMP:20260419T230850
CREATED:20260210T184926Z
LAST-MODIFIED:20260210T185528Z
UID:10041435-1778349600-1778356800@autocamp.com
SUMMARY:Live Music
DESCRIPTION:Gather at the Clubhouse’s communal fire pit and listen to some live tunes. We invite you to ease into your weekend evenings with good company and good music. All ages are welcome. Come hang out\, grab a drink at the bar\, and enjoy!
URL:https://autocamp.com/event/live-music-6-2-3/2026-05-09/
LOCATION:AutoCamp Sequoia\, 40457 Sierra Drive\, Three Rivers\, CA\, 93271\, United States
CATEGORIES:AutoCamp Sequoia
ATTACH;FMTTYPE=image/png:https://autocamp.com/wp-content/uploads/2025/02/Frame-168-2.png
END:VEVENT
BEGIN:VEVENT
DTSTART;VALUE=DATE:20260510
DTEND;VALUE=DATE:20260511
DTSTAMP:20260419T230850
CREATED:20251126T174621Z
LAST-MODIFIED:20251126T174621Z
UID:10056128-1778371200-1778457599@autocamp.com
SUMMARY:Find the Bear Kid's Game
DESCRIPTION:Can you find the hidden Black Bear inside the Clubhouse? During their stay\, young explorers can search for the Black Bear stuffed animal hidden somewhere in the Clubhouse. Be sure to let a team member know when you find it\, and kiddos will receive a small surprise as their reward. And if you’d like to take your own Black Bear home with you\, we sell these little stuffed friends in our General Store. Good luck searching!
URL:https://autocamp.com/event/find-the-bear-kids-game-sequoia/2026-05-10/
LOCATION:AutoCamp Sequoia\, 40457 Sierra Drive\, Three Rivers\, CA\, 93271\, United States
CATEGORIES:AutoCamp Sequoia
ATTACH;FMTTYPE=image/png:https://autocamp.com/wp-content/uploads/2025/11/Black-Bear-Website.png
END:VEVENT
BEGIN:VEVENT
DTSTART;TZID=America/Los_Angeles:20260510T190000
DTEND;TZID=America/Los_Angeles:20260510T210000
DTSTAMP:20260419T230850
CREATED:20251202T215721Z
LAST-MODIFIED:20251202T215722Z
UID:10063708-1778439600-1778446800@autocamp.com
SUMMARY:Movie Night Under the Stars
DESCRIPTION:Relax and enjoy an evening film. Grab your loved ones\, enjoy a drink and some food from The Kitchen\, and snuggle up to enjoy the show. \nMovie titles are family-friendly and can be found in the Clubhouse. \n 
URL:https://autocamp.com/event/movie-night-under-the-stars-2-2-2-2-2-2/2026-05-10/
LOCATION:AutoCamp Sequoia\, 40457 Sierra Drive\, Three Rivers\, CA\, 93271\, United States
CATEGORIES:AutoCamp Sequoia
ATTACH;FMTTYPE=image/jpeg:https://autocamp.com/wp-content/uploads/2025/02/CBS-Tracker-Joshua-Tree-x-CNC-139-scaled.jpg
END:VEVENT
BEGIN:VEVENT
DTSTART;VALUE=DATE:20260511
DTEND;VALUE=DATE:20260512
DTSTAMP:20260419T230850
CREATED:20251126T174621Z
LAST-MODIFIED:20251126T174621Z
UID:10056129-1778457600-1778543999@autocamp.com
SUMMARY:Find the Bear Kid's Game
DESCRIPTION:Can you find the hidden Black Bear inside the Clubhouse? During their stay\, young explorers can search for the Black Bear stuffed animal hidden somewhere in the Clubhouse. Be sure to let a team member know when you find it\, and kiddos will receive a small surprise as their reward. And if you’d like to take your own Black Bear home with you\, we sell these little stuffed friends in our General Store. Good luck searching!
URL:https://autocamp.com/event/find-the-bear-kids-game-sequoia/2026-05-11/
LOCATION:AutoCamp Sequoia\, 40457 Sierra Drive\, Three Rivers\, CA\, 93271\, United States
CATEGORIES:AutoCamp Sequoia
ATTACH;FMTTYPE=image/png:https://autocamp.com/wp-content/uploads/2025/11/Black-Bear-Website.png
END:VEVENT
BEGIN:VEVENT
DTSTART;TZID=America/Los_Angeles:20260511T100000
DTEND;TZID=America/Los_Angeles:20260511T110000
DTSTAMP:20260419T230850
CREATED:20250801T173223Z
LAST-MODIFIED:20250801T173224Z
UID:10029897-1778493600-1778497200@autocamp.com
SUMMARY:Post Card Station
DESCRIPTION:The best adventures are the ones shared! Join us in the Clubhouse to decorate and write postcards that you can deliver to your friends and family. Whether you’re recounting an awesome hike or your perfect summer day by the pool\, there’s something nostalgic about capturing your memories in the moment.
URL:https://autocamp.com/event/post-card-station-2/2026-05-11/
LOCATION:AutoCamp Sequoia\, 40457 Sierra Drive\, Three Rivers\, CA\, 93271\, United States
CATEGORIES:AutoCamp Sequoia
ATTACH;FMTTYPE=image/png:https://autocamp.com/wp-content/uploads/2025/05/Frame-197.png
END:VEVENT
END:VCALENDAR