BEGIN:VCALENDAR
VERSION:2.0
PRODID:-//AutoCamp - ECPv6.15.0.1//NONSGML v1.0//EN
CALSCALE:GREGORIAN
METHOD:PUBLISH
X-WR-CALNAME:AutoCamp
X-ORIGINAL-URL:https://autocamp.com
X-WR-CALDESC:Events for AutoCamp
REFRESH-INTERVAL;VALUE=DURATION:PT1H
X-Robots-Tag:noindex
X-PUBLISHED-TTL:PT1H
BEGIN:VTIMEZONE
TZID:America/Los_Angeles
BEGIN:DAYLIGHT
TZOFFSETFROM:-0800
TZOFFSETTO:-0700
TZNAME:PDT
DTSTART:20260308T100000
END:DAYLIGHT
BEGIN:STANDARD
TZOFFSETFROM:-0700
TZOFFSETTO:-0800
TZNAME:PST
DTSTART:20261101T090000
END:STANDARD
END:VTIMEZONE
BEGIN:VEVENT
DTSTART;VALUE=DATE:20260725
DTEND;VALUE=DATE:20260726
DTSTAMP:20260425T042301
CREATED:20251126T175104Z
LAST-MODIFIED:20251126T175104Z
UID:10061643-1784937600-1785023999@autocamp.com
SUMMARY:Find the Desert Tortoise Kid's Game
DESCRIPTION:Can you find the hidden Desert Tortoise inside the Clubhouse? During their stay\, young explorers can search for the Desert Tortoise stuffed animal hidden somewhere in the Clubhouse. Be sure to let a team member know when you find it\, and kiddos will receive a small surprise as their reward. And if you’d like to take your own Desert Tortoise home with you\, we sell these little stuffed friends in our General Store. Good luck searching!
URL:https://autocamp.com/event/find-the-desert-tortoise-kids-game/2026-07-25/
LOCATION:AutoCamp Joshua Tree\, 62209 Verbena Road\, Joshua Tree\, CA\, 92252\, United States
CATEGORIES:AutoCamp Joshua Tree
ATTACH;FMTTYPE=image/png:https://autocamp.com/wp-content/uploads/2025/11/Desert-Tortoise-Website.png
END:VEVENT
BEGIN:VEVENT
DTSTART;TZID=America/Los_Angeles:20260725T080000
DTEND;TZID=America/Los_Angeles:20260725T090000
DTSTAMP:20260425T042301
CREATED:20250212T002431Z
LAST-MODIFIED:20250212T002431Z
UID:10012661-1784966400-1784970000@autocamp.com
SUMMARY:Morning Yoga
DESCRIPTION:Wake up with us with restorative yoga. This class is taught by our local partners and designed for all levels. It’s the best way to start your day in beautiful Joshua Tree. Meet just outside the Clubhouse a few minutes before the start time. \nYoga mats and blocks will be provided. Wear comfortable athletic clothes and bring some water to stay hydrated.
URL:https://autocamp.com/event/morning-yoga-joshua-tree/2026-07-25/
LOCATION:AutoCamp Joshua Tree\, 62209 Verbena Road\, Joshua Tree\, CA\, 92252\, United States
CATEGORIES:AutoCamp Joshua Tree
ATTACH;FMTTYPE=image/png:https://autocamp.com/wp-content/uploads/2025/02/Frame-168-12.png
END:VEVENT
BEGIN:VEVENT
DTSTART;TZID=America/Los_Angeles:20260725T180000
DTEND;TZID=America/Los_Angeles:20260725T200000
DTSTAMP:20260425T042301
CREATED:20251218T154513Z
LAST-MODIFIED:20260212T190340Z
UID:10079110-1785002400-1785009600@autocamp.com
SUMMARY:Live Music
DESCRIPTION:Gather by the fire for a very special night of live music with local musicians! There’s no better way to ease into a desert evening than to enjoy some songs under the stars. Get ready for a relaxing night of good company and good tunes. Come hang out\, grab a drink at the bar\, and we’ll see you at the Clubhouse.
URL:https://autocamp.com/event/live-music-joshua-tree-2-3/2026-07-25/
LOCATION:AutoCamp Joshua Tree\, 62209 Verbena Road\, Joshua Tree\, CA\, 92252\, United States
CATEGORIES:AutoCamp Joshua Tree
ATTACH;FMTTYPE=image/png:https://autocamp.com/wp-content/uploads/2025/02/Frame-168-16.png
END:VEVENT
BEGIN:VEVENT
DTSTART;VALUE=DATE:20260726
DTEND;VALUE=DATE:20260727
DTSTAMP:20260425T042301
CREATED:20251126T165513Z
LAST-MODIFIED:20260114T213319Z
UID:10072774-1785024000-1785110399@autocamp.com
SUMMARY:Family Arts n' Crafts
DESCRIPTION:Gather in the Clubhouse for family-friendly arts and crafts. Grab a beverage from the General Store and cozy up to the fire as your kids explore their creativity while creating cherished memories with your family and friends. We provide all the materials (available upon request) and we will be available to assist your kids as they make their souvenir to remember your nature escape.
URL:https://autocamp.com/event/kids-winter-arts-n-crafts-joshua-tree/2026-07-26/
LOCATION:AutoCamp Joshua Tree\, 62209 Verbena Road\, Joshua Tree\, CA\, 92252\, United States
CATEGORIES:AutoCamp Joshua Tree
ATTACH;FMTTYPE=image/jpeg:https://autocamp.com/wp-content/uploads/2025/02/mariah-hewines-pmUnPoZiov0-unsplash-scaled.jpg
END:VEVENT
BEGIN:VEVENT
DTSTART;VALUE=DATE:20260726
DTEND;VALUE=DATE:20260727
DTSTAMP:20260425T042301
CREATED:20251126T175104Z
LAST-MODIFIED:20251126T175104Z
UID:10061644-1785024000-1785110399@autocamp.com
SUMMARY:Find the Desert Tortoise Kid's Game
DESCRIPTION:Can you find the hidden Desert Tortoise inside the Clubhouse? During their stay\, young explorers can search for the Desert Tortoise stuffed animal hidden somewhere in the Clubhouse. Be sure to let a team member know when you find it\, and kiddos will receive a small surprise as their reward. And if you’d like to take your own Desert Tortoise home with you\, we sell these little stuffed friends in our General Store. Good luck searching!
URL:https://autocamp.com/event/find-the-desert-tortoise-kids-game/2026-07-26/
LOCATION:AutoCamp Joshua Tree\, 62209 Verbena Road\, Joshua Tree\, CA\, 92252\, United States
CATEGORIES:AutoCamp Joshua Tree
ATTACH;FMTTYPE=image/png:https://autocamp.com/wp-content/uploads/2025/11/Desert-Tortoise-Website.png
END:VEVENT
BEGIN:VEVENT
DTSTART;TZID=America/Los_Angeles:20260726T080000
DTEND;TZID=America/Los_Angeles:20260726T090000
DTSTAMP:20260425T042301
CREATED:20250212T002431Z
LAST-MODIFIED:20250212T002431Z
UID:10012662-1785052800-1785056400@autocamp.com
SUMMARY:Morning Yoga
DESCRIPTION:Wake up with us with restorative yoga. This class is taught by our local partners and designed for all levels. It’s the best way to start your day in beautiful Joshua Tree. Meet just outside the Clubhouse a few minutes before the start time. \nYoga mats and blocks will be provided. Wear comfortable athletic clothes and bring some water to stay hydrated.
URL:https://autocamp.com/event/morning-yoga-joshua-tree/2026-07-26/
LOCATION:AutoCamp Joshua Tree\, 62209 Verbena Road\, Joshua Tree\, CA\, 92252\, United States
CATEGORIES:AutoCamp Joshua Tree
ATTACH;FMTTYPE=image/png:https://autocamp.com/wp-content/uploads/2025/02/Frame-168-12.png
END:VEVENT
BEGIN:VEVENT
DTSTART;VALUE=DATE:20260727
DTEND;VALUE=DATE:20260728
DTSTAMP:20260425T042301
CREATED:20251126T165513Z
LAST-MODIFIED:20260114T213319Z
UID:10072775-1785110400-1785196799@autocamp.com
SUMMARY:Family Arts n' Crafts
DESCRIPTION:Gather in the Clubhouse for family-friendly arts and crafts. Grab a beverage from the General Store and cozy up to the fire as your kids explore their creativity while creating cherished memories with your family and friends. We provide all the materials (available upon request) and we will be available to assist your kids as they make their souvenir to remember your nature escape.
URL:https://autocamp.com/event/kids-winter-arts-n-crafts-joshua-tree/2026-07-27/
LOCATION:AutoCamp Joshua Tree\, 62209 Verbena Road\, Joshua Tree\, CA\, 92252\, United States
CATEGORIES:AutoCamp Joshua Tree
ATTACH;FMTTYPE=image/jpeg:https://autocamp.com/wp-content/uploads/2025/02/mariah-hewines-pmUnPoZiov0-unsplash-scaled.jpg
END:VEVENT
BEGIN:VEVENT
DTSTART;VALUE=DATE:20260727
DTEND;VALUE=DATE:20260728
DTSTAMP:20260425T042301
CREATED:20251126T175104Z
LAST-MODIFIED:20251126T175104Z
UID:10061645-1785110400-1785196799@autocamp.com
SUMMARY:Find the Desert Tortoise Kid's Game
DESCRIPTION:Can you find the hidden Desert Tortoise inside the Clubhouse? During their stay\, young explorers can search for the Desert Tortoise stuffed animal hidden somewhere in the Clubhouse. Be sure to let a team member know when you find it\, and kiddos will receive a small surprise as their reward. And if you’d like to take your own Desert Tortoise home with you\, we sell these little stuffed friends in our General Store. Good luck searching!
URL:https://autocamp.com/event/find-the-desert-tortoise-kids-game/2026-07-27/
LOCATION:AutoCamp Joshua Tree\, 62209 Verbena Road\, Joshua Tree\, CA\, 92252\, United States
CATEGORIES:AutoCamp Joshua Tree
ATTACH;FMTTYPE=image/png:https://autocamp.com/wp-content/uploads/2025/11/Desert-Tortoise-Website.png
END:VEVENT
BEGIN:VEVENT
DTSTART;VALUE=DATE:20260728
DTEND;VALUE=DATE:20260729
DTSTAMP:20260425T042301
CREATED:20251126T165513Z
LAST-MODIFIED:20260114T213319Z
UID:10072776-1785196800-1785283199@autocamp.com
SUMMARY:Family Arts n' Crafts
DESCRIPTION:Gather in the Clubhouse for family-friendly arts and crafts. Grab a beverage from the General Store and cozy up to the fire as your kids explore their creativity while creating cherished memories with your family and friends. We provide all the materials (available upon request) and we will be available to assist your kids as they make their souvenir to remember your nature escape.
URL:https://autocamp.com/event/kids-winter-arts-n-crafts-joshua-tree/2026-07-28/
LOCATION:AutoCamp Joshua Tree\, 62209 Verbena Road\, Joshua Tree\, CA\, 92252\, United States
CATEGORIES:AutoCamp Joshua Tree
ATTACH;FMTTYPE=image/jpeg:https://autocamp.com/wp-content/uploads/2025/02/mariah-hewines-pmUnPoZiov0-unsplash-scaled.jpg
END:VEVENT
BEGIN:VEVENT
DTSTART;VALUE=DATE:20260728
DTEND;VALUE=DATE:20260729
DTSTAMP:20260425T042301
CREATED:20251126T175104Z
LAST-MODIFIED:20251126T175104Z
UID:10061646-1785196800-1785283199@autocamp.com
SUMMARY:Find the Desert Tortoise Kid's Game
DESCRIPTION:Can you find the hidden Desert Tortoise inside the Clubhouse? During their stay\, young explorers can search for the Desert Tortoise stuffed animal hidden somewhere in the Clubhouse. Be sure to let a team member know when you find it\, and kiddos will receive a small surprise as their reward. And if you’d like to take your own Desert Tortoise home with you\, we sell these little stuffed friends in our General Store. Good luck searching!
URL:https://autocamp.com/event/find-the-desert-tortoise-kids-game/2026-07-28/
LOCATION:AutoCamp Joshua Tree\, 62209 Verbena Road\, Joshua Tree\, CA\, 92252\, United States
CATEGORIES:AutoCamp Joshua Tree
ATTACH;FMTTYPE=image/png:https://autocamp.com/wp-content/uploads/2025/11/Desert-Tortoise-Website.png
END:VEVENT
BEGIN:VEVENT
DTSTART;VALUE=DATE:20260729
DTEND;VALUE=DATE:20260730
DTSTAMP:20260425T042301
CREATED:20251126T165513Z
LAST-MODIFIED:20260114T213319Z
UID:10072777-1785283200-1785369599@autocamp.com
SUMMARY:Family Arts n' Crafts
DESCRIPTION:Gather in the Clubhouse for family-friendly arts and crafts. Grab a beverage from the General Store and cozy up to the fire as your kids explore their creativity while creating cherished memories with your family and friends. We provide all the materials (available upon request) and we will be available to assist your kids as they make their souvenir to remember your nature escape.
URL:https://autocamp.com/event/kids-winter-arts-n-crafts-joshua-tree/2026-07-29/
LOCATION:AutoCamp Joshua Tree\, 62209 Verbena Road\, Joshua Tree\, CA\, 92252\, United States
CATEGORIES:AutoCamp Joshua Tree
ATTACH;FMTTYPE=image/jpeg:https://autocamp.com/wp-content/uploads/2025/02/mariah-hewines-pmUnPoZiov0-unsplash-scaled.jpg
END:VEVENT
BEGIN:VEVENT
DTSTART;VALUE=DATE:20260729
DTEND;VALUE=DATE:20260730
DTSTAMP:20260425T042301
CREATED:20251126T175104Z
LAST-MODIFIED:20251126T175104Z
UID:10061647-1785283200-1785369599@autocamp.com
SUMMARY:Find the Desert Tortoise Kid's Game
DESCRIPTION:Can you find the hidden Desert Tortoise inside the Clubhouse? During their stay\, young explorers can search for the Desert Tortoise stuffed animal hidden somewhere in the Clubhouse. Be sure to let a team member know when you find it\, and kiddos will receive a small surprise as their reward. And if you’d like to take your own Desert Tortoise home with you\, we sell these little stuffed friends in our General Store. Good luck searching!
URL:https://autocamp.com/event/find-the-desert-tortoise-kids-game/2026-07-29/
LOCATION:AutoCamp Joshua Tree\, 62209 Verbena Road\, Joshua Tree\, CA\, 92252\, United States
CATEGORIES:AutoCamp Joshua Tree
ATTACH;FMTTYPE=image/png:https://autocamp.com/wp-content/uploads/2025/11/Desert-Tortoise-Website.png
END:VEVENT
BEGIN:VEVENT
DTSTART;VALUE=DATE:20260730
DTEND;VALUE=DATE:20260731
DTSTAMP:20260425T042301
CREATED:20251126T165513Z
LAST-MODIFIED:20260114T213319Z
UID:10072778-1785369600-1785455999@autocamp.com
SUMMARY:Family Arts n' Crafts
DESCRIPTION:Gather in the Clubhouse for family-friendly arts and crafts. Grab a beverage from the General Store and cozy up to the fire as your kids explore their creativity while creating cherished memories with your family and friends. We provide all the materials (available upon request) and we will be available to assist your kids as they make their souvenir to remember your nature escape.
URL:https://autocamp.com/event/kids-winter-arts-n-crafts-joshua-tree/2026-07-30/
LOCATION:AutoCamp Joshua Tree\, 62209 Verbena Road\, Joshua Tree\, CA\, 92252\, United States
CATEGORIES:AutoCamp Joshua Tree
ATTACH;FMTTYPE=image/jpeg:https://autocamp.com/wp-content/uploads/2025/02/mariah-hewines-pmUnPoZiov0-unsplash-scaled.jpg
END:VEVENT
BEGIN:VEVENT
DTSTART;VALUE=DATE:20260730
DTEND;VALUE=DATE:20260731
DTSTAMP:20260425T042301
CREATED:20251126T175104Z
LAST-MODIFIED:20251126T175104Z
UID:10061648-1785369600-1785455999@autocamp.com
SUMMARY:Find the Desert Tortoise Kid's Game
DESCRIPTION:Can you find the hidden Desert Tortoise inside the Clubhouse? During their stay\, young explorers can search for the Desert Tortoise stuffed animal hidden somewhere in the Clubhouse. Be sure to let a team member know when you find it\, and kiddos will receive a small surprise as their reward. And if you’d like to take your own Desert Tortoise home with you\, we sell these little stuffed friends in our General Store. Good luck searching!
URL:https://autocamp.com/event/find-the-desert-tortoise-kids-game/2026-07-30/
LOCATION:AutoCamp Joshua Tree\, 62209 Verbena Road\, Joshua Tree\, CA\, 92252\, United States
CATEGORIES:AutoCamp Joshua Tree
ATTACH;FMTTYPE=image/png:https://autocamp.com/wp-content/uploads/2025/11/Desert-Tortoise-Website.png
END:VEVENT
BEGIN:VEVENT
DTSTART;VALUE=DATE:20260731
DTEND;VALUE=DATE:20260801
DTSTAMP:20260425T042301
CREATED:20251126T165513Z
LAST-MODIFIED:20260114T213319Z
UID:10072779-1785456000-1785542399@autocamp.com
SUMMARY:Family Arts n' Crafts
DESCRIPTION:Gather in the Clubhouse for family-friendly arts and crafts. Grab a beverage from the General Store and cozy up to the fire as your kids explore their creativity while creating cherished memories with your family and friends. We provide all the materials (available upon request) and we will be available to assist your kids as they make their souvenir to remember your nature escape.
URL:https://autocamp.com/event/kids-winter-arts-n-crafts-joshua-tree/2026-07-31/
LOCATION:AutoCamp Joshua Tree\, 62209 Verbena Road\, Joshua Tree\, CA\, 92252\, United States
CATEGORIES:AutoCamp Joshua Tree
ATTACH;FMTTYPE=image/jpeg:https://autocamp.com/wp-content/uploads/2025/02/mariah-hewines-pmUnPoZiov0-unsplash-scaled.jpg
END:VEVENT
BEGIN:VEVENT
DTSTART;VALUE=DATE:20260731
DTEND;VALUE=DATE:20260801
DTSTAMP:20260425T042301
CREATED:20251126T175104Z
LAST-MODIFIED:20251126T175104Z
UID:10061649-1785456000-1785542399@autocamp.com
SUMMARY:Find the Desert Tortoise Kid's Game
DESCRIPTION:Can you find the hidden Desert Tortoise inside the Clubhouse? During their stay\, young explorers can search for the Desert Tortoise stuffed animal hidden somewhere in the Clubhouse. Be sure to let a team member know when you find it\, and kiddos will receive a small surprise as their reward. And if you’d like to take your own Desert Tortoise home with you\, we sell these little stuffed friends in our General Store. Good luck searching!
URL:https://autocamp.com/event/find-the-desert-tortoise-kids-game/2026-07-31/
LOCATION:AutoCamp Joshua Tree\, 62209 Verbena Road\, Joshua Tree\, CA\, 92252\, United States
CATEGORIES:AutoCamp Joshua Tree
ATTACH;FMTTYPE=image/png:https://autocamp.com/wp-content/uploads/2025/11/Desert-Tortoise-Website.png
END:VEVENT
BEGIN:VEVENT
DTSTART;TZID=America/Los_Angeles:20260731T180000
DTEND;TZID=America/Los_Angeles:20260731T200000
DTSTAMP:20260425T042301
CREATED:20251218T154513Z
LAST-MODIFIED:20260212T190340Z
UID:10079111-1785520800-1785528000@autocamp.com
SUMMARY:Live Music
DESCRIPTION:Gather by the fire for a very special night of live music with local musicians! There’s no better way to ease into a desert evening than to enjoy some songs under the stars. Get ready for a relaxing night of good company and good tunes. Come hang out\, grab a drink at the bar\, and we’ll see you at the Clubhouse.
URL:https://autocamp.com/event/live-music-joshua-tree-2-3/2026-07-31/
LOCATION:AutoCamp Joshua Tree\, 62209 Verbena Road\, Joshua Tree\, CA\, 92252\, United States
CATEGORIES:AutoCamp Joshua Tree
ATTACH;FMTTYPE=image/png:https://autocamp.com/wp-content/uploads/2025/02/Frame-168-16.png
END:VEVENT
BEGIN:VEVENT
DTSTART;VALUE=DATE:20260801
DTEND;VALUE=DATE:20260802
DTSTAMP:20260425T042301
CREATED:20251126T165513Z
LAST-MODIFIED:20260114T213319Z
UID:10072780-1785542400-1785628799@autocamp.com
SUMMARY:Family Arts n' Crafts
DESCRIPTION:Gather in the Clubhouse for family-friendly arts and crafts. Grab a beverage from the General Store and cozy up to the fire as your kids explore their creativity while creating cherished memories with your family and friends. We provide all the materials (available upon request) and we will be available to assist your kids as they make their souvenir to remember your nature escape.
URL:https://autocamp.com/event/kids-winter-arts-n-crafts-joshua-tree/2026-08-01/
LOCATION:AutoCamp Joshua Tree\, 62209 Verbena Road\, Joshua Tree\, CA\, 92252\, United States
CATEGORIES:AutoCamp Joshua Tree
ATTACH;FMTTYPE=image/jpeg:https://autocamp.com/wp-content/uploads/2025/02/mariah-hewines-pmUnPoZiov0-unsplash-scaled.jpg
END:VEVENT
BEGIN:VEVENT
DTSTART;VALUE=DATE:20260801
DTEND;VALUE=DATE:20260802
DTSTAMP:20260425T042301
CREATED:20251126T175104Z
LAST-MODIFIED:20251126T175104Z
UID:10061650-1785542400-1785628799@autocamp.com
SUMMARY:Find the Desert Tortoise Kid's Game
DESCRIPTION:Can you find the hidden Desert Tortoise inside the Clubhouse? During their stay\, young explorers can search for the Desert Tortoise stuffed animal hidden somewhere in the Clubhouse. Be sure to let a team member know when you find it\, and kiddos will receive a small surprise as their reward. And if you’d like to take your own Desert Tortoise home with you\, we sell these little stuffed friends in our General Store. Good luck searching!
URL:https://autocamp.com/event/find-the-desert-tortoise-kids-game/2026-08-01/
LOCATION:AutoCamp Joshua Tree\, 62209 Verbena Road\, Joshua Tree\, CA\, 92252\, United States
CATEGORIES:AutoCamp Joshua Tree
ATTACH;FMTTYPE=image/png:https://autocamp.com/wp-content/uploads/2025/11/Desert-Tortoise-Website.png
END:VEVENT
BEGIN:VEVENT
DTSTART;TZID=America/Los_Angeles:20260801T080000
DTEND;TZID=America/Los_Angeles:20260801T090000
DTSTAMP:20260425T042301
CREATED:20250212T002431Z
LAST-MODIFIED:20250212T002431Z
UID:10012663-1785571200-1785574800@autocamp.com
SUMMARY:Morning Yoga
DESCRIPTION:Wake up with us with restorative yoga. This class is taught by our local partners and designed for all levels. It’s the best way to start your day in beautiful Joshua Tree. Meet just outside the Clubhouse a few minutes before the start time. \nYoga mats and blocks will be provided. Wear comfortable athletic clothes and bring some water to stay hydrated.
URL:https://autocamp.com/event/morning-yoga-joshua-tree/2026-08-01/
LOCATION:AutoCamp Joshua Tree\, 62209 Verbena Road\, Joshua Tree\, CA\, 92252\, United States
CATEGORIES:AutoCamp Joshua Tree
ATTACH;FMTTYPE=image/png:https://autocamp.com/wp-content/uploads/2025/02/Frame-168-12.png
END:VEVENT
BEGIN:VEVENT
DTSTART;TZID=America/Los_Angeles:20260801T180000
DTEND;TZID=America/Los_Angeles:20260801T200000
DTSTAMP:20260425T042301
CREATED:20251218T154513Z
LAST-MODIFIED:20260212T190340Z
UID:10079112-1785607200-1785614400@autocamp.com
SUMMARY:Live Music
DESCRIPTION:Gather by the fire for a very special night of live music with local musicians! There’s no better way to ease into a desert evening than to enjoy some songs under the stars. Get ready for a relaxing night of good company and good tunes. Come hang out\, grab a drink at the bar\, and we’ll see you at the Clubhouse.
URL:https://autocamp.com/event/live-music-joshua-tree-2-3/2026-08-01/
LOCATION:AutoCamp Joshua Tree\, 62209 Verbena Road\, Joshua Tree\, CA\, 92252\, United States
CATEGORIES:AutoCamp Joshua Tree
ATTACH;FMTTYPE=image/png:https://autocamp.com/wp-content/uploads/2025/02/Frame-168-16.png
END:VEVENT
BEGIN:VEVENT
DTSTART;VALUE=DATE:20260802
DTEND;VALUE=DATE:20260803
DTSTAMP:20260425T042301
CREATED:20251126T165513Z
LAST-MODIFIED:20260114T213319Z
UID:10072781-1785628800-1785715199@autocamp.com
SUMMARY:Family Arts n' Crafts
DESCRIPTION:Gather in the Clubhouse for family-friendly arts and crafts. Grab a beverage from the General Store and cozy up to the fire as your kids explore their creativity while creating cherished memories with your family and friends. We provide all the materials (available upon request) and we will be available to assist your kids as they make their souvenir to remember your nature escape.
URL:https://autocamp.com/event/kids-winter-arts-n-crafts-joshua-tree/2026-08-02/
LOCATION:AutoCamp Joshua Tree\, 62209 Verbena Road\, Joshua Tree\, CA\, 92252\, United States
CATEGORIES:AutoCamp Joshua Tree
ATTACH;FMTTYPE=image/jpeg:https://autocamp.com/wp-content/uploads/2025/02/mariah-hewines-pmUnPoZiov0-unsplash-scaled.jpg
END:VEVENT
BEGIN:VEVENT
DTSTART;VALUE=DATE:20260802
DTEND;VALUE=DATE:20260803
DTSTAMP:20260425T042301
CREATED:20251126T175104Z
LAST-MODIFIED:20251126T175104Z
UID:10061651-1785628800-1785715199@autocamp.com
SUMMARY:Find the Desert Tortoise Kid's Game
DESCRIPTION:Can you find the hidden Desert Tortoise inside the Clubhouse? During their stay\, young explorers can search for the Desert Tortoise stuffed animal hidden somewhere in the Clubhouse. Be sure to let a team member know when you find it\, and kiddos will receive a small surprise as their reward. And if you’d like to take your own Desert Tortoise home with you\, we sell these little stuffed friends in our General Store. Good luck searching!
URL:https://autocamp.com/event/find-the-desert-tortoise-kids-game/2026-08-02/
LOCATION:AutoCamp Joshua Tree\, 62209 Verbena Road\, Joshua Tree\, CA\, 92252\, United States
CATEGORIES:AutoCamp Joshua Tree
ATTACH;FMTTYPE=image/png:https://autocamp.com/wp-content/uploads/2025/11/Desert-Tortoise-Website.png
END:VEVENT
BEGIN:VEVENT
DTSTART;TZID=America/Los_Angeles:20260802T080000
DTEND;TZID=America/Los_Angeles:20260802T090000
DTSTAMP:20260425T042301
CREATED:20250212T002431Z
LAST-MODIFIED:20250212T002431Z
UID:10012664-1785657600-1785661200@autocamp.com
SUMMARY:Morning Yoga
DESCRIPTION:Wake up with us with restorative yoga. This class is taught by our local partners and designed for all levels. It’s the best way to start your day in beautiful Joshua Tree. Meet just outside the Clubhouse a few minutes before the start time. \nYoga mats and blocks will be provided. Wear comfortable athletic clothes and bring some water to stay hydrated.
URL:https://autocamp.com/event/morning-yoga-joshua-tree/2026-08-02/
LOCATION:AutoCamp Joshua Tree\, 62209 Verbena Road\, Joshua Tree\, CA\, 92252\, United States
CATEGORIES:AutoCamp Joshua Tree
ATTACH;FMTTYPE=image/png:https://autocamp.com/wp-content/uploads/2025/02/Frame-168-12.png
END:VEVENT
BEGIN:VEVENT
DTSTART;VALUE=DATE:20260803
DTEND;VALUE=DATE:20260804
DTSTAMP:20260425T042301
CREATED:20251126T165513Z
LAST-MODIFIED:20260114T213319Z
UID:10072782-1785715200-1785801599@autocamp.com
SUMMARY:Family Arts n' Crafts
DESCRIPTION:Gather in the Clubhouse for family-friendly arts and crafts. Grab a beverage from the General Store and cozy up to the fire as your kids explore their creativity while creating cherished memories with your family and friends. We provide all the materials (available upon request) and we will be available to assist your kids as they make their souvenir to remember your nature escape.
URL:https://autocamp.com/event/kids-winter-arts-n-crafts-joshua-tree/2026-08-03/
LOCATION:AutoCamp Joshua Tree\, 62209 Verbena Road\, Joshua Tree\, CA\, 92252\, United States
CATEGORIES:AutoCamp Joshua Tree
ATTACH;FMTTYPE=image/jpeg:https://autocamp.com/wp-content/uploads/2025/02/mariah-hewines-pmUnPoZiov0-unsplash-scaled.jpg
END:VEVENT
BEGIN:VEVENT
DTSTART;VALUE=DATE:20260803
DTEND;VALUE=DATE:20260804
DTSTAMP:20260425T042301
CREATED:20251126T175104Z
LAST-MODIFIED:20251126T175104Z
UID:10061652-1785715200-1785801599@autocamp.com
SUMMARY:Find the Desert Tortoise Kid's Game
DESCRIPTION:Can you find the hidden Desert Tortoise inside the Clubhouse? During their stay\, young explorers can search for the Desert Tortoise stuffed animal hidden somewhere in the Clubhouse. Be sure to let a team member know when you find it\, and kiddos will receive a small surprise as their reward. And if you’d like to take your own Desert Tortoise home with you\, we sell these little stuffed friends in our General Store. Good luck searching!
URL:https://autocamp.com/event/find-the-desert-tortoise-kids-game/2026-08-03/
LOCATION:AutoCamp Joshua Tree\, 62209 Verbena Road\, Joshua Tree\, CA\, 92252\, United States
CATEGORIES:AutoCamp Joshua Tree
ATTACH;FMTTYPE=image/png:https://autocamp.com/wp-content/uploads/2025/11/Desert-Tortoise-Website.png
END:VEVENT
BEGIN:VEVENT
DTSTART;VALUE=DATE:20260804
DTEND;VALUE=DATE:20260805
DTSTAMP:20260425T042301
CREATED:20251126T165513Z
LAST-MODIFIED:20260114T213319Z
UID:10072783-1785801600-1785887999@autocamp.com
SUMMARY:Family Arts n' Crafts
DESCRIPTION:Gather in the Clubhouse for family-friendly arts and crafts. Grab a beverage from the General Store and cozy up to the fire as your kids explore their creativity while creating cherished memories with your family and friends. We provide all the materials (available upon request) and we will be available to assist your kids as they make their souvenir to remember your nature escape.
URL:https://autocamp.com/event/kids-winter-arts-n-crafts-joshua-tree/2026-08-04/
LOCATION:AutoCamp Joshua Tree\, 62209 Verbena Road\, Joshua Tree\, CA\, 92252\, United States
CATEGORIES:AutoCamp Joshua Tree
ATTACH;FMTTYPE=image/jpeg:https://autocamp.com/wp-content/uploads/2025/02/mariah-hewines-pmUnPoZiov0-unsplash-scaled.jpg
END:VEVENT
BEGIN:VEVENT
DTSTART;VALUE=DATE:20260804
DTEND;VALUE=DATE:20260805
DTSTAMP:20260425T042302
CREATED:20251126T175104Z
LAST-MODIFIED:20251126T175104Z
UID:10061653-1785801600-1785887999@autocamp.com
SUMMARY:Find the Desert Tortoise Kid's Game
DESCRIPTION:Can you find the hidden Desert Tortoise inside the Clubhouse? During their stay\, young explorers can search for the Desert Tortoise stuffed animal hidden somewhere in the Clubhouse. Be sure to let a team member know when you find it\, and kiddos will receive a small surprise as their reward. And if you’d like to take your own Desert Tortoise home with you\, we sell these little stuffed friends in our General Store. Good luck searching!
URL:https://autocamp.com/event/find-the-desert-tortoise-kids-game/2026-08-04/
LOCATION:AutoCamp Joshua Tree\, 62209 Verbena Road\, Joshua Tree\, CA\, 92252\, United States
CATEGORIES:AutoCamp Joshua Tree
ATTACH;FMTTYPE=image/png:https://autocamp.com/wp-content/uploads/2025/11/Desert-Tortoise-Website.png
END:VEVENT
BEGIN:VEVENT
DTSTART;VALUE=DATE:20260805
DTEND;VALUE=DATE:20260806
DTSTAMP:20260425T042302
CREATED:20251126T165513Z
LAST-MODIFIED:20260114T213319Z
UID:10072784-1785888000-1785974399@autocamp.com
SUMMARY:Family Arts n' Crafts
DESCRIPTION:Gather in the Clubhouse for family-friendly arts and crafts. Grab a beverage from the General Store and cozy up to the fire as your kids explore their creativity while creating cherished memories with your family and friends. We provide all the materials (available upon request) and we will be available to assist your kids as they make their souvenir to remember your nature escape.
URL:https://autocamp.com/event/kids-winter-arts-n-crafts-joshua-tree/2026-08-05/
LOCATION:AutoCamp Joshua Tree\, 62209 Verbena Road\, Joshua Tree\, CA\, 92252\, United States
CATEGORIES:AutoCamp Joshua Tree
ATTACH;FMTTYPE=image/jpeg:https://autocamp.com/wp-content/uploads/2025/02/mariah-hewines-pmUnPoZiov0-unsplash-scaled.jpg
END:VEVENT
BEGIN:VEVENT
DTSTART;VALUE=DATE:20260805
DTEND;VALUE=DATE:20260806
DTSTAMP:20260425T042302
CREATED:20251126T175104Z
LAST-MODIFIED:20251126T175104Z
UID:10061654-1785888000-1785974399@autocamp.com
SUMMARY:Find the Desert Tortoise Kid's Game
DESCRIPTION:Can you find the hidden Desert Tortoise inside the Clubhouse? During their stay\, young explorers can search for the Desert Tortoise stuffed animal hidden somewhere in the Clubhouse. Be sure to let a team member know when you find it\, and kiddos will receive a small surprise as their reward. And if you’d like to take your own Desert Tortoise home with you\, we sell these little stuffed friends in our General Store. Good luck searching!
URL:https://autocamp.com/event/find-the-desert-tortoise-kids-game/2026-08-05/
LOCATION:AutoCamp Joshua Tree\, 62209 Verbena Road\, Joshua Tree\, CA\, 92252\, United States
CATEGORIES:AutoCamp Joshua Tree
ATTACH;FMTTYPE=image/png:https://autocamp.com/wp-content/uploads/2025/11/Desert-Tortoise-Website.png
END:VEVENT
END:VCALENDAR