BEGIN:VCALENDAR
VERSION:2.0
PRODID:-//AutoCamp - ECPv6.15.0.1//NONSGML v1.0//EN
CALSCALE:GREGORIAN
METHOD:PUBLISH
X-WR-CALNAME:AutoCamp
X-ORIGINAL-URL:https://autocamp.com
X-WR-CALDESC:Events for AutoCamp
REFRESH-INTERVAL;VALUE=DURATION:PT1H
X-Robots-Tag:noindex
X-PUBLISHED-TTL:PT1H
BEGIN:VTIMEZONE
TZID:America/Los_Angeles
BEGIN:DAYLIGHT
TZOFFSETFROM:-0800
TZOFFSETTO:-0700
TZNAME:PDT
DTSTART:20250309T100000
END:DAYLIGHT
BEGIN:STANDARD
TZOFFSETFROM:-0700
TZOFFSETTO:-0800
TZNAME:PST
DTSTART:20251102T090000
END:STANDARD
END:VTIMEZONE
BEGIN:VEVENT
DTSTART;TZID=America/Los_Angeles:20251123T080000
DTEND;TZID=America/Los_Angeles:20251123T090000
DTSTAMP:20260423T034313
CREATED:20250212T002431Z
LAST-MODIFIED:20250212T002431Z
UID:10012592-1763884800-1763888400@autocamp.com
SUMMARY:Morning Yoga
DESCRIPTION:Wake up with us with restorative yoga. This class is taught by our local partners and designed for all levels. It’s the best way to start your day in beautiful Joshua Tree. Meet just outside the Clubhouse a few minutes before the start time. \nYoga mats and blocks will be provided. Wear comfortable athletic clothes and bring some water to stay hydrated.
URL:https://autocamp.com/event/morning-yoga-joshua-tree/2025-11-23/
LOCATION:AutoCamp Joshua Tree\, 62209 Verbena Road\, Joshua Tree\, CA\, 92252\, United States
CATEGORIES:AutoCamp Joshua Tree
ATTACH;FMTTYPE=image/png:https://autocamp.com/wp-content/uploads/2025/02/Frame-168-12.png
END:VEVENT
BEGIN:VEVENT
DTSTART;TZID=America/Los_Angeles:20251123T150000
DTEND;TZID=America/Los_Angeles:20251123T180000
DTSTAMP:20260423T034313
CREATED:20251003T003933Z
LAST-MODIFIED:20251006T192317Z
UID:10034397-1763910000-1763920800@autocamp.com
SUMMARY:Fall Hot Cider Bar
DESCRIPTION:Join us in the Clubhouse\, get cozy and celebrate this fall season with a complimentary hot cider bar – it’s on us. Spike your cider with Bourbon Whiskey for $5.
URL:https://autocamp.com/event/fall-hot-cider-bar-3/2025-11-23/
LOCATION:AutoCamp Joshua Tree\, 62209 Verbena Road\, Joshua Tree\, CA\, 92252\, United States
CATEGORIES:AutoCamp Joshua Tree
ATTACH;FMTTYPE=image/png:https://autocamp.com/wp-content/uploads/2025/09/Hot-CIder-Bar-2.png
END:VEVENT
END:VCALENDAR