BEGIN:VCALENDAR
VERSION:2.0
PRODID:-//AutoCamp - ECPv6.15.0.1//NONSGML v1.0//EN
CALSCALE:GREGORIAN
METHOD:PUBLISH
X-WR-CALNAME:AutoCamp
X-ORIGINAL-URL:https://autocamp.com
X-WR-CALDESC:Events for AutoCamp
REFRESH-INTERVAL;VALUE=DURATION:PT1H
X-Robots-Tag:noindex
X-PUBLISHED-TTL:PT1H
BEGIN:VTIMEZONE
TZID:America/Los_Angeles
BEGIN:DAYLIGHT
TZOFFSETFROM:-0800
TZOFFSETTO:-0700
TZNAME:PDT
DTSTART:20250309T100000
END:DAYLIGHT
BEGIN:STANDARD
TZOFFSETFROM:-0700
TZOFFSETTO:-0800
TZNAME:PST
DTSTART:20251102T090000
END:STANDARD
END:VTIMEZONE
BEGIN:VEVENT
DTSTART;TZID=America/Los_Angeles:20251122T080000
DTEND;TZID=America/Los_Angeles:20251122T090000
DTSTAMP:20260421T161904
CREATED:20250212T002431Z
LAST-MODIFIED:20250212T002431Z
UID:10012591-1763798400-1763802000@autocamp.com
SUMMARY:Morning Yoga
DESCRIPTION:Wake up with us with restorative yoga. This class is taught by our local partners and designed for all levels. It’s the best way to start your day in beautiful Joshua Tree. Meet just outside the Clubhouse a few minutes before the start time. \nYoga mats and blocks will be provided. Wear comfortable athletic clothes and bring some water to stay hydrated.
URL:https://autocamp.com/event/morning-yoga-joshua-tree/2025-11-22/
LOCATION:AutoCamp Joshua Tree\, 62209 Verbena Road\, Joshua Tree\, CA\, 92252\, United States
CATEGORIES:AutoCamp Joshua Tree
ATTACH;FMTTYPE=image/png:https://autocamp.com/wp-content/uploads/2025/02/Frame-168-12.png
END:VEVENT
BEGIN:VEVENT
DTSTART;TZID=America/Los_Angeles:20251122T120000
DTEND;TZID=America/Los_Angeles:20251122T150000
DTSTAMP:20260421T161904
CREATED:20251003T004520Z
LAST-MODIFIED:20251007T234204Z
UID:10036712-1763812800-1763823600@autocamp.com
SUMMARY:Kids Autumn Arts n' Crafts
DESCRIPTION:Join us at the Clubhouse for complimentary autumn-themed arts and crafts like pumpkin painting and leaf creatures! Create cherished memories with your family and friends. \nWe will provide all of the needed arts supplies and materials\, and our team will assist you in creating your fun souvenir to remember your outdoor adventure by.
URL:https://autocamp.com/event/kids-autumn-arts-n-crafts-2/2025-11-22/
LOCATION:AutoCamp Joshua Tree\, 62209 Verbena Road\, Joshua Tree\, CA\, 92252\, United States
CATEGORIES:AutoCamp Joshua Tree
ATTACH;FMTTYPE=image/jpeg:https://autocamp.com/wp-content/uploads/2025/02/sigmund-OV44gxH71DU-unsplash-scaled.jpg
END:VEVENT
BEGIN:VEVENT
DTSTART;TZID=America/Los_Angeles:20251122T150000
DTEND;TZID=America/Los_Angeles:20251122T180000
DTSTAMP:20260421T161904
CREATED:20251003T003933Z
LAST-MODIFIED:20251006T192317Z
UID:10034396-1763823600-1763834400@autocamp.com
SUMMARY:Fall Hot Cider Bar
DESCRIPTION:Join us in the Clubhouse\, get cozy and celebrate this fall season with a complimentary hot cider bar – it’s on us. Spike your cider with Bourbon Whiskey for $5.
URL:https://autocamp.com/event/fall-hot-cider-bar-3/2025-11-22/
LOCATION:AutoCamp Joshua Tree\, 62209 Verbena Road\, Joshua Tree\, CA\, 92252\, United States
CATEGORIES:AutoCamp Joshua Tree
ATTACH;FMTTYPE=image/png:https://autocamp.com/wp-content/uploads/2025/09/Hot-CIder-Bar-2.png
END:VEVENT
BEGIN:VEVENT
DTSTART;TZID=America/Los_Angeles:20251122T190000
DTEND;TZID=America/Los_Angeles:20251122T210000
DTSTAMP:20260421T161904
CREATED:20251113T165433Z
LAST-MODIFIED:20251113T165434Z
UID:10047287-1763838000-1763845200@autocamp.com
SUMMARY:Live Music with Mikey Reyes & Friends
DESCRIPTION:Gather by the fire for a very special night of live music with local musicians! There’s no better way to ease into a desert evening than to enjoy some songs under the stars. Get ready for a relaxing night of good company and good tunes. Come hang out\, grab a drink at the bar\, and we’ll see you at the Clubhouse.
URL:https://autocamp.com/event/live-music-joshua-tree-2-2/
LOCATION:AutoCamp Joshua Tree\, 62209 Verbena Road\, Joshua Tree\, CA\, 92252\, United States
CATEGORIES:AutoCamp Joshua Tree
ATTACH;FMTTYPE=image/png:https://autocamp.com/wp-content/uploads/2025/02/Frame-168-16.png
END:VEVENT
END:VCALENDAR