BEGIN:VCALENDAR
VERSION:2.0
PRODID:-//AutoCamp - ECPv6.15.0.1//NONSGML v1.0//EN
CALSCALE:GREGORIAN
METHOD:PUBLISH
X-WR-CALNAME:AutoCamp
X-ORIGINAL-URL:https://autocamp.com
X-WR-CALDESC:Events for AutoCamp
REFRESH-INTERVAL;VALUE=DURATION:PT1H
X-Robots-Tag:noindex
X-PUBLISHED-TTL:PT1H
BEGIN:VTIMEZONE
TZID:America/Los_Angeles
BEGIN:DAYLIGHT
TZOFFSETFROM:-0800
TZOFFSETTO:-0700
TZNAME:PDT
DTSTART:20250309T100000
END:DAYLIGHT
BEGIN:STANDARD
TZOFFSETFROM:-0700
TZOFFSETTO:-0800
TZNAME:PST
DTSTART:20251102T090000
END:STANDARD
END:VTIMEZONE
BEGIN:VEVENT
DTSTART;VALUE=DATE:20251102
DTEND;VALUE=DATE:20251103
DTSTAMP:20260425T032603
CREATED:20251031T225229Z
LAST-MODIFIED:20251031T225230Z
UID:10043855-1762041600-1762124399@autocamp.com
SUMMARY:Pumpkin Patch
DESCRIPTION:Bring the family to the Clubhouse and celebrate this fall season with AutoCamp by exploring our pumpkin patch corner! Find your favorite pumpkin to decorate for your Airstream porch and take home with you as a keepsake to your nature escape. Our patch is complimentary. Art supplies are provided in the Clubhouse at select times of the week for pumpkin decorating.
URL:https://autocamp.com/event/pumpkin-patch-6-2/2025-11-02/
LOCATION:AutoCamp Joshua Tree\, 62209 Verbena Road\, Joshua Tree\, CA\, 92252\, United States
CATEGORIES:AutoCamp Joshua Tree
ATTACH;FMTTYPE=image/png:https://autocamp.com/wp-content/uploads/2025/10/pumpkin-patch-1-.png
END:VEVENT
BEGIN:VEVENT
DTSTART;TZID=America/Los_Angeles:20251102T080000
DTEND;TZID=America/Los_Angeles:20251102T090000
DTSTAMP:20260425T032603
CREATED:20250212T002431Z
LAST-MODIFIED:20250212T002431Z
UID:10012586-1762070400-1762074000@autocamp.com
SUMMARY:Morning Yoga
DESCRIPTION:Wake up with us with restorative yoga. This class is taught by our local partners and designed for all levels. It’s the best way to start your day in beautiful Joshua Tree. Meet just outside the Clubhouse a few minutes before the start time. \nYoga mats and blocks will be provided. Wear comfortable athletic clothes and bring some water to stay hydrated.
URL:https://autocamp.com/event/morning-yoga-joshua-tree/2025-11-02/
LOCATION:AutoCamp Joshua Tree\, 62209 Verbena Road\, Joshua Tree\, CA\, 92252\, United States
CATEGORIES:AutoCamp Joshua Tree
ATTACH;FMTTYPE=image/png:https://autocamp.com/wp-content/uploads/2025/02/Frame-168-12.png
END:VEVENT
BEGIN:VEVENT
DTSTART;TZID=America/Los_Angeles:20251102T150000
DTEND;TZID=America/Los_Angeles:20251102T180000
DTSTAMP:20260425T032603
CREATED:20251003T003933Z
LAST-MODIFIED:20251006T192317Z
UID:10034376-1762095600-1762106400@autocamp.com
SUMMARY:Fall Hot Cider Bar
DESCRIPTION:Join us in the Clubhouse\, get cozy and celebrate this fall season with a complimentary hot cider bar – it’s on us. Spike your cider with Bourbon Whiskey for $5.
URL:https://autocamp.com/event/fall-hot-cider-bar-3/2025-11-02/
LOCATION:AutoCamp Joshua Tree\, 62209 Verbena Road\, Joshua Tree\, CA\, 92252\, United States
CATEGORIES:AutoCamp Joshua Tree
ATTACH;FMTTYPE=image/png:https://autocamp.com/wp-content/uploads/2025/09/Hot-CIder-Bar-2.png
END:VEVENT
END:VCALENDAR