BEGIN:VCALENDAR
VERSION:2.0
PRODID:-//AutoCamp - ECPv6.15.0.1//NONSGML v1.0//EN
CALSCALE:GREGORIAN
METHOD:PUBLISH
X-ORIGINAL-URL:https://autocamp.com
X-WR-CALDESC:Events for AutoCamp
REFRESH-INTERVAL;VALUE=DURATION:PT1H
X-Robots-Tag:noindex
X-PUBLISHED-TTL:PT1H
BEGIN:VTIMEZONE
TZID:America/Los_Angeles
BEGIN:DAYLIGHT
TZOFFSETFROM:-0800
TZOFFSETTO:-0700
TZNAME:PDT
DTSTART:20250309T100000
END:DAYLIGHT
BEGIN:STANDARD
TZOFFSETFROM:-0700
TZOFFSETTO:-0800
TZNAME:PST
DTSTART:20251102T090000
END:STANDARD
END:VTIMEZONE
BEGIN:VEVENT
DTSTART;TZID=America/Los_Angeles:20251201T150000
DTEND;TZID=America/Los_Angeles:20251201T180000
DTSTAMP:20260419T060647
CREATED:20251126T163154Z
LAST-MODIFIED:20251126T163154Z
UID:10048823-1764601200-1764612000@autocamp.com
SUMMARY:Hot Cocoa Bar
DESCRIPTION:Head to the Clubhouse for a toasty drink\, and settle in by the indoor fire pit for a cozy evening. The complimentary hot cocoa is on us. Spike your cocoa with peppermint schnapps for $5.
URL:https://autocamp.com/event/hot-cocoa-bar-4/2025-12-01/
LOCATION:AutoCamp Joshua Tree\, 62209 Verbena Road\, Joshua Tree\, CA\, 92252\, United States
CATEGORIES:AutoCamp Joshua Tree
ATTACH;FMTTYPE=image/png:https://autocamp.com/wp-content/uploads/2025/02/Frame-168-3.png
END:VEVENT
BEGIN:VEVENT
DTSTART;TZID=America/Los_Angeles:20251202T150000
DTEND;TZID=America/Los_Angeles:20251202T180000
DTSTAMP:20260419T060647
CREATED:20251126T163154Z
LAST-MODIFIED:20251126T163154Z
UID:10048824-1764687600-1764698400@autocamp.com
SUMMARY:Hot Cocoa Bar
DESCRIPTION:Head to the Clubhouse for a toasty drink\, and settle in by the indoor fire pit for a cozy evening. The complimentary hot cocoa is on us. Spike your cocoa with peppermint schnapps for $5.
URL:https://autocamp.com/event/hot-cocoa-bar-4/2025-12-02/
LOCATION:AutoCamp Joshua Tree\, 62209 Verbena Road\, Joshua Tree\, CA\, 92252\, United States
CATEGORIES:AutoCamp Joshua Tree
ATTACH;FMTTYPE=image/png:https://autocamp.com/wp-content/uploads/2025/02/Frame-168-3.png
END:VEVENT
BEGIN:VEVENT
DTSTART;TZID=America/Los_Angeles:20251203T150000
DTEND;TZID=America/Los_Angeles:20251203T180000
DTSTAMP:20260419T060647
CREATED:20251126T163154Z
LAST-MODIFIED:20251126T163154Z
UID:10048825-1764774000-1764784800@autocamp.com
SUMMARY:Hot Cocoa Bar
DESCRIPTION:Head to the Clubhouse for a toasty drink\, and settle in by the indoor fire pit for a cozy evening. The complimentary hot cocoa is on us. Spike your cocoa with peppermint schnapps for $5.
URL:https://autocamp.com/event/hot-cocoa-bar-4/2025-12-03/
LOCATION:AutoCamp Joshua Tree\, 62209 Verbena Road\, Joshua Tree\, CA\, 92252\, United States
CATEGORIES:AutoCamp Joshua Tree
ATTACH;FMTTYPE=image/png:https://autocamp.com/wp-content/uploads/2025/02/Frame-168-3.png
END:VEVENT
BEGIN:VEVENT
DTSTART;TZID=America/Los_Angeles:20251204T150000
DTEND;TZID=America/Los_Angeles:20251204T180000
DTSTAMP:20260419T060647
CREATED:20251126T163154Z
LAST-MODIFIED:20251126T163154Z
UID:10048826-1764860400-1764871200@autocamp.com
SUMMARY:Hot Cocoa Bar
DESCRIPTION:Head to the Clubhouse for a toasty drink\, and settle in by the indoor fire pit for a cozy evening. The complimentary hot cocoa is on us. Spike your cocoa with peppermint schnapps for $5.
URL:https://autocamp.com/event/hot-cocoa-bar-4/2025-12-04/
LOCATION:AutoCamp Joshua Tree\, 62209 Verbena Road\, Joshua Tree\, CA\, 92252\, United States
CATEGORIES:AutoCamp Joshua Tree
ATTACH;FMTTYPE=image/png:https://autocamp.com/wp-content/uploads/2025/02/Frame-168-3.png
END:VEVENT
BEGIN:VEVENT
DTSTART;VALUE=DATE:20251205
DTEND;VALUE=DATE:20251206
DTSTAMP:20260419T060647
CREATED:20251126T165513Z
LAST-MODIFIED:20260114T213319Z
UID:10072541-1764892800-1764979199@autocamp.com
SUMMARY:Family Arts n' Crafts
DESCRIPTION:Gather in the Clubhouse for family-friendly arts and crafts. Grab a beverage from the General Store and cozy up to the fire as your kids explore their creativity while creating cherished memories with your family and friends. We provide all the materials (available upon request) and we will be available to assist your kids as they make their souvenir to remember your nature escape.
URL:https://autocamp.com/event/kids-winter-arts-n-crafts-joshua-tree/2025-12-05/
LOCATION:AutoCamp Joshua Tree\, 62209 Verbena Road\, Joshua Tree\, CA\, 92252\, United States
CATEGORIES:AutoCamp Joshua Tree
ATTACH;FMTTYPE=image/jpeg:https://autocamp.com/wp-content/uploads/2025/02/mariah-hewines-pmUnPoZiov0-unsplash-scaled.jpg
END:VEVENT
BEGIN:VEVENT
DTSTART;TZID=America/Los_Angeles:20251205T150000
DTEND;TZID=America/Los_Angeles:20251205T180000
DTSTAMP:20260419T060647
CREATED:20251126T163154Z
LAST-MODIFIED:20251126T163154Z
UID:10048827-1764946800-1764957600@autocamp.com
SUMMARY:Hot Cocoa Bar
DESCRIPTION:Head to the Clubhouse for a toasty drink\, and settle in by the indoor fire pit for a cozy evening. The complimentary hot cocoa is on us. Spike your cocoa with peppermint schnapps for $5.
URL:https://autocamp.com/event/hot-cocoa-bar-4/2025-12-05/
LOCATION:AutoCamp Joshua Tree\, 62209 Verbena Road\, Joshua Tree\, CA\, 92252\, United States
CATEGORIES:AutoCamp Joshua Tree
ATTACH;FMTTYPE=image/png:https://autocamp.com/wp-content/uploads/2025/02/Frame-168-3.png
END:VEVENT
BEGIN:VEVENT
DTSTART;VALUE=DATE:20251206
DTEND;VALUE=DATE:20251207
DTSTAMP:20260419T060647
CREATED:20251126T165513Z
LAST-MODIFIED:20260114T213319Z
UID:10072542-1764979200-1765065599@autocamp.com
SUMMARY:Family Arts n' Crafts
DESCRIPTION:Gather in the Clubhouse for family-friendly arts and crafts. Grab a beverage from the General Store and cozy up to the fire as your kids explore their creativity while creating cherished memories with your family and friends. We provide all the materials (available upon request) and we will be available to assist your kids as they make their souvenir to remember your nature escape.
URL:https://autocamp.com/event/kids-winter-arts-n-crafts-joshua-tree/2025-12-06/
LOCATION:AutoCamp Joshua Tree\, 62209 Verbena Road\, Joshua Tree\, CA\, 92252\, United States
CATEGORIES:AutoCamp Joshua Tree
ATTACH;FMTTYPE=image/jpeg:https://autocamp.com/wp-content/uploads/2025/02/mariah-hewines-pmUnPoZiov0-unsplash-scaled.jpg
END:VEVENT
BEGIN:VEVENT
DTSTART;TZID=America/Los_Angeles:20251206T080000
DTEND;TZID=America/Los_Angeles:20251206T090000
DTSTAMP:20260419T060647
CREATED:20250212T002431Z
LAST-MODIFIED:20250212T002431Z
UID:10012595-1765008000-1765011600@autocamp.com
SUMMARY:Morning Yoga
DESCRIPTION:Wake up with us with restorative yoga. This class is taught by our local partners and designed for all levels. It’s the best way to start your day in beautiful Joshua Tree. Meet just outside the Clubhouse a few minutes before the start time. \nYoga mats and blocks will be provided. Wear comfortable athletic clothes and bring some water to stay hydrated.
URL:https://autocamp.com/event/morning-yoga-joshua-tree/2025-12-06/
LOCATION:AutoCamp Joshua Tree\, 62209 Verbena Road\, Joshua Tree\, CA\, 92252\, United States
CATEGORIES:AutoCamp Joshua Tree
ATTACH;FMTTYPE=image/png:https://autocamp.com/wp-content/uploads/2025/02/Frame-168-12.png
END:VEVENT
BEGIN:VEVENT
DTSTART;TZID=America/Los_Angeles:20251206T150000
DTEND;TZID=America/Los_Angeles:20251206T180000
DTSTAMP:20260419T060647
CREATED:20251126T163154Z
LAST-MODIFIED:20251126T163154Z
UID:10048828-1765033200-1765044000@autocamp.com
SUMMARY:Hot Cocoa Bar
DESCRIPTION:Head to the Clubhouse for a toasty drink\, and settle in by the indoor fire pit for a cozy evening. The complimentary hot cocoa is on us. Spike your cocoa with peppermint schnapps for $5.
URL:https://autocamp.com/event/hot-cocoa-bar-4/2025-12-06/
LOCATION:AutoCamp Joshua Tree\, 62209 Verbena Road\, Joshua Tree\, CA\, 92252\, United States
CATEGORIES:AutoCamp Joshua Tree
ATTACH;FMTTYPE=image/png:https://autocamp.com/wp-content/uploads/2025/02/Frame-168-3.png
END:VEVENT
BEGIN:VEVENT
DTSTART;VALUE=DATE:20251207
DTEND;VALUE=DATE:20251208
DTSTAMP:20260419T060647
CREATED:20251126T165513Z
LAST-MODIFIED:20260114T213319Z
UID:10072543-1765065600-1765151999@autocamp.com
SUMMARY:Family Arts n' Crafts
DESCRIPTION:Gather in the Clubhouse for family-friendly arts and crafts. Grab a beverage from the General Store and cozy up to the fire as your kids explore their creativity while creating cherished memories with your family and friends. We provide all the materials (available upon request) and we will be available to assist your kids as they make their souvenir to remember your nature escape.
URL:https://autocamp.com/event/kids-winter-arts-n-crafts-joshua-tree/2025-12-07/
LOCATION:AutoCamp Joshua Tree\, 62209 Verbena Road\, Joshua Tree\, CA\, 92252\, United States
CATEGORIES:AutoCamp Joshua Tree
ATTACH;FMTTYPE=image/jpeg:https://autocamp.com/wp-content/uploads/2025/02/mariah-hewines-pmUnPoZiov0-unsplash-scaled.jpg
END:VEVENT
BEGIN:VEVENT
DTSTART;TZID=America/Los_Angeles:20251207T080000
DTEND;TZID=America/Los_Angeles:20251207T090000
DTSTAMP:20260419T060647
CREATED:20250212T002431Z
LAST-MODIFIED:20250212T002431Z
UID:10012596-1765094400-1765098000@autocamp.com
SUMMARY:Morning Yoga
DESCRIPTION:Wake up with us with restorative yoga. This class is taught by our local partners and designed for all levels. It’s the best way to start your day in beautiful Joshua Tree. Meet just outside the Clubhouse a few minutes before the start time. \nYoga mats and blocks will be provided. Wear comfortable athletic clothes and bring some water to stay hydrated.
URL:https://autocamp.com/event/morning-yoga-joshua-tree/2025-12-07/
LOCATION:AutoCamp Joshua Tree\, 62209 Verbena Road\, Joshua Tree\, CA\, 92252\, United States
CATEGORIES:AutoCamp Joshua Tree
ATTACH;FMTTYPE=image/png:https://autocamp.com/wp-content/uploads/2025/02/Frame-168-12.png
END:VEVENT
BEGIN:VEVENT
DTSTART;TZID=America/Los_Angeles:20251207T150000
DTEND;TZID=America/Los_Angeles:20251207T180000
DTSTAMP:20260419T060647
CREATED:20251126T163154Z
LAST-MODIFIED:20251126T163154Z
UID:10048829-1765119600-1765130400@autocamp.com
SUMMARY:Hot Cocoa Bar
DESCRIPTION:Head to the Clubhouse for a toasty drink\, and settle in by the indoor fire pit for a cozy evening. The complimentary hot cocoa is on us. Spike your cocoa with peppermint schnapps for $5.
URL:https://autocamp.com/event/hot-cocoa-bar-4/2025-12-07/
LOCATION:AutoCamp Joshua Tree\, 62209 Verbena Road\, Joshua Tree\, CA\, 92252\, United States
CATEGORIES:AutoCamp Joshua Tree
ATTACH;FMTTYPE=image/png:https://autocamp.com/wp-content/uploads/2025/02/Frame-168-3.png
END:VEVENT
BEGIN:VEVENT
DTSTART;VALUE=DATE:20251208
DTEND;VALUE=DATE:20251209
DTSTAMP:20260419T060647
CREATED:20251126T165513Z
LAST-MODIFIED:20260114T213319Z
UID:10072544-1765152000-1765238399@autocamp.com
SUMMARY:Family Arts n' Crafts
DESCRIPTION:Gather in the Clubhouse for family-friendly arts and crafts. Grab a beverage from the General Store and cozy up to the fire as your kids explore their creativity while creating cherished memories with your family and friends. We provide all the materials (available upon request) and we will be available to assist your kids as they make their souvenir to remember your nature escape.
URL:https://autocamp.com/event/kids-winter-arts-n-crafts-joshua-tree/2025-12-08/
LOCATION:AutoCamp Joshua Tree\, 62209 Verbena Road\, Joshua Tree\, CA\, 92252\, United States
CATEGORIES:AutoCamp Joshua Tree
ATTACH;FMTTYPE=image/jpeg:https://autocamp.com/wp-content/uploads/2025/02/mariah-hewines-pmUnPoZiov0-unsplash-scaled.jpg
END:VEVENT
BEGIN:VEVENT
DTSTART;TZID=America/Los_Angeles:20251208T150000
DTEND;TZID=America/Los_Angeles:20251208T180000
DTSTAMP:20260419T060647
CREATED:20251126T163154Z
LAST-MODIFIED:20251126T163154Z
UID:10048830-1765206000-1765216800@autocamp.com
SUMMARY:Hot Cocoa Bar
DESCRIPTION:Head to the Clubhouse for a toasty drink\, and settle in by the indoor fire pit for a cozy evening. The complimentary hot cocoa is on us. Spike your cocoa with peppermint schnapps for $5.
URL:https://autocamp.com/event/hot-cocoa-bar-4/2025-12-08/
LOCATION:AutoCamp Joshua Tree\, 62209 Verbena Road\, Joshua Tree\, CA\, 92252\, United States
CATEGORIES:AutoCamp Joshua Tree
ATTACH;FMTTYPE=image/png:https://autocamp.com/wp-content/uploads/2025/02/Frame-168-3.png
END:VEVENT
BEGIN:VEVENT
DTSTART;VALUE=DATE:20251209
DTEND;VALUE=DATE:20251210
DTSTAMP:20260419T060647
CREATED:20251126T165513Z
LAST-MODIFIED:20260114T213319Z
UID:10072545-1765238400-1765324799@autocamp.com
SUMMARY:Family Arts n' Crafts
DESCRIPTION:Gather in the Clubhouse for family-friendly arts and crafts. Grab a beverage from the General Store and cozy up to the fire as your kids explore their creativity while creating cherished memories with your family and friends. We provide all the materials (available upon request) and we will be available to assist your kids as they make their souvenir to remember your nature escape.
URL:https://autocamp.com/event/kids-winter-arts-n-crafts-joshua-tree/2025-12-09/
LOCATION:AutoCamp Joshua Tree\, 62209 Verbena Road\, Joshua Tree\, CA\, 92252\, United States
CATEGORIES:AutoCamp Joshua Tree
ATTACH;FMTTYPE=image/jpeg:https://autocamp.com/wp-content/uploads/2025/02/mariah-hewines-pmUnPoZiov0-unsplash-scaled.jpg
END:VEVENT
BEGIN:VEVENT
DTSTART;TZID=America/Los_Angeles:20251209T150000
DTEND;TZID=America/Los_Angeles:20251209T180000
DTSTAMP:20260419T060647
CREATED:20251126T163154Z
LAST-MODIFIED:20251126T163154Z
UID:10048831-1765292400-1765303200@autocamp.com
SUMMARY:Hot Cocoa Bar
DESCRIPTION:Head to the Clubhouse for a toasty drink\, and settle in by the indoor fire pit for a cozy evening. The complimentary hot cocoa is on us. Spike your cocoa with peppermint schnapps for $5.
URL:https://autocamp.com/event/hot-cocoa-bar-4/2025-12-09/
LOCATION:AutoCamp Joshua Tree\, 62209 Verbena Road\, Joshua Tree\, CA\, 92252\, United States
CATEGORIES:AutoCamp Joshua Tree
ATTACH;FMTTYPE=image/png:https://autocamp.com/wp-content/uploads/2025/02/Frame-168-3.png
END:VEVENT
BEGIN:VEVENT
DTSTART;VALUE=DATE:20251210
DTEND;VALUE=DATE:20251211
DTSTAMP:20260419T060647
CREATED:20251126T165513Z
LAST-MODIFIED:20260114T213319Z
UID:10072546-1765324800-1765411199@autocamp.com
SUMMARY:Family Arts n' Crafts
DESCRIPTION:Gather in the Clubhouse for family-friendly arts and crafts. Grab a beverage from the General Store and cozy up to the fire as your kids explore their creativity while creating cherished memories with your family and friends. We provide all the materials (available upon request) and we will be available to assist your kids as they make their souvenir to remember your nature escape.
URL:https://autocamp.com/event/kids-winter-arts-n-crafts-joshua-tree/2025-12-10/
LOCATION:AutoCamp Joshua Tree\, 62209 Verbena Road\, Joshua Tree\, CA\, 92252\, United States
CATEGORIES:AutoCamp Joshua Tree
ATTACH;FMTTYPE=image/jpeg:https://autocamp.com/wp-content/uploads/2025/02/mariah-hewines-pmUnPoZiov0-unsplash-scaled.jpg
END:VEVENT
BEGIN:VEVENT
DTSTART;VALUE=DATE:20251210
DTEND;VALUE=DATE:20251211
DTSTAMP:20260419T060647
CREATED:20251126T175104Z
LAST-MODIFIED:20251126T175104Z
UID:10061416-1765324800-1765411199@autocamp.com
SUMMARY:Find the Desert Tortoise Kid's Game
DESCRIPTION:Can you find the hidden Desert Tortoise inside the Clubhouse? During their stay\, young explorers can search for the Desert Tortoise stuffed animal hidden somewhere in the Clubhouse. Be sure to let a team member know when you find it\, and kiddos will receive a small surprise as their reward. And if you’d like to take your own Desert Tortoise home with you\, we sell these little stuffed friends in our General Store. Good luck searching!
URL:https://autocamp.com/event/find-the-desert-tortoise-kids-game/2025-12-10/
LOCATION:AutoCamp Joshua Tree\, 62209 Verbena Road\, Joshua Tree\, CA\, 92252\, United States
CATEGORIES:AutoCamp Joshua Tree
ATTACH;FMTTYPE=image/png:https://autocamp.com/wp-content/uploads/2025/11/Desert-Tortoise-Website.png
END:VEVENT
BEGIN:VEVENT
DTSTART;TZID=America/Los_Angeles:20251210T150000
DTEND;TZID=America/Los_Angeles:20251210T180000
DTSTAMP:20260419T060647
CREATED:20251126T163154Z
LAST-MODIFIED:20251126T163154Z
UID:10048832-1765378800-1765389600@autocamp.com
SUMMARY:Hot Cocoa Bar
DESCRIPTION:Head to the Clubhouse for a toasty drink\, and settle in by the indoor fire pit for a cozy evening. The complimentary hot cocoa is on us. Spike your cocoa with peppermint schnapps for $5.
URL:https://autocamp.com/event/hot-cocoa-bar-4/2025-12-10/
LOCATION:AutoCamp Joshua Tree\, 62209 Verbena Road\, Joshua Tree\, CA\, 92252\, United States
CATEGORIES:AutoCamp Joshua Tree
ATTACH;FMTTYPE=image/png:https://autocamp.com/wp-content/uploads/2025/02/Frame-168-3.png
END:VEVENT
BEGIN:VEVENT
DTSTART;VALUE=DATE:20251211
DTEND;VALUE=DATE:20251212
DTSTAMP:20260419T060647
CREATED:20251126T165513Z
LAST-MODIFIED:20260114T213319Z
UID:10072547-1765411200-1765497599@autocamp.com
SUMMARY:Family Arts n' Crafts
DESCRIPTION:Gather in the Clubhouse for family-friendly arts and crafts. Grab a beverage from the General Store and cozy up to the fire as your kids explore their creativity while creating cherished memories with your family and friends. We provide all the materials (available upon request) and we will be available to assist your kids as they make their souvenir to remember your nature escape.
URL:https://autocamp.com/event/kids-winter-arts-n-crafts-joshua-tree/2025-12-11/
LOCATION:AutoCamp Joshua Tree\, 62209 Verbena Road\, Joshua Tree\, CA\, 92252\, United States
CATEGORIES:AutoCamp Joshua Tree
ATTACH;FMTTYPE=image/jpeg:https://autocamp.com/wp-content/uploads/2025/02/mariah-hewines-pmUnPoZiov0-unsplash-scaled.jpg
END:VEVENT
BEGIN:VEVENT
DTSTART;VALUE=DATE:20251211
DTEND;VALUE=DATE:20251212
DTSTAMP:20260419T060647
CREATED:20251126T175104Z
LAST-MODIFIED:20251126T175104Z
UID:10061417-1765411200-1765497599@autocamp.com
SUMMARY:Find the Desert Tortoise Kid's Game
DESCRIPTION:Can you find the hidden Desert Tortoise inside the Clubhouse? During their stay\, young explorers can search for the Desert Tortoise stuffed animal hidden somewhere in the Clubhouse. Be sure to let a team member know when you find it\, and kiddos will receive a small surprise as their reward. And if you’d like to take your own Desert Tortoise home with you\, we sell these little stuffed friends in our General Store. Good luck searching!
URL:https://autocamp.com/event/find-the-desert-tortoise-kids-game/2025-12-11/
LOCATION:AutoCamp Joshua Tree\, 62209 Verbena Road\, Joshua Tree\, CA\, 92252\, United States
CATEGORIES:AutoCamp Joshua Tree
ATTACH;FMTTYPE=image/png:https://autocamp.com/wp-content/uploads/2025/11/Desert-Tortoise-Website.png
END:VEVENT
BEGIN:VEVENT
DTSTART;TZID=America/Los_Angeles:20251211T150000
DTEND;TZID=America/Los_Angeles:20251211T180000
DTSTAMP:20260419T060647
CREATED:20251126T163154Z
LAST-MODIFIED:20251126T163154Z
UID:10048833-1765465200-1765476000@autocamp.com
SUMMARY:Hot Cocoa Bar
DESCRIPTION:Head to the Clubhouse for a toasty drink\, and settle in by the indoor fire pit for a cozy evening. The complimentary hot cocoa is on us. Spike your cocoa with peppermint schnapps for $5.
URL:https://autocamp.com/event/hot-cocoa-bar-4/2025-12-11/
LOCATION:AutoCamp Joshua Tree\, 62209 Verbena Road\, Joshua Tree\, CA\, 92252\, United States
CATEGORIES:AutoCamp Joshua Tree
ATTACH;FMTTYPE=image/png:https://autocamp.com/wp-content/uploads/2025/02/Frame-168-3.png
END:VEVENT
BEGIN:VEVENT
DTSTART;VALUE=DATE:20251212
DTEND;VALUE=DATE:20251213
DTSTAMP:20260419T060647
CREATED:20251126T165513Z
LAST-MODIFIED:20260114T213319Z
UID:10072548-1765497600-1765583999@autocamp.com
SUMMARY:Family Arts n' Crafts
DESCRIPTION:Gather in the Clubhouse for family-friendly arts and crafts. Grab a beverage from the General Store and cozy up to the fire as your kids explore their creativity while creating cherished memories with your family and friends. We provide all the materials (available upon request) and we will be available to assist your kids as they make their souvenir to remember your nature escape.
URL:https://autocamp.com/event/kids-winter-arts-n-crafts-joshua-tree/2025-12-12/
LOCATION:AutoCamp Joshua Tree\, 62209 Verbena Road\, Joshua Tree\, CA\, 92252\, United States
CATEGORIES:AutoCamp Joshua Tree
ATTACH;FMTTYPE=image/jpeg:https://autocamp.com/wp-content/uploads/2025/02/mariah-hewines-pmUnPoZiov0-unsplash-scaled.jpg
END:VEVENT
BEGIN:VEVENT
DTSTART;VALUE=DATE:20251212
DTEND;VALUE=DATE:20251213
DTSTAMP:20260419T060647
CREATED:20251126T175104Z
LAST-MODIFIED:20251126T175104Z
UID:10061418-1765497600-1765583999@autocamp.com
SUMMARY:Find the Desert Tortoise Kid's Game
DESCRIPTION:Can you find the hidden Desert Tortoise inside the Clubhouse? During their stay\, young explorers can search for the Desert Tortoise stuffed animal hidden somewhere in the Clubhouse. Be sure to let a team member know when you find it\, and kiddos will receive a small surprise as their reward. And if you’d like to take your own Desert Tortoise home with you\, we sell these little stuffed friends in our General Store. Good luck searching!
URL:https://autocamp.com/event/find-the-desert-tortoise-kids-game/2025-12-12/
LOCATION:AutoCamp Joshua Tree\, 62209 Verbena Road\, Joshua Tree\, CA\, 92252\, United States
CATEGORIES:AutoCamp Joshua Tree
ATTACH;FMTTYPE=image/png:https://autocamp.com/wp-content/uploads/2025/11/Desert-Tortoise-Website.png
END:VEVENT
BEGIN:VEVENT
DTSTART;TZID=America/Los_Angeles:20251212T150000
DTEND;TZID=America/Los_Angeles:20251212T180000
DTSTAMP:20260419T060647
CREATED:20251126T163154Z
LAST-MODIFIED:20251126T163154Z
UID:10048834-1765551600-1765562400@autocamp.com
SUMMARY:Hot Cocoa Bar
DESCRIPTION:Head to the Clubhouse for a toasty drink\, and settle in by the indoor fire pit for a cozy evening. The complimentary hot cocoa is on us. Spike your cocoa with peppermint schnapps for $5.
URL:https://autocamp.com/event/hot-cocoa-bar-4/2025-12-12/
LOCATION:AutoCamp Joshua Tree\, 62209 Verbena Road\, Joshua Tree\, CA\, 92252\, United States
CATEGORIES:AutoCamp Joshua Tree
ATTACH;FMTTYPE=image/png:https://autocamp.com/wp-content/uploads/2025/02/Frame-168-3.png
END:VEVENT
BEGIN:VEVENT
DTSTART;VALUE=DATE:20251213
DTEND;VALUE=DATE:20251214
DTSTAMP:20260419T060647
CREATED:20251126T165513Z
LAST-MODIFIED:20260114T213319Z
UID:10072549-1765584000-1765670399@autocamp.com
SUMMARY:Family Arts n' Crafts
DESCRIPTION:Gather in the Clubhouse for family-friendly arts and crafts. Grab a beverage from the General Store and cozy up to the fire as your kids explore their creativity while creating cherished memories with your family and friends. We provide all the materials (available upon request) and we will be available to assist your kids as they make their souvenir to remember your nature escape.
URL:https://autocamp.com/event/kids-winter-arts-n-crafts-joshua-tree/2025-12-13/
LOCATION:AutoCamp Joshua Tree\, 62209 Verbena Road\, Joshua Tree\, CA\, 92252\, United States
CATEGORIES:AutoCamp Joshua Tree
ATTACH;FMTTYPE=image/jpeg:https://autocamp.com/wp-content/uploads/2025/02/mariah-hewines-pmUnPoZiov0-unsplash-scaled.jpg
END:VEVENT
BEGIN:VEVENT
DTSTART;VALUE=DATE:20251213
DTEND;VALUE=DATE:20251214
DTSTAMP:20260419T060647
CREATED:20251126T175104Z
LAST-MODIFIED:20251126T175104Z
UID:10061419-1765584000-1765670399@autocamp.com
SUMMARY:Find the Desert Tortoise Kid's Game
DESCRIPTION:Can you find the hidden Desert Tortoise inside the Clubhouse? During their stay\, young explorers can search for the Desert Tortoise stuffed animal hidden somewhere in the Clubhouse. Be sure to let a team member know when you find it\, and kiddos will receive a small surprise as their reward. And if you’d like to take your own Desert Tortoise home with you\, we sell these little stuffed friends in our General Store. Good luck searching!
URL:https://autocamp.com/event/find-the-desert-tortoise-kids-game/2025-12-13/
LOCATION:AutoCamp Joshua Tree\, 62209 Verbena Road\, Joshua Tree\, CA\, 92252\, United States
CATEGORIES:AutoCamp Joshua Tree
ATTACH;FMTTYPE=image/png:https://autocamp.com/wp-content/uploads/2025/11/Desert-Tortoise-Website.png
END:VEVENT
BEGIN:VEVENT
DTSTART;TZID=America/Los_Angeles:20251213T080000
DTEND;TZID=America/Los_Angeles:20251213T090000
DTSTAMP:20260419T060647
CREATED:20250212T002431Z
LAST-MODIFIED:20250212T002431Z
UID:10012597-1765612800-1765616400@autocamp.com
SUMMARY:Morning Yoga
DESCRIPTION:Wake up with us with restorative yoga. This class is taught by our local partners and designed for all levels. It’s the best way to start your day in beautiful Joshua Tree. Meet just outside the Clubhouse a few minutes before the start time. \nYoga mats and blocks will be provided. Wear comfortable athletic clothes and bring some water to stay hydrated.
URL:https://autocamp.com/event/morning-yoga-joshua-tree/2025-12-13/
LOCATION:AutoCamp Joshua Tree\, 62209 Verbena Road\, Joshua Tree\, CA\, 92252\, United States
CATEGORIES:AutoCamp Joshua Tree
ATTACH;FMTTYPE=image/png:https://autocamp.com/wp-content/uploads/2025/02/Frame-168-12.png
END:VEVENT
BEGIN:VEVENT
DTSTART;TZID=America/Los_Angeles:20251213T150000
DTEND;TZID=America/Los_Angeles:20251213T180000
DTSTAMP:20260419T060647
CREATED:20251126T163154Z
LAST-MODIFIED:20251126T163154Z
UID:10048835-1765638000-1765648800@autocamp.com
SUMMARY:Hot Cocoa Bar
DESCRIPTION:Head to the Clubhouse for a toasty drink\, and settle in by the indoor fire pit for a cozy evening. The complimentary hot cocoa is on us. Spike your cocoa with peppermint schnapps for $5.
URL:https://autocamp.com/event/hot-cocoa-bar-4/2025-12-13/
LOCATION:AutoCamp Joshua Tree\, 62209 Verbena Road\, Joshua Tree\, CA\, 92252\, United States
CATEGORIES:AutoCamp Joshua Tree
ATTACH;FMTTYPE=image/png:https://autocamp.com/wp-content/uploads/2025/02/Frame-168-3.png
END:VEVENT
BEGIN:VEVENT
DTSTART;VALUE=DATE:20251214
DTEND;VALUE=DATE:20251215
DTSTAMP:20260419T060647
CREATED:20251126T165513Z
LAST-MODIFIED:20260114T213319Z
UID:10072550-1765670400-1765756799@autocamp.com
SUMMARY:Family Arts n' Crafts
DESCRIPTION:Gather in the Clubhouse for family-friendly arts and crafts. Grab a beverage from the General Store and cozy up to the fire as your kids explore their creativity while creating cherished memories with your family and friends. We provide all the materials (available upon request) and we will be available to assist your kids as they make their souvenir to remember your nature escape.
URL:https://autocamp.com/event/kids-winter-arts-n-crafts-joshua-tree/2025-12-14/
LOCATION:AutoCamp Joshua Tree\, 62209 Verbena Road\, Joshua Tree\, CA\, 92252\, United States
CATEGORIES:AutoCamp Joshua Tree
ATTACH;FMTTYPE=image/jpeg:https://autocamp.com/wp-content/uploads/2025/02/mariah-hewines-pmUnPoZiov0-unsplash-scaled.jpg
END:VEVENT
END:VCALENDAR