BEGIN:VCALENDAR
VERSION:2.0
PRODID:-//AutoCamp - ECPv6.15.0.1//NONSGML v1.0//EN
CALSCALE:GREGORIAN
METHOD:PUBLISH
X-ORIGINAL-URL:https://autocamp.com
X-WR-CALDESC:Events for AutoCamp
REFRESH-INTERVAL;VALUE=DURATION:PT1H
X-Robots-Tag:noindex
X-PUBLISHED-TTL:PT1H
BEGIN:VTIMEZONE
TZID:America/New_York
BEGIN:DAYLIGHT
TZOFFSETFROM:-0500
TZOFFSETTO:-0400
TZNAME:EDT
DTSTART:20260308T070000
END:DAYLIGHT
BEGIN:STANDARD
TZOFFSETFROM:-0400
TZOFFSETTO:-0500
TZNAME:EST
DTSTART:20261101T060000
END:STANDARD
END:VTIMEZONE
BEGIN:VEVENT
DTSTART;TZID=America/New_York:20260114T120000
DTEND;TZID=America/New_York:20260114T150000
DTSTAMP:20260419T185300
CREATED:20251126T163041Z
LAST-MODIFIED:20251126T171158Z
UID:10050108-1768392000-1768402800@autocamp.com
SUMMARY:Hot Cocoa Bar
DESCRIPTION:Head to the Clubhouse for a toasty drink\, and settle in by the indoor fire pit for a cozy evening. The complimentary hot cocoa is on us. Spike your cocoa with peppermint schnapps for $5.
URL:https://autocamp.com/event/hot-cocoa-bar-3/2026-01-14/
LOCATION:AutoCamp Cape Cod\, 836 Palmer Ave\, Falmouth\, MA\, 02540\, United States
CATEGORIES:AutoCamp Cape Cod
ATTACH;FMTTYPE=image/png:https://autocamp.com/wp-content/uploads/2025/02/Frame-168-3.png
END:VEVENT
BEGIN:VEVENT
DTSTART;VALUE=DATE:20260115
DTEND;VALUE=DATE:20260116
DTSTAMP:20260419T185300
CREATED:20251126T174931Z
LAST-MODIFIED:20251126T174931Z
UID:10059639-1768435200-1768521599@autocamp.com
SUMMARY:Find the Fox Kid's Game
DESCRIPTION:Can you find the hidden Red Fox inside the Clubhouse? During their stay\, young explorers can search for the Red Fox stuffed animal hidden somewhere in the Clubhouse. Be sure to let a team member know when you find it\, and kiddos will receive a small surprise as their reward. And if you’d like to take your own Red Fox home with you\, we sell these little stuffed friends in our General Store. Good luck searching!
URL:https://autocamp.com/event/find-the-fox-kids-game-cape-cod/2026-01-15/
LOCATION:AutoCamp Cape Cod\, 836 Palmer Ave\, Falmouth\, MA\, 02540\, United States
CATEGORIES:AutoCamp Cape Cod
ATTACH;FMTTYPE=image/png:https://autocamp.com/wp-content/uploads/2025/11/Fox-Website.png
END:VEVENT
BEGIN:VEVENT
DTSTART;TZID=America/New_York:20260115T120000
DTEND;TZID=America/New_York:20260115T150000
DTSTAMP:20260419T185300
CREATED:20251126T163041Z
LAST-MODIFIED:20251126T171158Z
UID:10050109-1768478400-1768489200@autocamp.com
SUMMARY:Hot Cocoa Bar
DESCRIPTION:Head to the Clubhouse for a toasty drink\, and settle in by the indoor fire pit for a cozy evening. The complimentary hot cocoa is on us. Spike your cocoa with peppermint schnapps for $5.
URL:https://autocamp.com/event/hot-cocoa-bar-3/2026-01-15/
LOCATION:AutoCamp Cape Cod\, 836 Palmer Ave\, Falmouth\, MA\, 02540\, United States
CATEGORIES:AutoCamp Cape Cod
ATTACH;FMTTYPE=image/png:https://autocamp.com/wp-content/uploads/2025/02/Frame-168-3.png
END:VEVENT
BEGIN:VEVENT
DTSTART;VALUE=DATE:20260116
DTEND;VALUE=DATE:20260117
DTSTAMP:20260419T185300
CREATED:20251126T174931Z
LAST-MODIFIED:20251126T174931Z
UID:10059640-1768521600-1768607999@autocamp.com
SUMMARY:Find the Fox Kid's Game
DESCRIPTION:Can you find the hidden Red Fox inside the Clubhouse? During their stay\, young explorers can search for the Red Fox stuffed animal hidden somewhere in the Clubhouse. Be sure to let a team member know when you find it\, and kiddos will receive a small surprise as their reward. And if you’d like to take your own Red Fox home with you\, we sell these little stuffed friends in our General Store. Good luck searching!
URL:https://autocamp.com/event/find-the-fox-kids-game-cape-cod/2026-01-16/
LOCATION:AutoCamp Cape Cod\, 836 Palmer Ave\, Falmouth\, MA\, 02540\, United States
CATEGORIES:AutoCamp Cape Cod
ATTACH;FMTTYPE=image/png:https://autocamp.com/wp-content/uploads/2025/11/Fox-Website.png
END:VEVENT
BEGIN:VEVENT
DTSTART;TZID=America/New_York:20260116T090000
DTEND;TZID=America/New_York:20260116T110000
DTSTAMP:20260419T185300
CREATED:20260116T172357Z
LAST-MODIFIED:20260116T172357Z
UID:10049853-1768554000-1768561200@autocamp.com
SUMMARY:Kids Arts n' Crafts
DESCRIPTION:Join us in the Clubhouse for complimentary arts and crafts like rock decorating\, tracing sheets and finger painting while creating cherished memories with your family and friends. We will provide all of the needed arts supplies and materials\, and our team will assist you in creating a fun souvenir to remember your nature escape.
URL:https://autocamp.com/event/kids-winter-arts-n-crafts-cape-cod-2/2026-01-16/
LOCATION:AutoCamp Cape Cod\, 836 Palmer Ave\, Falmouth\, MA\, 02540\, United States
CATEGORIES:AutoCamp Cape Cod
ATTACH;FMTTYPE=image/jpeg:https://autocamp.com/wp-content/uploads/2025/02/mariah-hewines-pmUnPoZiov0-unsplash-scaled.jpg
END:VEVENT
BEGIN:VEVENT
DTSTART;TZID=America/New_York:20260116T120000
DTEND;TZID=America/New_York:20260116T150000
DTSTAMP:20260419T185300
CREATED:20251126T163041Z
LAST-MODIFIED:20251126T171158Z
UID:10050110-1768564800-1768575600@autocamp.com
SUMMARY:Hot Cocoa Bar
DESCRIPTION:Head to the Clubhouse for a toasty drink\, and settle in by the indoor fire pit for a cozy evening. The complimentary hot cocoa is on us. Spike your cocoa with peppermint schnapps for $5.
URL:https://autocamp.com/event/hot-cocoa-bar-3/2026-01-16/
LOCATION:AutoCamp Cape Cod\, 836 Palmer Ave\, Falmouth\, MA\, 02540\, United States
CATEGORIES:AutoCamp Cape Cod
ATTACH;FMTTYPE=image/png:https://autocamp.com/wp-content/uploads/2025/02/Frame-168-3.png
END:VEVENT
BEGIN:VEVENT
DTSTART;VALUE=DATE:20260117
DTEND;VALUE=DATE:20260118
DTSTAMP:20260419T185300
CREATED:20251126T174931Z
LAST-MODIFIED:20251126T174931Z
UID:10059641-1768608000-1768694399@autocamp.com
SUMMARY:Find the Fox Kid's Game
DESCRIPTION:Can you find the hidden Red Fox inside the Clubhouse? During their stay\, young explorers can search for the Red Fox stuffed animal hidden somewhere in the Clubhouse. Be sure to let a team member know when you find it\, and kiddos will receive a small surprise as their reward. And if you’d like to take your own Red Fox home with you\, we sell these little stuffed friends in our General Store. Good luck searching!
URL:https://autocamp.com/event/find-the-fox-kids-game-cape-cod/2026-01-17/
LOCATION:AutoCamp Cape Cod\, 836 Palmer Ave\, Falmouth\, MA\, 02540\, United States
CATEGORIES:AutoCamp Cape Cod
ATTACH;FMTTYPE=image/png:https://autocamp.com/wp-content/uploads/2025/11/Fox-Website.png
END:VEVENT
BEGIN:VEVENT
DTSTART;TZID=America/New_York:20260117T090000
DTEND;TZID=America/New_York:20260117T110000
DTSTAMP:20260419T185300
CREATED:20260116T172357Z
LAST-MODIFIED:20260116T172357Z
UID:10049854-1768640400-1768647600@autocamp.com
SUMMARY:Kids Arts n' Crafts
DESCRIPTION:Join us in the Clubhouse for complimentary arts and crafts like rock decorating\, tracing sheets and finger painting while creating cherished memories with your family and friends. We will provide all of the needed arts supplies and materials\, and our team will assist you in creating a fun souvenir to remember your nature escape.
URL:https://autocamp.com/event/kids-winter-arts-n-crafts-cape-cod-2/2026-01-17/
LOCATION:AutoCamp Cape Cod\, 836 Palmer Ave\, Falmouth\, MA\, 02540\, United States
CATEGORIES:AutoCamp Cape Cod
ATTACH;FMTTYPE=image/jpeg:https://autocamp.com/wp-content/uploads/2025/02/mariah-hewines-pmUnPoZiov0-unsplash-scaled.jpg
END:VEVENT
BEGIN:VEVENT
DTSTART;TZID=America/New_York:20260117T120000
DTEND;TZID=America/New_York:20260117T150000
DTSTAMP:20260419T185300
CREATED:20251126T163041Z
LAST-MODIFIED:20251126T171158Z
UID:10050111-1768651200-1768662000@autocamp.com
SUMMARY:Hot Cocoa Bar
DESCRIPTION:Head to the Clubhouse for a toasty drink\, and settle in by the indoor fire pit for a cozy evening. The complimentary hot cocoa is on us. Spike your cocoa with peppermint schnapps for $5.
URL:https://autocamp.com/event/hot-cocoa-bar-3/2026-01-17/
LOCATION:AutoCamp Cape Cod\, 836 Palmer Ave\, Falmouth\, MA\, 02540\, United States
CATEGORIES:AutoCamp Cape Cod
ATTACH;FMTTYPE=image/png:https://autocamp.com/wp-content/uploads/2025/02/Frame-168-3.png
END:VEVENT
BEGIN:VEVENT
DTSTART;VALUE=DATE:20260118
DTEND;VALUE=DATE:20260119
DTSTAMP:20260419T185300
CREATED:20251126T174931Z
LAST-MODIFIED:20251126T174931Z
UID:10059642-1768694400-1768780799@autocamp.com
SUMMARY:Find the Fox Kid's Game
DESCRIPTION:Can you find the hidden Red Fox inside the Clubhouse? During their stay\, young explorers can search for the Red Fox stuffed animal hidden somewhere in the Clubhouse. Be sure to let a team member know when you find it\, and kiddos will receive a small surprise as their reward. And if you’d like to take your own Red Fox home with you\, we sell these little stuffed friends in our General Store. Good luck searching!
URL:https://autocamp.com/event/find-the-fox-kids-game-cape-cod/2026-01-18/
LOCATION:AutoCamp Cape Cod\, 836 Palmer Ave\, Falmouth\, MA\, 02540\, United States
CATEGORIES:AutoCamp Cape Cod
ATTACH;FMTTYPE=image/png:https://autocamp.com/wp-content/uploads/2025/11/Fox-Website.png
END:VEVENT
BEGIN:VEVENT
DTSTART;TZID=America/New_York:20260118T120000
DTEND;TZID=America/New_York:20260118T150000
DTSTAMP:20260419T185300
CREATED:20251126T163041Z
LAST-MODIFIED:20251126T171158Z
UID:10050112-1768737600-1768748400@autocamp.com
SUMMARY:Hot Cocoa Bar
DESCRIPTION:Head to the Clubhouse for a toasty drink\, and settle in by the indoor fire pit for a cozy evening. The complimentary hot cocoa is on us. Spike your cocoa with peppermint schnapps for $5.
URL:https://autocamp.com/event/hot-cocoa-bar-3/2026-01-18/
LOCATION:AutoCamp Cape Cod\, 836 Palmer Ave\, Falmouth\, MA\, 02540\, United States
CATEGORIES:AutoCamp Cape Cod
ATTACH;FMTTYPE=image/png:https://autocamp.com/wp-content/uploads/2025/02/Frame-168-3.png
END:VEVENT
BEGIN:VEVENT
DTSTART;VALUE=DATE:20260119
DTEND;VALUE=DATE:20260120
DTSTAMP:20260419T185300
CREATED:20251126T174931Z
LAST-MODIFIED:20251126T174931Z
UID:10059643-1768780800-1768867199@autocamp.com
SUMMARY:Find the Fox Kid's Game
DESCRIPTION:Can you find the hidden Red Fox inside the Clubhouse? During their stay\, young explorers can search for the Red Fox stuffed animal hidden somewhere in the Clubhouse. Be sure to let a team member know when you find it\, and kiddos will receive a small surprise as their reward. And if you’d like to take your own Red Fox home with you\, we sell these little stuffed friends in our General Store. Good luck searching!
URL:https://autocamp.com/event/find-the-fox-kids-game-cape-cod/2026-01-19/
LOCATION:AutoCamp Cape Cod\, 836 Palmer Ave\, Falmouth\, MA\, 02540\, United States
CATEGORIES:AutoCamp Cape Cod
ATTACH;FMTTYPE=image/png:https://autocamp.com/wp-content/uploads/2025/11/Fox-Website.png
END:VEVENT
BEGIN:VEVENT
DTSTART;TZID=America/New_York:20260119T120000
DTEND;TZID=America/New_York:20260119T150000
DTSTAMP:20260419T185300
CREATED:20251126T163041Z
LAST-MODIFIED:20251126T171158Z
UID:10050113-1768824000-1768834800@autocamp.com
SUMMARY:Hot Cocoa Bar
DESCRIPTION:Head to the Clubhouse for a toasty drink\, and settle in by the indoor fire pit for a cozy evening. The complimentary hot cocoa is on us. Spike your cocoa with peppermint schnapps for $5.
URL:https://autocamp.com/event/hot-cocoa-bar-3/2026-01-19/
LOCATION:AutoCamp Cape Cod\, 836 Palmer Ave\, Falmouth\, MA\, 02540\, United States
CATEGORIES:AutoCamp Cape Cod
ATTACH;FMTTYPE=image/png:https://autocamp.com/wp-content/uploads/2025/02/Frame-168-3.png
END:VEVENT
BEGIN:VEVENT
DTSTART;VALUE=DATE:20260120
DTEND;VALUE=DATE:20260121
DTSTAMP:20260419T185300
CREATED:20251126T174931Z
LAST-MODIFIED:20251126T174931Z
UID:10059644-1768867200-1768953599@autocamp.com
SUMMARY:Find the Fox Kid's Game
DESCRIPTION:Can you find the hidden Red Fox inside the Clubhouse? During their stay\, young explorers can search for the Red Fox stuffed animal hidden somewhere in the Clubhouse. Be sure to let a team member know when you find it\, and kiddos will receive a small surprise as their reward. And if you’d like to take your own Red Fox home with you\, we sell these little stuffed friends in our General Store. Good luck searching!
URL:https://autocamp.com/event/find-the-fox-kids-game-cape-cod/2026-01-20/
LOCATION:AutoCamp Cape Cod\, 836 Palmer Ave\, Falmouth\, MA\, 02540\, United States
CATEGORIES:AutoCamp Cape Cod
ATTACH;FMTTYPE=image/png:https://autocamp.com/wp-content/uploads/2025/11/Fox-Website.png
END:VEVENT
BEGIN:VEVENT
DTSTART;TZID=America/New_York:20260120T120000
DTEND;TZID=America/New_York:20260120T150000
DTSTAMP:20260419T185300
CREATED:20251126T163041Z
LAST-MODIFIED:20251126T171158Z
UID:10050114-1768910400-1768921200@autocamp.com
SUMMARY:Hot Cocoa Bar
DESCRIPTION:Head to the Clubhouse for a toasty drink\, and settle in by the indoor fire pit for a cozy evening. The complimentary hot cocoa is on us. Spike your cocoa with peppermint schnapps for $5.
URL:https://autocamp.com/event/hot-cocoa-bar-3/2026-01-20/
LOCATION:AutoCamp Cape Cod\, 836 Palmer Ave\, Falmouth\, MA\, 02540\, United States
CATEGORIES:AutoCamp Cape Cod
ATTACH;FMTTYPE=image/png:https://autocamp.com/wp-content/uploads/2025/02/Frame-168-3.png
END:VEVENT
BEGIN:VEVENT
DTSTART;VALUE=DATE:20260121
DTEND;VALUE=DATE:20260122
DTSTAMP:20260419T185300
CREATED:20251126T174931Z
LAST-MODIFIED:20251126T174931Z
UID:10059645-1768953600-1769039999@autocamp.com
SUMMARY:Find the Fox Kid's Game
DESCRIPTION:Can you find the hidden Red Fox inside the Clubhouse? During their stay\, young explorers can search for the Red Fox stuffed animal hidden somewhere in the Clubhouse. Be sure to let a team member know when you find it\, and kiddos will receive a small surprise as their reward. And if you’d like to take your own Red Fox home with you\, we sell these little stuffed friends in our General Store. Good luck searching!
URL:https://autocamp.com/event/find-the-fox-kids-game-cape-cod/2026-01-21/
LOCATION:AutoCamp Cape Cod\, 836 Palmer Ave\, Falmouth\, MA\, 02540\, United States
CATEGORIES:AutoCamp Cape Cod
ATTACH;FMTTYPE=image/png:https://autocamp.com/wp-content/uploads/2025/11/Fox-Website.png
END:VEVENT
BEGIN:VEVENT
DTSTART;TZID=America/New_York:20260121T120000
DTEND;TZID=America/New_York:20260121T150000
DTSTAMP:20260419T185300
CREATED:20251126T163041Z
LAST-MODIFIED:20251126T171158Z
UID:10050115-1768996800-1769007600@autocamp.com
SUMMARY:Hot Cocoa Bar
DESCRIPTION:Head to the Clubhouse for a toasty drink\, and settle in by the indoor fire pit for a cozy evening. The complimentary hot cocoa is on us. Spike your cocoa with peppermint schnapps for $5.
URL:https://autocamp.com/event/hot-cocoa-bar-3/2026-01-21/
LOCATION:AutoCamp Cape Cod\, 836 Palmer Ave\, Falmouth\, MA\, 02540\, United States
CATEGORIES:AutoCamp Cape Cod
ATTACH;FMTTYPE=image/png:https://autocamp.com/wp-content/uploads/2025/02/Frame-168-3.png
END:VEVENT
BEGIN:VEVENT
DTSTART;VALUE=DATE:20260122
DTEND;VALUE=DATE:20260123
DTSTAMP:20260419T185300
CREATED:20251126T174931Z
LAST-MODIFIED:20251126T174931Z
UID:10059646-1769040000-1769126399@autocamp.com
SUMMARY:Find the Fox Kid's Game
DESCRIPTION:Can you find the hidden Red Fox inside the Clubhouse? During their stay\, young explorers can search for the Red Fox stuffed animal hidden somewhere in the Clubhouse. Be sure to let a team member know when you find it\, and kiddos will receive a small surprise as their reward. And if you’d like to take your own Red Fox home with you\, we sell these little stuffed friends in our General Store. Good luck searching!
URL:https://autocamp.com/event/find-the-fox-kids-game-cape-cod/2026-01-22/
LOCATION:AutoCamp Cape Cod\, 836 Palmer Ave\, Falmouth\, MA\, 02540\, United States
CATEGORIES:AutoCamp Cape Cod
ATTACH;FMTTYPE=image/png:https://autocamp.com/wp-content/uploads/2025/11/Fox-Website.png
END:VEVENT
BEGIN:VEVENT
DTSTART;TZID=America/New_York:20260122T120000
DTEND;TZID=America/New_York:20260122T150000
DTSTAMP:20260419T185300
CREATED:20251126T163041Z
LAST-MODIFIED:20251126T171158Z
UID:10050116-1769083200-1769094000@autocamp.com
SUMMARY:Hot Cocoa Bar
DESCRIPTION:Head to the Clubhouse for a toasty drink\, and settle in by the indoor fire pit for a cozy evening. The complimentary hot cocoa is on us. Spike your cocoa with peppermint schnapps for $5.
URL:https://autocamp.com/event/hot-cocoa-bar-3/2026-01-22/
LOCATION:AutoCamp Cape Cod\, 836 Palmer Ave\, Falmouth\, MA\, 02540\, United States
CATEGORIES:AutoCamp Cape Cod
ATTACH;FMTTYPE=image/png:https://autocamp.com/wp-content/uploads/2025/02/Frame-168-3.png
END:VEVENT
BEGIN:VEVENT
DTSTART;VALUE=DATE:20260123
DTEND;VALUE=DATE:20260124
DTSTAMP:20260419T185300
CREATED:20251126T174931Z
LAST-MODIFIED:20251126T174931Z
UID:10059647-1769126400-1769212799@autocamp.com
SUMMARY:Find the Fox Kid's Game
DESCRIPTION:Can you find the hidden Red Fox inside the Clubhouse? During their stay\, young explorers can search for the Red Fox stuffed animal hidden somewhere in the Clubhouse. Be sure to let a team member know when you find it\, and kiddos will receive a small surprise as their reward. And if you’d like to take your own Red Fox home with you\, we sell these little stuffed friends in our General Store. Good luck searching!
URL:https://autocamp.com/event/find-the-fox-kids-game-cape-cod/2026-01-23/
LOCATION:AutoCamp Cape Cod\, 836 Palmer Ave\, Falmouth\, MA\, 02540\, United States
CATEGORIES:AutoCamp Cape Cod
ATTACH;FMTTYPE=image/png:https://autocamp.com/wp-content/uploads/2025/11/Fox-Website.png
END:VEVENT
BEGIN:VEVENT
DTSTART;TZID=America/New_York:20260123T090000
DTEND;TZID=America/New_York:20260123T110000
DTSTAMP:20260419T185300
CREATED:20260116T172357Z
LAST-MODIFIED:20260116T172357Z
UID:10049855-1769158800-1769166000@autocamp.com
SUMMARY:Kids Arts n' Crafts
DESCRIPTION:Join us in the Clubhouse for complimentary arts and crafts like rock decorating\, tracing sheets and finger painting while creating cherished memories with your family and friends. We will provide all of the needed arts supplies and materials\, and our team will assist you in creating a fun souvenir to remember your nature escape.
URL:https://autocamp.com/event/kids-winter-arts-n-crafts-cape-cod-2/2026-01-23/
LOCATION:AutoCamp Cape Cod\, 836 Palmer Ave\, Falmouth\, MA\, 02540\, United States
CATEGORIES:AutoCamp Cape Cod
ATTACH;FMTTYPE=image/jpeg:https://autocamp.com/wp-content/uploads/2025/02/mariah-hewines-pmUnPoZiov0-unsplash-scaled.jpg
END:VEVENT
BEGIN:VEVENT
DTSTART;TZID=America/New_York:20260123T120000
DTEND;TZID=America/New_York:20260123T150000
DTSTAMP:20260419T185300
CREATED:20251126T163041Z
LAST-MODIFIED:20251126T171158Z
UID:10050117-1769169600-1769180400@autocamp.com
SUMMARY:Hot Cocoa Bar
DESCRIPTION:Head to the Clubhouse for a toasty drink\, and settle in by the indoor fire pit for a cozy evening. The complimentary hot cocoa is on us. Spike your cocoa with peppermint schnapps for $5.
URL:https://autocamp.com/event/hot-cocoa-bar-3/2026-01-23/
LOCATION:AutoCamp Cape Cod\, 836 Palmer Ave\, Falmouth\, MA\, 02540\, United States
CATEGORIES:AutoCamp Cape Cod
ATTACH;FMTTYPE=image/png:https://autocamp.com/wp-content/uploads/2025/02/Frame-168-3.png
END:VEVENT
BEGIN:VEVENT
DTSTART;VALUE=DATE:20260124
DTEND;VALUE=DATE:20260125
DTSTAMP:20260419T185300
CREATED:20251126T174931Z
LAST-MODIFIED:20251126T174931Z
UID:10059648-1769212800-1769299199@autocamp.com
SUMMARY:Find the Fox Kid's Game
DESCRIPTION:Can you find the hidden Red Fox inside the Clubhouse? During their stay\, young explorers can search for the Red Fox stuffed animal hidden somewhere in the Clubhouse. Be sure to let a team member know when you find it\, and kiddos will receive a small surprise as their reward. And if you’d like to take your own Red Fox home with you\, we sell these little stuffed friends in our General Store. Good luck searching!
URL:https://autocamp.com/event/find-the-fox-kids-game-cape-cod/2026-01-24/
LOCATION:AutoCamp Cape Cod\, 836 Palmer Ave\, Falmouth\, MA\, 02540\, United States
CATEGORIES:AutoCamp Cape Cod
ATTACH;FMTTYPE=image/png:https://autocamp.com/wp-content/uploads/2025/11/Fox-Website.png
END:VEVENT
BEGIN:VEVENT
DTSTART;TZID=America/New_York:20260124T090000
DTEND;TZID=America/New_York:20260124T110000
DTSTAMP:20260419T185300
CREATED:20260116T172357Z
LAST-MODIFIED:20260116T172357Z
UID:10049856-1769245200-1769252400@autocamp.com
SUMMARY:Kids Arts n' Crafts
DESCRIPTION:Join us in the Clubhouse for complimentary arts and crafts like rock decorating\, tracing sheets and finger painting while creating cherished memories with your family and friends. We will provide all of the needed arts supplies and materials\, and our team will assist you in creating a fun souvenir to remember your nature escape.
URL:https://autocamp.com/event/kids-winter-arts-n-crafts-cape-cod-2/2026-01-24/
LOCATION:AutoCamp Cape Cod\, 836 Palmer Ave\, Falmouth\, MA\, 02540\, United States
CATEGORIES:AutoCamp Cape Cod
ATTACH;FMTTYPE=image/jpeg:https://autocamp.com/wp-content/uploads/2025/02/mariah-hewines-pmUnPoZiov0-unsplash-scaled.jpg
END:VEVENT
BEGIN:VEVENT
DTSTART;TZID=America/New_York:20260124T120000
DTEND;TZID=America/New_York:20260124T150000
DTSTAMP:20260419T185300
CREATED:20251126T163041Z
LAST-MODIFIED:20251126T171158Z
UID:10050118-1769256000-1769266800@autocamp.com
SUMMARY:Hot Cocoa Bar
DESCRIPTION:Head to the Clubhouse for a toasty drink\, and settle in by the indoor fire pit for a cozy evening. The complimentary hot cocoa is on us. Spike your cocoa with peppermint schnapps for $5.
URL:https://autocamp.com/event/hot-cocoa-bar-3/2026-01-24/
LOCATION:AutoCamp Cape Cod\, 836 Palmer Ave\, Falmouth\, MA\, 02540\, United States
CATEGORIES:AutoCamp Cape Cod
ATTACH;FMTTYPE=image/png:https://autocamp.com/wp-content/uploads/2025/02/Frame-168-3.png
END:VEVENT
BEGIN:VEVENT
DTSTART;VALUE=DATE:20260125
DTEND;VALUE=DATE:20260126
DTSTAMP:20260419T185300
CREATED:20251126T174931Z
LAST-MODIFIED:20251126T174931Z
UID:10059649-1769299200-1769385599@autocamp.com
SUMMARY:Find the Fox Kid's Game
DESCRIPTION:Can you find the hidden Red Fox inside the Clubhouse? During their stay\, young explorers can search for the Red Fox stuffed animal hidden somewhere in the Clubhouse. Be sure to let a team member know when you find it\, and kiddos will receive a small surprise as their reward. And if you’d like to take your own Red Fox home with you\, we sell these little stuffed friends in our General Store. Good luck searching!
URL:https://autocamp.com/event/find-the-fox-kids-game-cape-cod/2026-01-25/
LOCATION:AutoCamp Cape Cod\, 836 Palmer Ave\, Falmouth\, MA\, 02540\, United States
CATEGORIES:AutoCamp Cape Cod
ATTACH;FMTTYPE=image/png:https://autocamp.com/wp-content/uploads/2025/11/Fox-Website.png
END:VEVENT
BEGIN:VEVENT
DTSTART;TZID=America/New_York:20260125T120000
DTEND;TZID=America/New_York:20260125T150000
DTSTAMP:20260419T185300
CREATED:20251126T163041Z
LAST-MODIFIED:20251126T171158Z
UID:10050119-1769342400-1769353200@autocamp.com
SUMMARY:Hot Cocoa Bar
DESCRIPTION:Head to the Clubhouse for a toasty drink\, and settle in by the indoor fire pit for a cozy evening. The complimentary hot cocoa is on us. Spike your cocoa with peppermint schnapps for $5.
URL:https://autocamp.com/event/hot-cocoa-bar-3/2026-01-25/
LOCATION:AutoCamp Cape Cod\, 836 Palmer Ave\, Falmouth\, MA\, 02540\, United States
CATEGORIES:AutoCamp Cape Cod
ATTACH;FMTTYPE=image/png:https://autocamp.com/wp-content/uploads/2025/02/Frame-168-3.png
END:VEVENT
BEGIN:VEVENT
DTSTART;VALUE=DATE:20260126
DTEND;VALUE=DATE:20260127
DTSTAMP:20260419T185300
CREATED:20251126T174931Z
LAST-MODIFIED:20251126T174931Z
UID:10059650-1769385600-1769471999@autocamp.com
SUMMARY:Find the Fox Kid's Game
DESCRIPTION:Can you find the hidden Red Fox inside the Clubhouse? During their stay\, young explorers can search for the Red Fox stuffed animal hidden somewhere in the Clubhouse. Be sure to let a team member know when you find it\, and kiddos will receive a small surprise as their reward. And if you’d like to take your own Red Fox home with you\, we sell these little stuffed friends in our General Store. Good luck searching!
URL:https://autocamp.com/event/find-the-fox-kids-game-cape-cod/2026-01-26/
LOCATION:AutoCamp Cape Cod\, 836 Palmer Ave\, Falmouth\, MA\, 02540\, United States
CATEGORIES:AutoCamp Cape Cod
ATTACH;FMTTYPE=image/png:https://autocamp.com/wp-content/uploads/2025/11/Fox-Website.png
END:VEVENT
BEGIN:VEVENT
DTSTART;TZID=America/New_York:20260126T120000
DTEND;TZID=America/New_York:20260126T150000
DTSTAMP:20260419T185300
CREATED:20251126T163041Z
LAST-MODIFIED:20251126T171158Z
UID:10050120-1769428800-1769439600@autocamp.com
SUMMARY:Hot Cocoa Bar
DESCRIPTION:Head to the Clubhouse for a toasty drink\, and settle in by the indoor fire pit for a cozy evening. The complimentary hot cocoa is on us. Spike your cocoa with peppermint schnapps for $5.
URL:https://autocamp.com/event/hot-cocoa-bar-3/2026-01-26/
LOCATION:AutoCamp Cape Cod\, 836 Palmer Ave\, Falmouth\, MA\, 02540\, United States
CATEGORIES:AutoCamp Cape Cod
ATTACH;FMTTYPE=image/png:https://autocamp.com/wp-content/uploads/2025/02/Frame-168-3.png
END:VEVENT
BEGIN:VEVENT
DTSTART;VALUE=DATE:20260127
DTEND;VALUE=DATE:20260128
DTSTAMP:20260419T185300
CREATED:20251126T174931Z
LAST-MODIFIED:20251126T174931Z
UID:10059651-1769472000-1769558399@autocamp.com
SUMMARY:Find the Fox Kid's Game
DESCRIPTION:Can you find the hidden Red Fox inside the Clubhouse? During their stay\, young explorers can search for the Red Fox stuffed animal hidden somewhere in the Clubhouse. Be sure to let a team member know when you find it\, and kiddos will receive a small surprise as their reward. And if you’d like to take your own Red Fox home with you\, we sell these little stuffed friends in our General Store. Good luck searching!
URL:https://autocamp.com/event/find-the-fox-kids-game-cape-cod/2026-01-27/
LOCATION:AutoCamp Cape Cod\, 836 Palmer Ave\, Falmouth\, MA\, 02540\, United States
CATEGORIES:AutoCamp Cape Cod
ATTACH;FMTTYPE=image/png:https://autocamp.com/wp-content/uploads/2025/11/Fox-Website.png
END:VEVENT
END:VCALENDAR