BEGIN:VCALENDAR
VERSION:2.0
PRODID:-//AutoCamp - ECPv6.15.0.1//NONSGML v1.0//EN
CALSCALE:GREGORIAN
METHOD:PUBLISH
X-ORIGINAL-URL:https://autocamp.com
X-WR-CALDESC:Events for AutoCamp
REFRESH-INTERVAL;VALUE=DURATION:PT1H
X-Robots-Tag:noindex
X-PUBLISHED-TTL:PT1H
BEGIN:VTIMEZONE
TZID:America/Los_Angeles
BEGIN:DAYLIGHT
TZOFFSETFROM:-0800
TZOFFSETTO:-0700
TZNAME:PDT
DTSTART:20250309T100000
END:DAYLIGHT
BEGIN:STANDARD
TZOFFSETFROM:-0700
TZOFFSETTO:-0800
TZNAME:PST
DTSTART:20251102T090000
END:STANDARD
END:VTIMEZONE
BEGIN:VTIMEZONE
TZID:America/New_York
BEGIN:DAYLIGHT
TZOFFSETFROM:-0500
TZOFFSETTO:-0400
TZNAME:EDT
DTSTART:20250309T070000
END:DAYLIGHT
BEGIN:STANDARD
TZOFFSETFROM:-0400
TZOFFSETTO:-0500
TZNAME:EST
DTSTART:20251102T060000
END:STANDARD
END:VTIMEZONE
BEGIN:VEVENT
DTSTART;TZID=America/Los_Angeles:20251122T120000
DTEND;TZID=America/Los_Angeles:20251122T150000
DTSTAMP:20260424T002603
CREATED:20251003T145842Z
LAST-MODIFIED:20251006T191830Z
UID:10036472-1763812800-1763823600@autocamp.com
SUMMARY:Kids Autumn Arts n' Crafts
DESCRIPTION:Join us at the Clubhouse for complimentary autumn-themed arts and crafts like pumpkin painting and leaf creatures! Create cherished memories with your family and friends. \nWe will provide all of the needed arts supplies and materials\, and our team will assist you in creating your fun souvenir to remember your outdoor adventure by.
URL:https://autocamp.com/event/kids-autumn-arts-n-crafts-3/2025-11-22/
LOCATION:AutoCamp Cape Cod\, 836 Palmer Ave\, Falmouth\, MA\, 02540\, United States
CATEGORIES:AutoCamp Cape Cod
ATTACH;FMTTYPE=image/jpeg:https://autocamp.com/wp-content/uploads/2025/02/sigmund-OV44gxH71DU-unsplash-scaled.jpg
END:VEVENT
BEGIN:VEVENT
DTSTART;TZID=America/New_York:20251123T120000
DTEND;TZID=America/New_York:20251123T150000
DTSTAMP:20260424T002603
CREATED:20251003T004223Z
LAST-MODIFIED:20251006T192302Z
UID:10037660-1763899200-1763910000@autocamp.com
SUMMARY:Fall Hot Cider Bar
DESCRIPTION:Join us in the Clubhouse\, get cozy and celebrate this fall season with a complimentary hot cider bar – it’s on us. Spike your cider with Bourbon Whiskey for $5.
URL:https://autocamp.com/event/fall-hot-cider-bar-4/2025-11-23/
LOCATION:AutoCamp Cape Cod\, 836 Palmer Ave\, Falmouth\, MA\, 02540\, United States
CATEGORIES:AutoCamp Cape Cod
ATTACH;FMTTYPE=image/png:https://autocamp.com/wp-content/uploads/2025/09/Hot-CIder-Bar-2.png
END:VEVENT
BEGIN:VEVENT
DTSTART;TZID=America/New_York:20251124T120000
DTEND;TZID=America/New_York:20251124T150000
DTSTAMP:20260424T002603
CREATED:20251003T004223Z
LAST-MODIFIED:20251006T192302Z
UID:10037661-1763985600-1763996400@autocamp.com
SUMMARY:Fall Hot Cider Bar
DESCRIPTION:Join us in the Clubhouse\, get cozy and celebrate this fall season with a complimentary hot cider bar – it’s on us. Spike your cider with Bourbon Whiskey for $5.
URL:https://autocamp.com/event/fall-hot-cider-bar-4/2025-11-24/
LOCATION:AutoCamp Cape Cod\, 836 Palmer Ave\, Falmouth\, MA\, 02540\, United States
CATEGORIES:AutoCamp Cape Cod
ATTACH;FMTTYPE=image/png:https://autocamp.com/wp-content/uploads/2025/09/Hot-CIder-Bar-2.png
END:VEVENT
BEGIN:VEVENT
DTSTART;TZID=America/New_York:20251125T120000
DTEND;TZID=America/New_York:20251125T150000
DTSTAMP:20260424T002603
CREATED:20251003T004223Z
LAST-MODIFIED:20251006T192302Z
UID:10037662-1764072000-1764082800@autocamp.com
SUMMARY:Fall Hot Cider Bar
DESCRIPTION:Join us in the Clubhouse\, get cozy and celebrate this fall season with a complimentary hot cider bar – it’s on us. Spike your cider with Bourbon Whiskey for $5.
URL:https://autocamp.com/event/fall-hot-cider-bar-4/2025-11-25/
LOCATION:AutoCamp Cape Cod\, 836 Palmer Ave\, Falmouth\, MA\, 02540\, United States
CATEGORIES:AutoCamp Cape Cod
ATTACH;FMTTYPE=image/png:https://autocamp.com/wp-content/uploads/2025/09/Hot-CIder-Bar-2.png
END:VEVENT
BEGIN:VEVENT
DTSTART;TZID=America/New_York:20251126T120000
DTEND;TZID=America/New_York:20251126T150000
DTSTAMP:20260424T002603
CREATED:20251003T004223Z
LAST-MODIFIED:20251006T192302Z
UID:10037663-1764158400-1764169200@autocamp.com
SUMMARY:Fall Hot Cider Bar
DESCRIPTION:Join us in the Clubhouse\, get cozy and celebrate this fall season with a complimentary hot cider bar – it’s on us. Spike your cider with Bourbon Whiskey for $5.
URL:https://autocamp.com/event/fall-hot-cider-bar-4/2025-11-26/
LOCATION:AutoCamp Cape Cod\, 836 Palmer Ave\, Falmouth\, MA\, 02540\, United States
CATEGORIES:AutoCamp Cape Cod
ATTACH;FMTTYPE=image/png:https://autocamp.com/wp-content/uploads/2025/09/Hot-CIder-Bar-2.png
END:VEVENT
BEGIN:VEVENT
DTSTART;TZID=America/New_York:20251127T120000
DTEND;TZID=America/New_York:20251127T150000
DTSTAMP:20260424T002603
CREATED:20251003T004223Z
LAST-MODIFIED:20251006T192302Z
UID:10037664-1764244800-1764255600@autocamp.com
SUMMARY:Fall Hot Cider Bar
DESCRIPTION:Join us in the Clubhouse\, get cozy and celebrate this fall season with a complimentary hot cider bar – it’s on us. Spike your cider with Bourbon Whiskey for $5.
URL:https://autocamp.com/event/fall-hot-cider-bar-4/2025-11-27/
LOCATION:AutoCamp Cape Cod\, 836 Palmer Ave\, Falmouth\, MA\, 02540\, United States
CATEGORIES:AutoCamp Cape Cod
ATTACH;FMTTYPE=image/png:https://autocamp.com/wp-content/uploads/2025/09/Hot-CIder-Bar-2.png
END:VEVENT
BEGIN:VEVENT
DTSTART;TZID=America/New_York:20251128T120000
DTEND;TZID=America/New_York:20251128T150000
DTSTAMP:20260424T002603
CREATED:20251003T004223Z
LAST-MODIFIED:20251006T192302Z
UID:10037665-1764331200-1764342000@autocamp.com
SUMMARY:Fall Hot Cider Bar
DESCRIPTION:Join us in the Clubhouse\, get cozy and celebrate this fall season with a complimentary hot cider bar – it’s on us. Spike your cider with Bourbon Whiskey for $5.
URL:https://autocamp.com/event/fall-hot-cider-bar-4/2025-11-28/
LOCATION:AutoCamp Cape Cod\, 836 Palmer Ave\, Falmouth\, MA\, 02540\, United States
CATEGORIES:AutoCamp Cape Cod
ATTACH;FMTTYPE=image/png:https://autocamp.com/wp-content/uploads/2025/09/Hot-CIder-Bar-2.png
END:VEVENT
BEGIN:VEVENT
DTSTART;TZID=America/Los_Angeles:20251128T120000
DTEND;TZID=America/Los_Angeles:20251128T150000
DTSTAMP:20260424T002603
CREATED:20251003T145842Z
LAST-MODIFIED:20251006T191830Z
UID:10036473-1764331200-1764342000@autocamp.com
SUMMARY:Kids Autumn Arts n' Crafts
DESCRIPTION:Join us at the Clubhouse for complimentary autumn-themed arts and crafts like pumpkin painting and leaf creatures! Create cherished memories with your family and friends. \nWe will provide all of the needed arts supplies and materials\, and our team will assist you in creating your fun souvenir to remember your outdoor adventure by.
URL:https://autocamp.com/event/kids-autumn-arts-n-crafts-3/2025-11-28/
LOCATION:AutoCamp Cape Cod\, 836 Palmer Ave\, Falmouth\, MA\, 02540\, United States
CATEGORIES:AutoCamp Cape Cod
ATTACH;FMTTYPE=image/jpeg:https://autocamp.com/wp-content/uploads/2025/02/sigmund-OV44gxH71DU-unsplash-scaled.jpg
END:VEVENT
BEGIN:VEVENT
DTSTART;TZID=America/New_York:20251129T120000
DTEND;TZID=America/New_York:20251129T150000
DTSTAMP:20260424T002603
CREATED:20251003T004223Z
LAST-MODIFIED:20251006T192302Z
UID:10037666-1764417600-1764428400@autocamp.com
SUMMARY:Fall Hot Cider Bar
DESCRIPTION:Join us in the Clubhouse\, get cozy and celebrate this fall season with a complimentary hot cider bar – it’s on us. Spike your cider with Bourbon Whiskey for $5.
URL:https://autocamp.com/event/fall-hot-cider-bar-4/2025-11-29/
LOCATION:AutoCamp Cape Cod\, 836 Palmer Ave\, Falmouth\, MA\, 02540\, United States
CATEGORIES:AutoCamp Cape Cod
ATTACH;FMTTYPE=image/png:https://autocamp.com/wp-content/uploads/2025/09/Hot-CIder-Bar-2.png
END:VEVENT
BEGIN:VEVENT
DTSTART;TZID=America/Los_Angeles:20251129T120000
DTEND;TZID=America/Los_Angeles:20251129T150000
DTSTAMP:20260424T002603
CREATED:20251003T145842Z
LAST-MODIFIED:20251006T191830Z
UID:10036474-1764417600-1764428400@autocamp.com
SUMMARY:Kids Autumn Arts n' Crafts
DESCRIPTION:Join us at the Clubhouse for complimentary autumn-themed arts and crafts like pumpkin painting and leaf creatures! Create cherished memories with your family and friends. \nWe will provide all of the needed arts supplies and materials\, and our team will assist you in creating your fun souvenir to remember your outdoor adventure by.
URL:https://autocamp.com/event/kids-autumn-arts-n-crafts-3/2025-11-29/
LOCATION:AutoCamp Cape Cod\, 836 Palmer Ave\, Falmouth\, MA\, 02540\, United States
CATEGORIES:AutoCamp Cape Cod
ATTACH;FMTTYPE=image/jpeg:https://autocamp.com/wp-content/uploads/2025/02/sigmund-OV44gxH71DU-unsplash-scaled.jpg
END:VEVENT
BEGIN:VEVENT
DTSTART;TZID=America/New_York:20251130T120000
DTEND;TZID=America/New_York:20251130T150000
DTSTAMP:20260424T002603
CREATED:20251003T004223Z
LAST-MODIFIED:20251006T192302Z
UID:10037667-1764504000-1764514800@autocamp.com
SUMMARY:Fall Hot Cider Bar
DESCRIPTION:Join us in the Clubhouse\, get cozy and celebrate this fall season with a complimentary hot cider bar – it’s on us. Spike your cider with Bourbon Whiskey for $5.
URL:https://autocamp.com/event/fall-hot-cider-bar-4/2025-11-30/
LOCATION:AutoCamp Cape Cod\, 836 Palmer Ave\, Falmouth\, MA\, 02540\, United States
CATEGORIES:AutoCamp Cape Cod
ATTACH;FMTTYPE=image/png:https://autocamp.com/wp-content/uploads/2025/09/Hot-CIder-Bar-2.png
END:VEVENT
BEGIN:VEVENT
DTSTART;TZID=America/New_York:20251201T120000
DTEND;TZID=America/New_York:20251201T150000
DTSTAMP:20260424T002603
CREATED:20251126T163041Z
LAST-MODIFIED:20251126T171158Z
UID:10050064-1764590400-1764601200@autocamp.com
SUMMARY:Hot Cocoa Bar
DESCRIPTION:Head to the Clubhouse for a toasty drink\, and settle in by the indoor fire pit for a cozy evening. The complimentary hot cocoa is on us. Spike your cocoa with peppermint schnapps for $5.
URL:https://autocamp.com/event/hot-cocoa-bar-3/2025-12-01/
LOCATION:AutoCamp Cape Cod\, 836 Palmer Ave\, Falmouth\, MA\, 02540\, United States
CATEGORIES:AutoCamp Cape Cod
ATTACH;FMTTYPE=image/png:https://autocamp.com/wp-content/uploads/2025/02/Frame-168-3.png
END:VEVENT
BEGIN:VEVENT
DTSTART;TZID=America/New_York:20251202T120000
DTEND;TZID=America/New_York:20251202T150000
DTSTAMP:20260424T002603
CREATED:20251126T163041Z
LAST-MODIFIED:20251126T171158Z
UID:10050065-1764676800-1764687600@autocamp.com
SUMMARY:Hot Cocoa Bar
DESCRIPTION:Head to the Clubhouse for a toasty drink\, and settle in by the indoor fire pit for a cozy evening. The complimentary hot cocoa is on us. Spike your cocoa with peppermint schnapps for $5.
URL:https://autocamp.com/event/hot-cocoa-bar-3/2025-12-02/
LOCATION:AutoCamp Cape Cod\, 836 Palmer Ave\, Falmouth\, MA\, 02540\, United States
CATEGORIES:AutoCamp Cape Cod
ATTACH;FMTTYPE=image/png:https://autocamp.com/wp-content/uploads/2025/02/Frame-168-3.png
END:VEVENT
BEGIN:VEVENT
DTSTART;TZID=America/New_York:20251203T120000
DTEND;TZID=America/New_York:20251203T150000
DTSTAMP:20260424T002603
CREATED:20251126T163041Z
LAST-MODIFIED:20251126T171158Z
UID:10050066-1764763200-1764774000@autocamp.com
SUMMARY:Hot Cocoa Bar
DESCRIPTION:Head to the Clubhouse for a toasty drink\, and settle in by the indoor fire pit for a cozy evening. The complimentary hot cocoa is on us. Spike your cocoa with peppermint schnapps for $5.
URL:https://autocamp.com/event/hot-cocoa-bar-3/2025-12-03/
LOCATION:AutoCamp Cape Cod\, 836 Palmer Ave\, Falmouth\, MA\, 02540\, United States
CATEGORIES:AutoCamp Cape Cod
ATTACH;FMTTYPE=image/png:https://autocamp.com/wp-content/uploads/2025/02/Frame-168-3.png
END:VEVENT
BEGIN:VEVENT
DTSTART;TZID=America/New_York:20251204T120000
DTEND;TZID=America/New_York:20251204T150000
DTSTAMP:20260424T002603
CREATED:20251126T163041Z
LAST-MODIFIED:20251126T171158Z
UID:10050067-1764849600-1764860400@autocamp.com
SUMMARY:Hot Cocoa Bar
DESCRIPTION:Head to the Clubhouse for a toasty drink\, and settle in by the indoor fire pit for a cozy evening. The complimentary hot cocoa is on us. Spike your cocoa with peppermint schnapps for $5.
URL:https://autocamp.com/event/hot-cocoa-bar-3/2025-12-04/
LOCATION:AutoCamp Cape Cod\, 836 Palmer Ave\, Falmouth\, MA\, 02540\, United States
CATEGORIES:AutoCamp Cape Cod
ATTACH;FMTTYPE=image/png:https://autocamp.com/wp-content/uploads/2025/02/Frame-168-3.png
END:VEVENT
BEGIN:VEVENT
DTSTART;TZID=America/New_York:20251205T090000
DTEND;TZID=America/New_York:20251205T110000
DTSTAMP:20260424T002603
CREATED:20251126T165719Z
LAST-MODIFIED:20251126T170808Z
UID:10049841-1764925200-1764932400@autocamp.com
SUMMARY:Kids Winter Arts n' Crafts
DESCRIPTION:Join us in the Clubhouse for complimentary winter-themed arts and crafts like ornament decorating\, snowflake cutouts and finger painting while creating cherished memories with your family and friends. We will provide all of the needed arts supplies and materials\, and our team will assist you in creating your fun souvenir to remember your nature escape.
URL:https://autocamp.com/event/kids-winter-arts-n-crafts-cape-cod/2025-12-05/
LOCATION:AutoCamp Cape Cod\, 836 Palmer Ave\, Falmouth\, MA\, 02540\, United States
CATEGORIES:AutoCamp Cape Cod
ATTACH;FMTTYPE=image/jpeg:https://autocamp.com/wp-content/uploads/2025/02/mariah-hewines-pmUnPoZiov0-unsplash-scaled.jpg
END:VEVENT
BEGIN:VEVENT
DTSTART;TZID=America/New_York:20251205T120000
DTEND;TZID=America/New_York:20251205T150000
DTSTAMP:20260424T002603
CREATED:20251126T163041Z
LAST-MODIFIED:20251126T171158Z
UID:10050068-1764936000-1764946800@autocamp.com
SUMMARY:Hot Cocoa Bar
DESCRIPTION:Head to the Clubhouse for a toasty drink\, and settle in by the indoor fire pit for a cozy evening. The complimentary hot cocoa is on us. Spike your cocoa with peppermint schnapps for $5.
URL:https://autocamp.com/event/hot-cocoa-bar-3/2025-12-05/
LOCATION:AutoCamp Cape Cod\, 836 Palmer Ave\, Falmouth\, MA\, 02540\, United States
CATEGORIES:AutoCamp Cape Cod
ATTACH;FMTTYPE=image/png:https://autocamp.com/wp-content/uploads/2025/02/Frame-168-3.png
END:VEVENT
BEGIN:VEVENT
DTSTART;TZID=America/New_York:20251206T090000
DTEND;TZID=America/New_York:20251206T110000
DTSTAMP:20260424T002603
CREATED:20251126T165719Z
LAST-MODIFIED:20251126T170808Z
UID:10049842-1765011600-1765018800@autocamp.com
SUMMARY:Kids Winter Arts n' Crafts
DESCRIPTION:Join us in the Clubhouse for complimentary winter-themed arts and crafts like ornament decorating\, snowflake cutouts and finger painting while creating cherished memories with your family and friends. We will provide all of the needed arts supplies and materials\, and our team will assist you in creating your fun souvenir to remember your nature escape.
URL:https://autocamp.com/event/kids-winter-arts-n-crafts-cape-cod/2025-12-06/
LOCATION:AutoCamp Cape Cod\, 836 Palmer Ave\, Falmouth\, MA\, 02540\, United States
CATEGORIES:AutoCamp Cape Cod
ATTACH;FMTTYPE=image/jpeg:https://autocamp.com/wp-content/uploads/2025/02/mariah-hewines-pmUnPoZiov0-unsplash-scaled.jpg
END:VEVENT
BEGIN:VEVENT
DTSTART;TZID=America/New_York:20251206T120000
DTEND;TZID=America/New_York:20251206T150000
DTSTAMP:20260424T002603
CREATED:20251126T163041Z
LAST-MODIFIED:20251126T171158Z
UID:10050069-1765022400-1765033200@autocamp.com
SUMMARY:Hot Cocoa Bar
DESCRIPTION:Head to the Clubhouse for a toasty drink\, and settle in by the indoor fire pit for a cozy evening. The complimentary hot cocoa is on us. Spike your cocoa with peppermint schnapps for $5.
URL:https://autocamp.com/event/hot-cocoa-bar-3/2025-12-06/
LOCATION:AutoCamp Cape Cod\, 836 Palmer Ave\, Falmouth\, MA\, 02540\, United States
CATEGORIES:AutoCamp Cape Cod
ATTACH;FMTTYPE=image/png:https://autocamp.com/wp-content/uploads/2025/02/Frame-168-3.png
END:VEVENT
BEGIN:VEVENT
DTSTART;TZID=America/New_York:20251207T120000
DTEND;TZID=America/New_York:20251207T150000
DTSTAMP:20260424T002603
CREATED:20251126T163041Z
LAST-MODIFIED:20251126T171158Z
UID:10050070-1765108800-1765119600@autocamp.com
SUMMARY:Hot Cocoa Bar
DESCRIPTION:Head to the Clubhouse for a toasty drink\, and settle in by the indoor fire pit for a cozy evening. The complimentary hot cocoa is on us. Spike your cocoa with peppermint schnapps for $5.
URL:https://autocamp.com/event/hot-cocoa-bar-3/2025-12-07/
LOCATION:AutoCamp Cape Cod\, 836 Palmer Ave\, Falmouth\, MA\, 02540\, United States
CATEGORIES:AutoCamp Cape Cod
ATTACH;FMTTYPE=image/png:https://autocamp.com/wp-content/uploads/2025/02/Frame-168-3.png
END:VEVENT
BEGIN:VEVENT
DTSTART;TZID=America/New_York:20251208T120000
DTEND;TZID=America/New_York:20251208T150000
DTSTAMP:20260424T002603
CREATED:20251126T163041Z
LAST-MODIFIED:20251126T171158Z
UID:10050071-1765195200-1765206000@autocamp.com
SUMMARY:Hot Cocoa Bar
DESCRIPTION:Head to the Clubhouse for a toasty drink\, and settle in by the indoor fire pit for a cozy evening. The complimentary hot cocoa is on us. Spike your cocoa with peppermint schnapps for $5.
URL:https://autocamp.com/event/hot-cocoa-bar-3/2025-12-08/
LOCATION:AutoCamp Cape Cod\, 836 Palmer Ave\, Falmouth\, MA\, 02540\, United States
CATEGORIES:AutoCamp Cape Cod
ATTACH;FMTTYPE=image/png:https://autocamp.com/wp-content/uploads/2025/02/Frame-168-3.png
END:VEVENT
BEGIN:VEVENT
DTSTART;TZID=America/New_York:20251209T120000
DTEND;TZID=America/New_York:20251209T150000
DTSTAMP:20260424T002603
CREATED:20251126T163041Z
LAST-MODIFIED:20251126T171158Z
UID:10050072-1765281600-1765292400@autocamp.com
SUMMARY:Hot Cocoa Bar
DESCRIPTION:Head to the Clubhouse for a toasty drink\, and settle in by the indoor fire pit for a cozy evening. The complimentary hot cocoa is on us. Spike your cocoa with peppermint schnapps for $5.
URL:https://autocamp.com/event/hot-cocoa-bar-3/2025-12-09/
LOCATION:AutoCamp Cape Cod\, 836 Palmer Ave\, Falmouth\, MA\, 02540\, United States
CATEGORIES:AutoCamp Cape Cod
ATTACH;FMTTYPE=image/png:https://autocamp.com/wp-content/uploads/2025/02/Frame-168-3.png
END:VEVENT
BEGIN:VEVENT
DTSTART;VALUE=DATE:20251210
DTEND;VALUE=DATE:20251211
DTSTAMP:20260424T002603
CREATED:20251126T174931Z
LAST-MODIFIED:20251126T174931Z
UID:10059603-1765324800-1765411199@autocamp.com
SUMMARY:Find the Fox Kid's Game
DESCRIPTION:Can you find the hidden Red Fox inside the Clubhouse? During their stay\, young explorers can search for the Red Fox stuffed animal hidden somewhere in the Clubhouse. Be sure to let a team member know when you find it\, and kiddos will receive a small surprise as their reward. And if you’d like to take your own Red Fox home with you\, we sell these little stuffed friends in our General Store. Good luck searching!
URL:https://autocamp.com/event/find-the-fox-kids-game-cape-cod/2025-12-10/
LOCATION:AutoCamp Cape Cod\, 836 Palmer Ave\, Falmouth\, MA\, 02540\, United States
CATEGORIES:AutoCamp Cape Cod
ATTACH;FMTTYPE=image/png:https://autocamp.com/wp-content/uploads/2025/11/Fox-Website.png
END:VEVENT
BEGIN:VEVENT
DTSTART;TZID=America/New_York:20251210T120000
DTEND;TZID=America/New_York:20251210T150000
DTSTAMP:20260424T002603
CREATED:20251126T163041Z
LAST-MODIFIED:20251126T171158Z
UID:10050073-1765368000-1765378800@autocamp.com
SUMMARY:Hot Cocoa Bar
DESCRIPTION:Head to the Clubhouse for a toasty drink\, and settle in by the indoor fire pit for a cozy evening. The complimentary hot cocoa is on us. Spike your cocoa with peppermint schnapps for $5.
URL:https://autocamp.com/event/hot-cocoa-bar-3/2025-12-10/
LOCATION:AutoCamp Cape Cod\, 836 Palmer Ave\, Falmouth\, MA\, 02540\, United States
CATEGORIES:AutoCamp Cape Cod
ATTACH;FMTTYPE=image/png:https://autocamp.com/wp-content/uploads/2025/02/Frame-168-3.png
END:VEVENT
BEGIN:VEVENT
DTSTART;VALUE=DATE:20251211
DTEND;VALUE=DATE:20251212
DTSTAMP:20260424T002603
CREATED:20251126T174931Z
LAST-MODIFIED:20251126T174931Z
UID:10059604-1765411200-1765497599@autocamp.com
SUMMARY:Find the Fox Kid's Game
DESCRIPTION:Can you find the hidden Red Fox inside the Clubhouse? During their stay\, young explorers can search for the Red Fox stuffed animal hidden somewhere in the Clubhouse. Be sure to let a team member know when you find it\, and kiddos will receive a small surprise as their reward. And if you’d like to take your own Red Fox home with you\, we sell these little stuffed friends in our General Store. Good luck searching!
URL:https://autocamp.com/event/find-the-fox-kids-game-cape-cod/2025-12-11/
LOCATION:AutoCamp Cape Cod\, 836 Palmer Ave\, Falmouth\, MA\, 02540\, United States
CATEGORIES:AutoCamp Cape Cod
ATTACH;FMTTYPE=image/png:https://autocamp.com/wp-content/uploads/2025/11/Fox-Website.png
END:VEVENT
BEGIN:VEVENT
DTSTART;TZID=America/New_York:20251211T120000
DTEND;TZID=America/New_York:20251211T150000
DTSTAMP:20260424T002603
CREATED:20251126T163041Z
LAST-MODIFIED:20251126T171158Z
UID:10050074-1765454400-1765465200@autocamp.com
SUMMARY:Hot Cocoa Bar
DESCRIPTION:Head to the Clubhouse for a toasty drink\, and settle in by the indoor fire pit for a cozy evening. The complimentary hot cocoa is on us. Spike your cocoa with peppermint schnapps for $5.
URL:https://autocamp.com/event/hot-cocoa-bar-3/2025-12-11/
LOCATION:AutoCamp Cape Cod\, 836 Palmer Ave\, Falmouth\, MA\, 02540\, United States
CATEGORIES:AutoCamp Cape Cod
ATTACH;FMTTYPE=image/png:https://autocamp.com/wp-content/uploads/2025/02/Frame-168-3.png
END:VEVENT
BEGIN:VEVENT
DTSTART;VALUE=DATE:20251212
DTEND;VALUE=DATE:20251213
DTSTAMP:20260424T002603
CREATED:20251126T174931Z
LAST-MODIFIED:20251126T174931Z
UID:10059605-1765497600-1765583999@autocamp.com
SUMMARY:Find the Fox Kid's Game
DESCRIPTION:Can you find the hidden Red Fox inside the Clubhouse? During their stay\, young explorers can search for the Red Fox stuffed animal hidden somewhere in the Clubhouse. Be sure to let a team member know when you find it\, and kiddos will receive a small surprise as their reward. And if you’d like to take your own Red Fox home with you\, we sell these little stuffed friends in our General Store. Good luck searching!
URL:https://autocamp.com/event/find-the-fox-kids-game-cape-cod/2025-12-12/
LOCATION:AutoCamp Cape Cod\, 836 Palmer Ave\, Falmouth\, MA\, 02540\, United States
CATEGORIES:AutoCamp Cape Cod
ATTACH;FMTTYPE=image/png:https://autocamp.com/wp-content/uploads/2025/11/Fox-Website.png
END:VEVENT
BEGIN:VEVENT
DTSTART;TZID=America/New_York:20251212T090000
DTEND;TZID=America/New_York:20251212T110000
DTSTAMP:20260424T002603
CREATED:20251126T165719Z
LAST-MODIFIED:20251126T170808Z
UID:10049843-1765530000-1765537200@autocamp.com
SUMMARY:Kids Winter Arts n' Crafts
DESCRIPTION:Join us in the Clubhouse for complimentary winter-themed arts and crafts like ornament decorating\, snowflake cutouts and finger painting while creating cherished memories with your family and friends. We will provide all of the needed arts supplies and materials\, and our team will assist you in creating your fun souvenir to remember your nature escape.
URL:https://autocamp.com/event/kids-winter-arts-n-crafts-cape-cod/2025-12-12/
LOCATION:AutoCamp Cape Cod\, 836 Palmer Ave\, Falmouth\, MA\, 02540\, United States
CATEGORIES:AutoCamp Cape Cod
ATTACH;FMTTYPE=image/jpeg:https://autocamp.com/wp-content/uploads/2025/02/mariah-hewines-pmUnPoZiov0-unsplash-scaled.jpg
END:VEVENT
BEGIN:VEVENT
DTSTART;TZID=America/New_York:20251212T120000
DTEND;TZID=America/New_York:20251212T150000
DTSTAMP:20260424T002603
CREATED:20251126T163041Z
LAST-MODIFIED:20251126T171158Z
UID:10050075-1765540800-1765551600@autocamp.com
SUMMARY:Hot Cocoa Bar
DESCRIPTION:Head to the Clubhouse for a toasty drink\, and settle in by the indoor fire pit for a cozy evening. The complimentary hot cocoa is on us. Spike your cocoa with peppermint schnapps for $5.
URL:https://autocamp.com/event/hot-cocoa-bar-3/2025-12-12/
LOCATION:AutoCamp Cape Cod\, 836 Palmer Ave\, Falmouth\, MA\, 02540\, United States
CATEGORIES:AutoCamp Cape Cod
ATTACH;FMTTYPE=image/png:https://autocamp.com/wp-content/uploads/2025/02/Frame-168-3.png
END:VEVENT
BEGIN:VEVENT
DTSTART;VALUE=DATE:20251213
DTEND;VALUE=DATE:20251214
DTSTAMP:20260424T002603
CREATED:20251126T174931Z
LAST-MODIFIED:20251126T174931Z
UID:10059606-1765584000-1765670399@autocamp.com
SUMMARY:Find the Fox Kid's Game
DESCRIPTION:Can you find the hidden Red Fox inside the Clubhouse? During their stay\, young explorers can search for the Red Fox stuffed animal hidden somewhere in the Clubhouse. Be sure to let a team member know when you find it\, and kiddos will receive a small surprise as their reward. And if you’d like to take your own Red Fox home with you\, we sell these little stuffed friends in our General Store. Good luck searching!
URL:https://autocamp.com/event/find-the-fox-kids-game-cape-cod/2025-12-13/
LOCATION:AutoCamp Cape Cod\, 836 Palmer Ave\, Falmouth\, MA\, 02540\, United States
CATEGORIES:AutoCamp Cape Cod
ATTACH;FMTTYPE=image/png:https://autocamp.com/wp-content/uploads/2025/11/Fox-Website.png
END:VEVENT
END:VCALENDAR