BEGIN:VCALENDAR
VERSION:2.0
PRODID:-//AutoCamp - ECPv6.15.0.1//NONSGML v1.0//EN
CALSCALE:GREGORIAN
METHOD:PUBLISH
X-ORIGINAL-URL:https://autocamp.com
X-WR-CALDESC:Events for AutoCamp
REFRESH-INTERVAL;VALUE=DURATION:PT1H
X-Robots-Tag:noindex
X-PUBLISHED-TTL:PT1H
BEGIN:VTIMEZONE
TZID:America/New_York
BEGIN:DAYLIGHT
TZOFFSETFROM:-0500
TZOFFSETTO:-0400
TZNAME:EDT
DTSTART:20260308T070000
END:DAYLIGHT
BEGIN:STANDARD
TZOFFSETFROM:-0400
TZOFFSETTO:-0500
TZNAME:EST
DTSTART:20261101T060000
END:STANDARD
END:VTIMEZONE
BEGIN:VEVENT
DTSTART;TZID=America/New_York:20260226T160000
DTEND;TZID=America/New_York:20260226T180000
DTSTAMP:20260424T205145
CREATED:20260203T164627Z
LAST-MODIFIED:20260203T165425Z
UID:10078072-1772121600-1772128800@autocamp.com
SUMMARY:Hot Cocoa Bar
DESCRIPTION:Head to the Clubhouse for a toasty drink\, and settle in by the indoor fire pit for a cozy evening. The complimentary hot cocoa is on us.
URL:https://autocamp.com/event/hot-cocoa-bar-3-2/2026-02-26/
LOCATION:AutoCamp Cape Cod\, 836 Palmer Ave\, Falmouth\, MA\, 02540\, United States
CATEGORIES:AutoCamp Cape Cod
ATTACH;FMTTYPE=image/png:https://autocamp.com/wp-content/uploads/2025/02/Frame-168-3.png
END:VEVENT
BEGIN:VEVENT
DTSTART;VALUE=DATE:20260227
DTEND;VALUE=DATE:20260228
DTSTAMP:20260424T205145
CREATED:20251126T174931Z
LAST-MODIFIED:20251126T174931Z
UID:10059682-1772150400-1772236799@autocamp.com
SUMMARY:Find the Fox Kid's Game
DESCRIPTION:Can you find the hidden Red Fox inside the Clubhouse? During their stay\, young explorers can search for the Red Fox stuffed animal hidden somewhere in the Clubhouse. Be sure to let a team member know when you find it\, and kiddos will receive a small surprise as their reward. And if you’d like to take your own Red Fox home with you\, we sell these little stuffed friends in our General Store. Good luck searching!
URL:https://autocamp.com/event/find-the-fox-kids-game-cape-cod/2026-02-27/
LOCATION:AutoCamp Cape Cod\, 836 Palmer Ave\, Falmouth\, MA\, 02540\, United States
CATEGORIES:AutoCamp Cape Cod
ATTACH;FMTTYPE=image/png:https://autocamp.com/wp-content/uploads/2025/11/Fox-Website.png
END:VEVENT
BEGIN:VEVENT
DTSTART;TZID=America/New_York:20260227T120000
DTEND;TZID=America/New_York:20260228T150000
DTSTAMP:20260424T205145
CREATED:20260203T165345Z
LAST-MODIFIED:20260203T165345Z
UID:10078104-1772193600-1772290800@autocamp.com
SUMMARY:Hot Cocoa Bar
DESCRIPTION:Head to the Clubhouse for a toasty drink\, and settle in by the indoor fire pit for a cozy evening. The complimentary hot cocoa is on us.
URL:https://autocamp.com/event/hot-cocoa-bar-9/2026-02-27/
LOCATION:AutoCamp Cape Cod\, 836 Palmer Ave\, Falmouth\, MA\, 02540\, United States
CATEGORIES:AutoCamp Cape Cod
ATTACH;FMTTYPE=image/png:https://autocamp.com/wp-content/uploads/2025/02/Frame-168-3.png
END:VEVENT
BEGIN:VEVENT
DTSTART;VALUE=DATE:20260228
DTEND;VALUE=DATE:20260301
DTSTAMP:20260424T205145
CREATED:20251126T174931Z
LAST-MODIFIED:20251126T174931Z
UID:10059683-1772236800-1772323199@autocamp.com
SUMMARY:Find the Fox Kid's Game
DESCRIPTION:Can you find the hidden Red Fox inside the Clubhouse? During their stay\, young explorers can search for the Red Fox stuffed animal hidden somewhere in the Clubhouse. Be sure to let a team member know when you find it\, and kiddos will receive a small surprise as their reward. And if you’d like to take your own Red Fox home with you\, we sell these little stuffed friends in our General Store. Good luck searching!
URL:https://autocamp.com/event/find-the-fox-kids-game-cape-cod/2026-02-28/
LOCATION:AutoCamp Cape Cod\, 836 Palmer Ave\, Falmouth\, MA\, 02540\, United States
CATEGORIES:AutoCamp Cape Cod
ATTACH;FMTTYPE=image/png:https://autocamp.com/wp-content/uploads/2025/11/Fox-Website.png
END:VEVENT
BEGIN:VEVENT
DTSTART;TZID=America/New_York:20260228T120000
DTEND;TZID=America/New_York:20260228T150000
DTSTAMP:20260424T205145
CREATED:20260203T163028Z
LAST-MODIFIED:20260203T163029Z
UID:10078065-1772280000-1772290800@autocamp.com
SUMMARY:Kids Arts n' Crafts
DESCRIPTION:Join us in the Clubhouse for complimentary arts and crafts like rock decorating\, tracing sheets and finger painting while creating cherished memories with your family and friends. We will provide all of the needed arts supplies and materials\, and our team will assist you in creating a fun souvenir to remember your nature escape.
URL:https://autocamp.com/event/kids-winter-arts-n-crafts-cape-cod-2-2/2026-02-28/
LOCATION:AutoCamp Cape Cod\, 836 Palmer Ave\, Falmouth\, MA\, 02540\, United States
CATEGORIES:AutoCamp Cape Cod
ATTACH;FMTTYPE=image/jpeg:https://autocamp.com/wp-content/uploads/2025/02/mariah-hewines-pmUnPoZiov0-unsplash-scaled.jpg
END:VEVENT
BEGIN:VEVENT
DTSTART;VALUE=DATE:20260301
DTEND;VALUE=DATE:20260302
DTSTAMP:20260424T205145
CREATED:20251126T174931Z
LAST-MODIFIED:20251126T174931Z
UID:10059684-1772323200-1772409599@autocamp.com
SUMMARY:Find the Fox Kid's Game
DESCRIPTION:Can you find the hidden Red Fox inside the Clubhouse? During their stay\, young explorers can search for the Red Fox stuffed animal hidden somewhere in the Clubhouse. Be sure to let a team member know when you find it\, and kiddos will receive a small surprise as their reward. And if you’d like to take your own Red Fox home with you\, we sell these little stuffed friends in our General Store. Good luck searching!
URL:https://autocamp.com/event/find-the-fox-kids-game-cape-cod/2026-03-01/
LOCATION:AutoCamp Cape Cod\, 836 Palmer Ave\, Falmouth\, MA\, 02540\, United States
CATEGORIES:AutoCamp Cape Cod
ATTACH;FMTTYPE=image/png:https://autocamp.com/wp-content/uploads/2025/11/Fox-Website.png
END:VEVENT
BEGIN:VEVENT
DTSTART;TZID=America/New_York:20260301T080000
DTEND;TZID=America/New_York:20260301T090000
DTSTAMP:20260424T205145
CREATED:20260203T162801Z
LAST-MODIFIED:20260203T162902Z
UID:10077805-1772352000-1772355600@autocamp.com
SUMMARY:Morning Yoga
DESCRIPTION:Wake up and enjoy a complimentary yoga class or pilates hosted by our friends at innerglow yoga. The class will take place on the 2nd floor of the Clubhouse or on the lawn. A perfect combination of stretching and strengthening\, it’s the best way to start your day in Cape Cod! Yoga mats and blocks will be provided for guests. \nYoga is included in your stay as part of our AutoCamp amenity fee and sessions are exclusive to in-house guests!
URL:https://autocamp.com/event/morning-yoga-5/2026-03-01/
LOCATION:AutoCamp Cape Cod\, 836 Palmer Ave\, Falmouth\, MA\, 02540\, United States
CATEGORIES:AutoCamp Cape Cod
ATTACH;FMTTYPE=image/png:https://autocamp.com/wp-content/uploads/2025/01/Frame-157-1.png
END:VEVENT
BEGIN:VEVENT
DTSTART;VALUE=DATE:20260302
DTEND;VALUE=DATE:20260303
DTSTAMP:20260424T205145
CREATED:20251126T174931Z
LAST-MODIFIED:20251126T174931Z
UID:10059685-1772409600-1772495999@autocamp.com
SUMMARY:Find the Fox Kid's Game
DESCRIPTION:Can you find the hidden Red Fox inside the Clubhouse? During their stay\, young explorers can search for the Red Fox stuffed animal hidden somewhere in the Clubhouse. Be sure to let a team member know when you find it\, and kiddos will receive a small surprise as their reward. And if you’d like to take your own Red Fox home with you\, we sell these little stuffed friends in our General Store. Good luck searching!
URL:https://autocamp.com/event/find-the-fox-kids-game-cape-cod/2026-03-02/
LOCATION:AutoCamp Cape Cod\, 836 Palmer Ave\, Falmouth\, MA\, 02540\, United States
CATEGORIES:AutoCamp Cape Cod
ATTACH;FMTTYPE=image/png:https://autocamp.com/wp-content/uploads/2025/11/Fox-Website.png
END:VEVENT
BEGIN:VEVENT
DTSTART;VALUE=DATE:20260303
DTEND;VALUE=DATE:20260304
DTSTAMP:20260424T205145
CREATED:20251126T174931Z
LAST-MODIFIED:20251126T174931Z
UID:10059686-1772496000-1772582399@autocamp.com
SUMMARY:Find the Fox Kid's Game
DESCRIPTION:Can you find the hidden Red Fox inside the Clubhouse? During their stay\, young explorers can search for the Red Fox stuffed animal hidden somewhere in the Clubhouse. Be sure to let a team member know when you find it\, and kiddos will receive a small surprise as their reward. And if you’d like to take your own Red Fox home with you\, we sell these little stuffed friends in our General Store. Good luck searching!
URL:https://autocamp.com/event/find-the-fox-kids-game-cape-cod/2026-03-03/
LOCATION:AutoCamp Cape Cod\, 836 Palmer Ave\, Falmouth\, MA\, 02540\, United States
CATEGORIES:AutoCamp Cape Cod
ATTACH;FMTTYPE=image/png:https://autocamp.com/wp-content/uploads/2025/11/Fox-Website.png
END:VEVENT
BEGIN:VEVENT
DTSTART;VALUE=DATE:20260304
DTEND;VALUE=DATE:20260305
DTSTAMP:20260424T205145
CREATED:20251126T174931Z
LAST-MODIFIED:20251126T174931Z
UID:10059687-1772582400-1772668799@autocamp.com
SUMMARY:Find the Fox Kid's Game
DESCRIPTION:Can you find the hidden Red Fox inside the Clubhouse? During their stay\, young explorers can search for the Red Fox stuffed animal hidden somewhere in the Clubhouse. Be sure to let a team member know when you find it\, and kiddos will receive a small surprise as their reward. And if you’d like to take your own Red Fox home with you\, we sell these little stuffed friends in our General Store. Good luck searching!
URL:https://autocamp.com/event/find-the-fox-kids-game-cape-cod/2026-03-04/
LOCATION:AutoCamp Cape Cod\, 836 Palmer Ave\, Falmouth\, MA\, 02540\, United States
CATEGORIES:AutoCamp Cape Cod
ATTACH;FMTTYPE=image/png:https://autocamp.com/wp-content/uploads/2025/11/Fox-Website.png
END:VEVENT
BEGIN:VEVENT
DTSTART;VALUE=DATE:20260305
DTEND;VALUE=DATE:20260306
DTSTAMP:20260424T205145
CREATED:20251126T174931Z
LAST-MODIFIED:20251126T174931Z
UID:10059688-1772668800-1772755199@autocamp.com
SUMMARY:Find the Fox Kid's Game
DESCRIPTION:Can you find the hidden Red Fox inside the Clubhouse? During their stay\, young explorers can search for the Red Fox stuffed animal hidden somewhere in the Clubhouse. Be sure to let a team member know when you find it\, and kiddos will receive a small surprise as their reward. And if you’d like to take your own Red Fox home with you\, we sell these little stuffed friends in our General Store. Good luck searching!
URL:https://autocamp.com/event/find-the-fox-kids-game-cape-cod/2026-03-05/
LOCATION:AutoCamp Cape Cod\, 836 Palmer Ave\, Falmouth\, MA\, 02540\, United States
CATEGORIES:AutoCamp Cape Cod
ATTACH;FMTTYPE=image/png:https://autocamp.com/wp-content/uploads/2025/11/Fox-Website.png
END:VEVENT
BEGIN:VEVENT
DTSTART;TZID=America/New_York:20260305T160000
DTEND;TZID=America/New_York:20260305T180000
DTSTAMP:20260424T205145
CREATED:20260203T164627Z
LAST-MODIFIED:20260203T165425Z
UID:10078073-1772726400-1772733600@autocamp.com
SUMMARY:Hot Cocoa Bar
DESCRIPTION:Head to the Clubhouse for a toasty drink\, and settle in by the indoor fire pit for a cozy evening. The complimentary hot cocoa is on us.
URL:https://autocamp.com/event/hot-cocoa-bar-3-2/2026-03-05/
LOCATION:AutoCamp Cape Cod\, 836 Palmer Ave\, Falmouth\, MA\, 02540\, United States
CATEGORIES:AutoCamp Cape Cod
ATTACH;FMTTYPE=image/png:https://autocamp.com/wp-content/uploads/2025/02/Frame-168-3.png
END:VEVENT
BEGIN:VEVENT
DTSTART;VALUE=DATE:20260306
DTEND;VALUE=DATE:20260307
DTSTAMP:20260424T205145
CREATED:20251126T174931Z
LAST-MODIFIED:20251126T174931Z
UID:10059689-1772755200-1772841599@autocamp.com
SUMMARY:Find the Fox Kid's Game
DESCRIPTION:Can you find the hidden Red Fox inside the Clubhouse? During their stay\, young explorers can search for the Red Fox stuffed animal hidden somewhere in the Clubhouse. Be sure to let a team member know when you find it\, and kiddos will receive a small surprise as their reward. And if you’d like to take your own Red Fox home with you\, we sell these little stuffed friends in our General Store. Good luck searching!
URL:https://autocamp.com/event/find-the-fox-kids-game-cape-cod/2026-03-06/
LOCATION:AutoCamp Cape Cod\, 836 Palmer Ave\, Falmouth\, MA\, 02540\, United States
CATEGORIES:AutoCamp Cape Cod
ATTACH;FMTTYPE=image/png:https://autocamp.com/wp-content/uploads/2025/11/Fox-Website.png
END:VEVENT
BEGIN:VEVENT
DTSTART;TZID=America/New_York:20260306T120000
DTEND;TZID=America/New_York:20260307T150000
DTSTAMP:20260424T205145
CREATED:20260203T165345Z
LAST-MODIFIED:20260203T165345Z
UID:10078105-1772798400-1772895600@autocamp.com
SUMMARY:Hot Cocoa Bar
DESCRIPTION:Head to the Clubhouse for a toasty drink\, and settle in by the indoor fire pit for a cozy evening. The complimentary hot cocoa is on us.
URL:https://autocamp.com/event/hot-cocoa-bar-9/2026-03-06/
LOCATION:AutoCamp Cape Cod\, 836 Palmer Ave\, Falmouth\, MA\, 02540\, United States
CATEGORIES:AutoCamp Cape Cod
ATTACH;FMTTYPE=image/png:https://autocamp.com/wp-content/uploads/2025/02/Frame-168-3.png
END:VEVENT
BEGIN:VEVENT
DTSTART;VALUE=DATE:20260307
DTEND;VALUE=DATE:20260308
DTSTAMP:20260424T205145
CREATED:20251126T174931Z
LAST-MODIFIED:20251126T174931Z
UID:10059690-1772841600-1772927999@autocamp.com
SUMMARY:Find the Fox Kid's Game
DESCRIPTION:Can you find the hidden Red Fox inside the Clubhouse? During their stay\, young explorers can search for the Red Fox stuffed animal hidden somewhere in the Clubhouse. Be sure to let a team member know when you find it\, and kiddos will receive a small surprise as their reward. And if you’d like to take your own Red Fox home with you\, we sell these little stuffed friends in our General Store. Good luck searching!
URL:https://autocamp.com/event/find-the-fox-kids-game-cape-cod/2026-03-07/
LOCATION:AutoCamp Cape Cod\, 836 Palmer Ave\, Falmouth\, MA\, 02540\, United States
CATEGORIES:AutoCamp Cape Cod
ATTACH;FMTTYPE=image/png:https://autocamp.com/wp-content/uploads/2025/11/Fox-Website.png
END:VEVENT
BEGIN:VEVENT
DTSTART;TZID=America/New_York:20260307T120000
DTEND;TZID=America/New_York:20260307T150000
DTSTAMP:20260424T205145
CREATED:20260203T163028Z
LAST-MODIFIED:20260203T163029Z
UID:10078066-1772884800-1772895600@autocamp.com
SUMMARY:Kids Arts n' Crafts
DESCRIPTION:Join us in the Clubhouse for complimentary arts and crafts like rock decorating\, tracing sheets and finger painting while creating cherished memories with your family and friends. We will provide all of the needed arts supplies and materials\, and our team will assist you in creating a fun souvenir to remember your nature escape.
URL:https://autocamp.com/event/kids-winter-arts-n-crafts-cape-cod-2-2/2026-03-07/
LOCATION:AutoCamp Cape Cod\, 836 Palmer Ave\, Falmouth\, MA\, 02540\, United States
CATEGORIES:AutoCamp Cape Cod
ATTACH;FMTTYPE=image/jpeg:https://autocamp.com/wp-content/uploads/2025/02/mariah-hewines-pmUnPoZiov0-unsplash-scaled.jpg
END:VEVENT
BEGIN:VEVENT
DTSTART;VALUE=DATE:20260308
DTEND;VALUE=DATE:20260310
DTSTAMP:20260424T205145
CREATED:20251126T174931Z
LAST-MODIFIED:20251126T174931Z
UID:10059691-1772928000-1773017999@autocamp.com
SUMMARY:Find the Fox Kid's Game
DESCRIPTION:Can you find the hidden Red Fox inside the Clubhouse? During their stay\, young explorers can search for the Red Fox stuffed animal hidden somewhere in the Clubhouse. Be sure to let a team member know when you find it\, and kiddos will receive a small surprise as their reward. And if you’d like to take your own Red Fox home with you\, we sell these little stuffed friends in our General Store. Good luck searching!
URL:https://autocamp.com/event/find-the-fox-kids-game-cape-cod/2026-03-08/
LOCATION:AutoCamp Cape Cod\, 836 Palmer Ave\, Falmouth\, MA\, 02540\, United States
CATEGORIES:AutoCamp Cape Cod
ATTACH;FMTTYPE=image/png:https://autocamp.com/wp-content/uploads/2025/11/Fox-Website.png
END:VEVENT
BEGIN:VEVENT
DTSTART;TZID=America/New_York:20260308T080000
DTEND;TZID=America/New_York:20260308T090000
DTSTAMP:20260424T205145
CREATED:20260203T162801Z
LAST-MODIFIED:20260203T162902Z
UID:10077806-1772956800-1772960400@autocamp.com
SUMMARY:Morning Yoga
DESCRIPTION:Wake up and enjoy a complimentary yoga class or pilates hosted by our friends at innerglow yoga. The class will take place on the 2nd floor of the Clubhouse or on the lawn. A perfect combination of stretching and strengthening\, it’s the best way to start your day in Cape Cod! Yoga mats and blocks will be provided for guests. \nYoga is included in your stay as part of our AutoCamp amenity fee and sessions are exclusive to in-house guests!
URL:https://autocamp.com/event/morning-yoga-5/2026-03-08/
LOCATION:AutoCamp Cape Cod\, 836 Palmer Ave\, Falmouth\, MA\, 02540\, United States
CATEGORIES:AutoCamp Cape Cod
ATTACH;FMTTYPE=image/png:https://autocamp.com/wp-content/uploads/2025/01/Frame-157-1.png
END:VEVENT
BEGIN:VEVENT
DTSTART;VALUE=DATE:20260309
DTEND;VALUE=DATE:20260310
DTSTAMP:20260424T205145
CREATED:20251126T174931Z
LAST-MODIFIED:20251126T174931Z
UID:10059692-1773014400-1773100799@autocamp.com
SUMMARY:Find the Fox Kid's Game
DESCRIPTION:Can you find the hidden Red Fox inside the Clubhouse? During their stay\, young explorers can search for the Red Fox stuffed animal hidden somewhere in the Clubhouse. Be sure to let a team member know when you find it\, and kiddos will receive a small surprise as their reward. And if you’d like to take your own Red Fox home with you\, we sell these little stuffed friends in our General Store. Good luck searching!
URL:https://autocamp.com/event/find-the-fox-kids-game-cape-cod/2026-03-09/
LOCATION:AutoCamp Cape Cod\, 836 Palmer Ave\, Falmouth\, MA\, 02540\, United States
CATEGORIES:AutoCamp Cape Cod
ATTACH;FMTTYPE=image/png:https://autocamp.com/wp-content/uploads/2025/11/Fox-Website.png
END:VEVENT
BEGIN:VEVENT
DTSTART;VALUE=DATE:20260310
DTEND;VALUE=DATE:20260311
DTSTAMP:20260424T205145
CREATED:20251126T174931Z
LAST-MODIFIED:20251126T174931Z
UID:10059693-1773100800-1773187199@autocamp.com
SUMMARY:Find the Fox Kid's Game
DESCRIPTION:Can you find the hidden Red Fox inside the Clubhouse? During their stay\, young explorers can search for the Red Fox stuffed animal hidden somewhere in the Clubhouse. Be sure to let a team member know when you find it\, and kiddos will receive a small surprise as their reward. And if you’d like to take your own Red Fox home with you\, we sell these little stuffed friends in our General Store. Good luck searching!
URL:https://autocamp.com/event/find-the-fox-kids-game-cape-cod/2026-03-10/
LOCATION:AutoCamp Cape Cod\, 836 Palmer Ave\, Falmouth\, MA\, 02540\, United States
CATEGORIES:AutoCamp Cape Cod
ATTACH;FMTTYPE=image/png:https://autocamp.com/wp-content/uploads/2025/11/Fox-Website.png
END:VEVENT
BEGIN:VEVENT
DTSTART;VALUE=DATE:20260311
DTEND;VALUE=DATE:20260312
DTSTAMP:20260424T205145
CREATED:20251126T174931Z
LAST-MODIFIED:20251126T174931Z
UID:10059694-1773187200-1773273599@autocamp.com
SUMMARY:Find the Fox Kid's Game
DESCRIPTION:Can you find the hidden Red Fox inside the Clubhouse? During their stay\, young explorers can search for the Red Fox stuffed animal hidden somewhere in the Clubhouse. Be sure to let a team member know when you find it\, and kiddos will receive a small surprise as their reward. And if you’d like to take your own Red Fox home with you\, we sell these little stuffed friends in our General Store. Good luck searching!
URL:https://autocamp.com/event/find-the-fox-kids-game-cape-cod/2026-03-11/
LOCATION:AutoCamp Cape Cod\, 836 Palmer Ave\, Falmouth\, MA\, 02540\, United States
CATEGORIES:AutoCamp Cape Cod
ATTACH;FMTTYPE=image/png:https://autocamp.com/wp-content/uploads/2025/11/Fox-Website.png
END:VEVENT
BEGIN:VEVENT
DTSTART;VALUE=DATE:20260312
DTEND;VALUE=DATE:20260313
DTSTAMP:20260424T205145
CREATED:20251126T174931Z
LAST-MODIFIED:20251126T174931Z
UID:10059695-1773273600-1773359999@autocamp.com
SUMMARY:Find the Fox Kid's Game
DESCRIPTION:Can you find the hidden Red Fox inside the Clubhouse? During their stay\, young explorers can search for the Red Fox stuffed animal hidden somewhere in the Clubhouse. Be sure to let a team member know when you find it\, and kiddos will receive a small surprise as their reward. And if you’d like to take your own Red Fox home with you\, we sell these little stuffed friends in our General Store. Good luck searching!
URL:https://autocamp.com/event/find-the-fox-kids-game-cape-cod/2026-03-12/
LOCATION:AutoCamp Cape Cod\, 836 Palmer Ave\, Falmouth\, MA\, 02540\, United States
CATEGORIES:AutoCamp Cape Cod
ATTACH;FMTTYPE=image/png:https://autocamp.com/wp-content/uploads/2025/11/Fox-Website.png
END:VEVENT
BEGIN:VEVENT
DTSTART;TZID=America/New_York:20260312T160000
DTEND;TZID=America/New_York:20260312T180000
DTSTAMP:20260424T205145
CREATED:20260203T164627Z
LAST-MODIFIED:20260203T165425Z
UID:10078074-1773331200-1773338400@autocamp.com
SUMMARY:Hot Cocoa Bar
DESCRIPTION:Head to the Clubhouse for a toasty drink\, and settle in by the indoor fire pit for a cozy evening. The complimentary hot cocoa is on us.
URL:https://autocamp.com/event/hot-cocoa-bar-3-2/2026-03-12/
LOCATION:AutoCamp Cape Cod\, 836 Palmer Ave\, Falmouth\, MA\, 02540\, United States
CATEGORIES:AutoCamp Cape Cod
ATTACH;FMTTYPE=image/png:https://autocamp.com/wp-content/uploads/2025/02/Frame-168-3.png
END:VEVENT
BEGIN:VEVENT
DTSTART;VALUE=DATE:20260313
DTEND;VALUE=DATE:20260314
DTSTAMP:20260424T205145
CREATED:20251126T174931Z
LAST-MODIFIED:20251126T174931Z
UID:10059696-1773360000-1773446399@autocamp.com
SUMMARY:Find the Fox Kid's Game
DESCRIPTION:Can you find the hidden Red Fox inside the Clubhouse? During their stay\, young explorers can search for the Red Fox stuffed animal hidden somewhere in the Clubhouse. Be sure to let a team member know when you find it\, and kiddos will receive a small surprise as their reward. And if you’d like to take your own Red Fox home with you\, we sell these little stuffed friends in our General Store. Good luck searching!
URL:https://autocamp.com/event/find-the-fox-kids-game-cape-cod/2026-03-13/
LOCATION:AutoCamp Cape Cod\, 836 Palmer Ave\, Falmouth\, MA\, 02540\, United States
CATEGORIES:AutoCamp Cape Cod
ATTACH;FMTTYPE=image/png:https://autocamp.com/wp-content/uploads/2025/11/Fox-Website.png
END:VEVENT
BEGIN:VEVENT
DTSTART;TZID=America/New_York:20260313T120000
DTEND;TZID=America/New_York:20260314T150000
DTSTAMP:20260424T205145
CREATED:20260203T165345Z
LAST-MODIFIED:20260203T165345Z
UID:10078106-1773403200-1773500400@autocamp.com
SUMMARY:Hot Cocoa Bar
DESCRIPTION:Head to the Clubhouse for a toasty drink\, and settle in by the indoor fire pit for a cozy evening. The complimentary hot cocoa is on us.
URL:https://autocamp.com/event/hot-cocoa-bar-9/2026-03-13/
LOCATION:AutoCamp Cape Cod\, 836 Palmer Ave\, Falmouth\, MA\, 02540\, United States
CATEGORIES:AutoCamp Cape Cod
ATTACH;FMTTYPE=image/png:https://autocamp.com/wp-content/uploads/2025/02/Frame-168-3.png
END:VEVENT
BEGIN:VEVENT
DTSTART;VALUE=DATE:20260314
DTEND;VALUE=DATE:20260315
DTSTAMP:20260424T205145
CREATED:20251126T174931Z
LAST-MODIFIED:20251126T174931Z
UID:10059697-1773446400-1773532799@autocamp.com
SUMMARY:Find the Fox Kid's Game
DESCRIPTION:Can you find the hidden Red Fox inside the Clubhouse? During their stay\, young explorers can search for the Red Fox stuffed animal hidden somewhere in the Clubhouse. Be sure to let a team member know when you find it\, and kiddos will receive a small surprise as their reward. And if you’d like to take your own Red Fox home with you\, we sell these little stuffed friends in our General Store. Good luck searching!
URL:https://autocamp.com/event/find-the-fox-kids-game-cape-cod/2026-03-14/
LOCATION:AutoCamp Cape Cod\, 836 Palmer Ave\, Falmouth\, MA\, 02540\, United States
CATEGORIES:AutoCamp Cape Cod
ATTACH;FMTTYPE=image/png:https://autocamp.com/wp-content/uploads/2025/11/Fox-Website.png
END:VEVENT
BEGIN:VEVENT
DTSTART;TZID=America/New_York:20260314T120000
DTEND;TZID=America/New_York:20260314T150000
DTSTAMP:20260424T205145
CREATED:20260203T163028Z
LAST-MODIFIED:20260203T163029Z
UID:10078067-1773489600-1773500400@autocamp.com
SUMMARY:Kids Arts n' Crafts
DESCRIPTION:Join us in the Clubhouse for complimentary arts and crafts like rock decorating\, tracing sheets and finger painting while creating cherished memories with your family and friends. We will provide all of the needed arts supplies and materials\, and our team will assist you in creating a fun souvenir to remember your nature escape.
URL:https://autocamp.com/event/kids-winter-arts-n-crafts-cape-cod-2-2/2026-03-14/
LOCATION:AutoCamp Cape Cod\, 836 Palmer Ave\, Falmouth\, MA\, 02540\, United States
CATEGORIES:AutoCamp Cape Cod
ATTACH;FMTTYPE=image/jpeg:https://autocamp.com/wp-content/uploads/2025/02/mariah-hewines-pmUnPoZiov0-unsplash-scaled.jpg
END:VEVENT
BEGIN:VEVENT
DTSTART;VALUE=DATE:20260315
DTEND;VALUE=DATE:20260316
DTSTAMP:20260424T205145
CREATED:20251126T174931Z
LAST-MODIFIED:20251126T174931Z
UID:10059698-1773532800-1773619199@autocamp.com
SUMMARY:Find the Fox Kid's Game
DESCRIPTION:Can you find the hidden Red Fox inside the Clubhouse? During their stay\, young explorers can search for the Red Fox stuffed animal hidden somewhere in the Clubhouse. Be sure to let a team member know when you find it\, and kiddos will receive a small surprise as their reward. And if you’d like to take your own Red Fox home with you\, we sell these little stuffed friends in our General Store. Good luck searching!
URL:https://autocamp.com/event/find-the-fox-kids-game-cape-cod/2026-03-15/
LOCATION:AutoCamp Cape Cod\, 836 Palmer Ave\, Falmouth\, MA\, 02540\, United States
CATEGORIES:AutoCamp Cape Cod
ATTACH;FMTTYPE=image/png:https://autocamp.com/wp-content/uploads/2025/11/Fox-Website.png
END:VEVENT
BEGIN:VEVENT
DTSTART;TZID=America/New_York:20260315T080000
DTEND;TZID=America/New_York:20260315T090000
DTSTAMP:20260424T205145
CREATED:20260203T162801Z
LAST-MODIFIED:20260203T162902Z
UID:10077807-1773561600-1773565200@autocamp.com
SUMMARY:Morning Yoga
DESCRIPTION:Wake up and enjoy a complimentary yoga class or pilates hosted by our friends at innerglow yoga. The class will take place on the 2nd floor of the Clubhouse or on the lawn. A perfect combination of stretching and strengthening\, it’s the best way to start your day in Cape Cod! Yoga mats and blocks will be provided for guests. \nYoga is included in your stay as part of our AutoCamp amenity fee and sessions are exclusive to in-house guests!
URL:https://autocamp.com/event/morning-yoga-5/2026-03-15/
LOCATION:AutoCamp Cape Cod\, 836 Palmer Ave\, Falmouth\, MA\, 02540\, United States
CATEGORIES:AutoCamp Cape Cod
ATTACH;FMTTYPE=image/png:https://autocamp.com/wp-content/uploads/2025/01/Frame-157-1.png
END:VEVENT
BEGIN:VEVENT
DTSTART;VALUE=DATE:20260316
DTEND;VALUE=DATE:20260317
DTSTAMP:20260424T205145
CREATED:20251126T174931Z
LAST-MODIFIED:20251126T174931Z
UID:10059699-1773619200-1773705599@autocamp.com
SUMMARY:Find the Fox Kid's Game
DESCRIPTION:Can you find the hidden Red Fox inside the Clubhouse? During their stay\, young explorers can search for the Red Fox stuffed animal hidden somewhere in the Clubhouse. Be sure to let a team member know when you find it\, and kiddos will receive a small surprise as their reward. And if you’d like to take your own Red Fox home with you\, we sell these little stuffed friends in our General Store. Good luck searching!
URL:https://autocamp.com/event/find-the-fox-kids-game-cape-cod/2026-03-16/
LOCATION:AutoCamp Cape Cod\, 836 Palmer Ave\, Falmouth\, MA\, 02540\, United States
CATEGORIES:AutoCamp Cape Cod
ATTACH;FMTTYPE=image/png:https://autocamp.com/wp-content/uploads/2025/11/Fox-Website.png
END:VEVENT
END:VCALENDAR