BEGIN:VCALENDAR
VERSION:2.0
PRODID:-//AutoCamp - ECPv6.15.0.1//NONSGML v1.0//EN
CALSCALE:GREGORIAN
METHOD:PUBLISH
X-WR-CALNAME:AutoCamp
X-ORIGINAL-URL:https://autocamp.com
X-WR-CALDESC:Events for AutoCamp
REFRESH-INTERVAL;VALUE=DURATION:PT1H
X-Robots-Tag:noindex
X-PUBLISHED-TTL:PT1H
BEGIN:VTIMEZONE
TZID:America/Los_Angeles
BEGIN:DAYLIGHT
TZOFFSETFROM:-0800
TZOFFSETTO:-0700
TZNAME:PDT
DTSTART:20250309T100000
END:DAYLIGHT
BEGIN:STANDARD
TZOFFSETFROM:-0700
TZOFFSETTO:-0800
TZNAME:PST
DTSTART:20251102T090000
END:STANDARD
END:VTIMEZONE
BEGIN:VEVENT
DTSTART;VALUE=DATE:20250518
DTEND;VALUE=DATE:20250519
DTSTAMP:20260421T052141
CREATED:20250224T212507Z
LAST-MODIFIED:20251126T173645Z
UID:10015851-1747526400-1747612799@autocamp.com
SUMMARY:Find the Ram Kid's Game
DESCRIPTION:Can you find the hidden Utah Ram inside the Clubhouse? During their stay\, young explorers can search for the Utah Ram stuffed animal hidden somewhere in the Clubhouse. Be sure to let a team member know when you find it\, and kiddos will receive a small surprise as their reward. And if you’d like to take your own Utah Ram home with you\, we sell these little stuffed friends in our General Store. Good luck searching!
URL:https://autocamp.com/event/find-the-ram-kids-game/2025-05-18/
LOCATION:AutoCamp Zion\, 1322 East State Route #9\, Virgin\, UT\, 84779\, United States
CATEGORIES:AutoCamp Zion
ATTACH;FMTTYPE=image/png:https://autocamp.com/wp-content/uploads/2025/02/Utah-Ram-Website.png
END:VEVENT
BEGIN:VEVENT
DTSTART;TZID=America/Los_Angeles:20250518T080000
DTEND;TZID=America/Los_Angeles:20250518T090000
DTSTAMP:20260421T052141
CREATED:20250207T210301Z
LAST-MODIFIED:20250616T153508Z
UID:10008759-1747555200-1747558800@autocamp.com
SUMMARY:Morning Yoga
DESCRIPTION:Join our friends from Balanced Rock for a morning yoga session. In this hour of stretching\, a local instructor will guide you through gentle movement and breathing practices. All materials are provided\, and all skill levels are welcome. Meet at the 2nd floor Clubhouse.
URL:https://autocamp.com/event/morning-yoga-yosemite/2025-05-18/
LOCATION:AutoCamp Yosemite\, 6323 CA-140\, Midpines\, CA\, 95345\, United States
CATEGORIES:AutoCamp Yosemite
ATTACH;FMTTYPE=image/png:https://autocamp.com/wp-content/uploads/2025/02/Frame-168.png
END:VEVENT
BEGIN:VEVENT
DTSTART;TZID=America/Los_Angeles:20250518T080000
DTEND;TZID=America/Los_Angeles:20250518T090000
DTSTAMP:20260421T052141
CREATED:20250211T200243Z
LAST-MODIFIED:20250718T180110Z
UID:10011233-1747555200-1747558800@autocamp.com
SUMMARY:Morning Yoga
DESCRIPTION:Join us at 8am for an hour of Hatha yoga! There’s no better way to start the day than with some gentle\, slow stretches and mindful breathing. Our instructors will guide you through a rejuvenating flow\, helping to start your day off on the right foot. Mats and props will be provided.
URL:https://autocamp.com/event/morning-yoga-sonoma/2025-05-18/
LOCATION:AutoCamp Sonoma\, 14120 Old Cazadero Rd\, Guerneville\, CA\, 95446\, United States
CATEGORIES:AutoCamp Sonoma
ATTACH;FMTTYPE=image/png:https://autocamp.com/wp-content/uploads/2025/02/Frame-168-5.png
END:VEVENT
BEGIN:VEVENT
DTSTART;TZID=America/Los_Angeles:20250518T080000
DTEND;TZID=America/Los_Angeles:20250518T090000
DTSTAMP:20260421T052141
CREATED:20250212T002431Z
LAST-MODIFIED:20250212T002431Z
UID:10012538-1747555200-1747558800@autocamp.com
SUMMARY:Morning Yoga
DESCRIPTION:Wake up with us with restorative yoga. This class is taught by our local partners and designed for all levels. It’s the best way to start your day in beautiful Joshua Tree. Meet just outside the Clubhouse a few minutes before the start time. \nYoga mats and blocks will be provided. Wear comfortable athletic clothes and bring some water to stay hydrated.
URL:https://autocamp.com/event/morning-yoga-joshua-tree/2025-05-18/
LOCATION:AutoCamp Joshua Tree\, 62209 Verbena Road\, Joshua Tree\, CA\, 92252\, United States
CATEGORIES:AutoCamp Joshua Tree
ATTACH;FMTTYPE=image/png:https://autocamp.com/wp-content/uploads/2025/02/Frame-168-12.png
END:VEVENT
BEGIN:VEVENT
DTSTART;TZID=America/Los_Angeles:20250518T090000
DTEND;TZID=America/Los_Angeles:20250518T100000
DTSTAMP:20260421T052141
CREATED:20250304T191648Z
LAST-MODIFIED:20260212T222612Z
UID:10020542-1747558800-1747562400@autocamp.com
SUMMARY:Sunday Morning Yoga
DESCRIPTION:Start your day with slow\, gentle stretching in the Clubhouse. \nThis relaxed movement session focuses on simple stretches and calm moments\, offering a peaceful way to start your day. \nWelcoming for families\, beginners\, and kids. \nMats and props will be provided.
URL:https://autocamp.com/event/morning-yoga-2-2/2025-05-18/
LOCATION:AutoCamp Catskills\, 882 NY-212\, Saugerties\, NY\, 12477\, United States
CATEGORIES:AutoCamp Catskills
ATTACH;FMTTYPE=image/png:https://autocamp.com/wp-content/uploads/2025/01/Frame-157-5.png
END:VEVENT
BEGIN:VEVENT
DTSTART;TZID=America/Los_Angeles:20250518T171500
DTEND;TZID=America/Los_Angeles:20250518T193000
DTSTAMP:20260421T052141
CREATED:20250227T235013Z
LAST-MODIFIED:20250228T000409Z
UID:10010467-1747588500-1747596600@autocamp.com
SUMMARY:Stargazing
DESCRIPTION:Join us for a curated\, cosmic\, educational experience under the stars. Just after dusk join local astronomer Andy Skinner to view planets and constellations and learn how to identify them. This is a unique interactive experience. Grab your favorite beverage and snacks from our General Store\, and enjoy your journey to the cosmos. \nStargazing is dependent upon weather and visibility.  Time will vary\,  If it is canceled\, you will be notified in advance. \nPro tip: Grab a s’mores kit from the General Store and treat yourself after this night sky experience! See if you can continue to identify the constellations and planets as they move in the night sky.
URL:https://autocamp.com/event/stargazing-2/2025-05-18/
LOCATION:AutoCamp Yosemite\, 6323 CA-140\, Midpines\, CA\, 95345\, United States
CATEGORIES:AutoCamp Yosemite
ATTACH;FMTTYPE=image/png:https://autocamp.com/wp-content/uploads/2025/02/Frame-168-4.png
END:VEVENT
BEGIN:VEVENT
DTSTART;TZID=America/Los_Angeles:20250518T180000
DTEND;TZID=America/Los_Angeles:20250518T200000
DTSTAMP:20260421T052141
CREATED:20250304T191221Z
LAST-MODIFIED:20260304T192320Z
UID:10080068-1747591200-1747598400@autocamp.com
SUMMARY:ClubHouse Happy Hour
DESCRIPTION:Join us daily from 6pm to 8pm for half of draft beer and house wine as well as $9 signature cocktails.
URL:https://autocamp.com/event/clubhouse-happy-hour/2025-05-18/
LOCATION:AutoCamp Catskills\, 882 NY-212\, Saugerties\, NY\, 12477\, United States
CATEGORIES:AutoCamp Catskills
ATTACH;FMTTYPE=image/png:https://autocamp.com/wp-content/uploads/2025/01/Frame-157-8.png
END:VEVENT
END:VCALENDAR